BEGIN:VCALENDAR
VERSION:2.0
PRODID:-// - ECPv6.15.20//NONSGML v1.0//EN
CALSCALE:GREGORIAN
METHOD:PUBLISH
X-ORIGINAL-URL:https://events.excelsiorcitizen.com
X-WR-CALDESC:Events for 
REFRESH-INTERVAL;VALUE=DURATION:PT1H
X-Robots-Tag:noindex
X-PUBLISHED-TTL:PT1H
BEGIN:VTIMEZONE
TZID:America/Chicago
BEGIN:DAYLIGHT
TZOFFSETFROM:-0600
TZOFFSETTO:-0500
TZNAME:CDT
DTSTART:20220313T080000
END:DAYLIGHT
BEGIN:STANDARD
TZOFFSETFROM:-0500
TZOFFSETTO:-0600
TZNAME:CST
DTSTART:20221106T070000
END:STANDARD
BEGIN:DAYLIGHT
TZOFFSETFROM:-0600
TZOFFSETTO:-0500
TZNAME:CDT
DTSTART:20230312T080000
END:DAYLIGHT
BEGIN:STANDARD
TZOFFSETFROM:-0500
TZOFFSETTO:-0600
TZNAME:CST
DTSTART:20231105T070000
END:STANDARD
BEGIN:DAYLIGHT
TZOFFSETFROM:-0600
TZOFFSETTO:-0500
TZNAME:CDT
DTSTART:20240310T080000
END:DAYLIGHT
BEGIN:STANDARD
TZOFFSETFROM:-0500
TZOFFSETTO:-0600
TZNAME:CST
DTSTART:20241103T070000
END:STANDARD
END:VTIMEZONE
BEGIN:VEVENT
DTSTART;TZID=America/Chicago:20231117T183000
DTEND;TZID=America/Chicago:20231117T193000
DTSTAMP:20260421T203928
CREATED:20250131T045034Z
LAST-MODIFIED:20250131T045034Z
UID:10001326-1700245800-1700249400@events.excelsiorcitizen.com
SUMMARY:Turn Up Dance Fitness at Shamrock Hills Vineyard and Winery
DESCRIPTION:Join Dusty for Turn Up Dance at Shamrock Hills Vineyard and Winery! This is a FREE class for anyone! Stay after class and see what all Shamrock Hills has to offer.\nTurn Up Dance Fitness: A combination of HIIT (High Intensity Interval\, Strength\, & Dance! You will push limits and barriers Empower one another through fitness. Our playlist is mostly Hip Hop & Pop with some slower R&B. NO dance experience required! A fun way to challenge yourself\, break out of your comfort zone\, & turn all the way up. This is a 60 minute workout.
URL:https://events.excelsiorcitizen.com/event/turn-up-dance-fitness-at-shamrock-hills-vineyard-and-winery/
LOCATION:MO
END:VEVENT
BEGIN:VEVENT
DTSTART;TZID=America/Chicago:20231117T183000
DTEND;TZID=America/Chicago:20231117T193000
DTSTAMP:20260421T203928
CREATED:20250131T044904Z
LAST-MODIFIED:20250131T044904Z
UID:10001287-1700245800-1700249400@events.excelsiorcitizen.com
SUMMARY:Turn Up Dance with Dusty
DESCRIPTION:Join Dusty for Turn Up Dance at Shamrock Hills Vineyard and Winery! This is a FREE class for anyone! Stay after class and see what all Shamrock Hills has to offer. \nTurn Up Dance Fitness: A combination of HIIT (High Intensity Interval\, Strength\, & Dance!\nYou will push limits and barriers Empower one another through fitness. Our playlist is mostly Hip Hop & Pop with some slower R&B. NO dance experience required!\nA fun way to challenge yourself\, break out of your comfort zone\, & turn all the way up.\nThis is a 60 minute workout that starts at 6:30pm. Click here for more info!
URL:https://events.excelsiorcitizen.com/event/turn-up-dance-with-dusty/
LOCATION:MO
END:VEVENT
BEGIN:VEVENT
DTSTART;TZID=America/Chicago:20231117T190000
DTEND;TZID=America/Chicago:20231117T210000
DTSTAMP:20260421T203928
CREATED:20250131T045012Z
LAST-MODIFIED:20250131T045012Z
UID:10001319-1700247600-1700254800@events.excelsiorcitizen.com
SUMMARY:The Magic of Christmas Fashion Event
DESCRIPTION:The Magic of Christmas Fashion Event is a collaborative event presented to you by Style by Ry\, Pairings by VanTill and The Excelsior Springs Christmas Committee.\nThis event will be a fun way to kick off the Christmas season with some great food\, fashion and fundraising! \nCome and get a fabulous dinner and view the Christmas Wreaths for Auction and then a fashion show to follow at 7:00pm. \nThe fashion show will showcase an exclusive Christmas Collection from Style by Ry!
URL:https://events.excelsiorcitizen.com/event/the-magic-of-christmas-fashion-event/
LOCATION:MO
END:VEVENT
BEGIN:VEVENT
DTSTART;TZID=America/Chicago:20231117T213000
DTEND;TZID=America/Chicago:20231117T233000
DTSTAMP:20260421T203928
CREATED:20250131T045131Z
LAST-MODIFIED:20250131T045131Z
UID:10001355-1700256600-1700263800@events.excelsiorcitizen.com
SUMMARY:The Rocky Horror Show
DESCRIPTION:November 3\, 4\, 10\, 11\, 17\, 18Friday and Saturday Shows 9:30 pm\nThe story centers on a young engaged couple whose car breaks down in the rain near a castle\, where they seek a telephone to call for help. The castle or country home is occupied by strangers in elaborate costumes celebrating an annual convention. They discover the head of the house is Dr. Frank N. Furter\, an apparently mad scientist who actually is an alien transvestite from the planet Transsexual in the galaxy of Transylvania\, who creates a living muscle man named Rocky in his laboratory. \n• Please arrive 15 minutes prior to showtime\n• All sales are final\n• If you purchase single tickets\, but are coming as a group and want to sit together\, please call the theatre for arrangements at 816-637-3728.\nClick here to purchase tickets online.
URL:https://events.excelsiorcitizen.com/event/the-rocky-horror-show-2/
LOCATION:MO
END:VEVENT
BEGIN:VEVENT
DTSTART;VALUE=DATE:20231118
DTEND;VALUE=DATE:20231217
DTSTAMP:20260421T203928
CREATED:20250131T044823Z
LAST-MODIFIED:20250131T044823Z
UID:10001257-1700272800-1702691999@events.excelsiorcitizen.com
SUMMARY:Roberts Robinson Chevrolet GMC Annual Toy Drive
DESCRIPTION:Donations accepted Nov 18th – Dec 15th\nHelp us fill the truck! We are having our annual toy drive. Accepting new unopened toys for Meet the Need\, Inc. Donations can be dropped off in the Dealership Showroom. Questions? Call Kelly at (816) 630-3151.
URL:https://events.excelsiorcitizen.com/event/roberts-robinson-chevrolet-gmc-annual-toy-drive/
LOCATION:MO
END:VEVENT
BEGIN:VEVENT
DTSTART;TZID=America/Chicago:20231118T090000
DTEND;TZID=America/Chicago:20231118T170000
DTSTAMP:20260421T203928
CREATED:20250131T045339Z
LAST-MODIFIED:20250131T045339Z
UID:10001447-1700298000-1700326800@events.excelsiorcitizen.com
SUMMARY:Hitch Lot Vintage Experience
DESCRIPTION:Get Ready for some fabulous….We are headed your way Excelsior Springs\, Missouri.\nNovember 17 9am-7:30pm\nNovember 18 9am-5:00pm\nWe will be gathering inside Two absolutely beautiful shop spaces downtown. \, over 30\,000 sq. ft. of some of the most amazing treasure hunting you will be experiencing. some of your best in vintage local owned small business\, these souls will be bringing a bit of it all.. European\, Americana\, primitive\, rustic farmhouse\, Industrial\, Mid Modern\, Architectural salvage and more. Mark those calendars and don’t be missing..
URL:https://events.excelsiorcitizen.com/event/hitch-lot-vintage-experience/
LOCATION:MO
END:VEVENT
BEGIN:VEVENT
DTSTART;TZID=America/Chicago:20231118T093000
DTEND;TZID=America/Chicago:20231118T123000
DTSTAMP:20260421T203928
CREATED:20250131T045149Z
LAST-MODIFIED:20250131T045149Z
UID:10001369-1700299800-1700310600@events.excelsiorcitizen.com
SUMMARY:Downtown Holiday Open Houses
DESCRIPTION:While you’re enjoying all the Christmas Kick Off Celebration has to offer\, be sure to stop by our downtown businesses!\nHead to Downtown Excelsior Springs for one of the most wonderful times of the year! During the Holiday Open Houses you can get ahead of the hustle and bustle of December shopping and actually enjoy your experience. Stroll the streets of downtown\, discover treasures and eclectic specialty shops and boutiques to snag Christmas gifts that are original and unique.
URL:https://events.excelsiorcitizen.com/event/downtown-holiday-open-houses-2/
LOCATION:MO
END:VEVENT
BEGIN:VEVENT
DTSTART;TZID=America/Chicago:20231118T100000
DTEND;TZID=America/Chicago:20231118T170000
DTSTAMP:20260421T203928
CREATED:20250131T044902Z
LAST-MODIFIED:20250131T044902Z
UID:10001283-1700301600-1700326800@events.excelsiorcitizen.com
SUMMARY:Mistletoe Market
DESCRIPTION:Kick off the holiday season in Downtown Excelsior Springs! Knock out some of your holiday shopping while you browse booths of local artisans and vendors! Join us at the Montgomery Event Venue on Saturday\, November 18th from 10:00 AM to 5:00 PM.If you are interested in setting up a booth you can reserve your space at VisitExcelsior.com.
URL:https://events.excelsiorcitizen.com/event/mistletoe-market-2/
LOCATION:MO
END:VEVENT
BEGIN:VEVENT
DTSTART;TZID=America/Chicago:20231118T100000
DTEND;TZID=America/Chicago:20231118T220000
DTSTAMP:20260421T203928
CREATED:20250131T045145Z
LAST-MODIFIED:20250131T045145Z
UID:10001362-1700301600-1700344800@events.excelsiorcitizen.com
SUMMARY:Christmas Kick Off Celebration
DESCRIPTION:SAVE THE DATE for the Downtown Excelsior Springs Christmas Kick Off Celebration!\nOn November 18th Downtown Excelsior Springs will be THE PLACE to be for all your holiday needs. With so many things to do\, you better plan to make this an all-day trip. \nSATURDAY FESTIVITIES\n1. Mistletoe Market\n2. Downtown Holiday Open Houses\n3. Hall of Trees\n4. Elf Factory\n5. Mayor’s Lighting Ceremony\n6. Lighted ‘Luau’ Christmas Parade\n7. Lane of Lights
URL:https://events.excelsiorcitizen.com/event/christmas-kick-off-celebration/
LOCATION:MO
END:VEVENT
BEGIN:VEVENT
DTSTART;TZID=America/Chicago:20231118T100000
DTEND;TZID=America/Chicago:20231229T163000
DTSTAMP:20260421T203928
CREATED:20250131T045148Z
LAST-MODIFIED:20250131T045148Z
UID:10001366-1700301600-1703867400@events.excelsiorcitizen.com
SUMMARY:Hall Of Trees
DESCRIPTION:ATTENTION: The Hall of Trees is BACK for the 2023 Holiday Season. No\, this is not a drill.\nThis beloved tradition is a site to see. Various Excelsior Springs businesses\, civic groups\, and more will have decorated trees surrounding the Hall of Waters’ Water Bar. \nThis event is free to enjoy\, but if you would like to cast your vote to determine the best tree\, bring your spare change! \nDaily from 10am-4:30pm
URL:https://events.excelsiorcitizen.com/event/hall-of-trees-2/
LOCATION:MO
END:VEVENT
BEGIN:VEVENT
DTSTART;TZID=America/Chicago:20231118T103000
DTEND;TZID=America/Chicago:20231118T150000
DTSTAMP:20260421T203928
CREATED:20250131T045144Z
LAST-MODIFIED:20250131T045144Z
UID:10001361-1700303400-1700319600@events.excelsiorcitizen.com
SUMMARY:Elf Factory
DESCRIPTION:Calling all elves!Do you have kiddos that love to craft? Bring them down to the Elf Factory! \nFor four hours\, let your children (of all ages) get their holiday craft on! Participants choose crafts ranging in price from 50 cents to $7.00.
URL:https://events.excelsiorcitizen.com/event/elf-factory-2/
LOCATION:MO
END:VEVENT
BEGIN:VEVENT
DTSTART;TZID=America/Chicago:20231118T103000
DTEND;TZID=America/Chicago:20231118T170000
DTSTAMP:20260421T203928
CREATED:20250131T050819Z
LAST-MODIFIED:20250131T050819Z
UID:10001806-1700303400-1700326800@events.excelsiorcitizen.com
SUMMARY:Third Saturday Wine Tours
DESCRIPTION:Join us for an all-inclusive wine tour experience!Your wine tour features these four destinations:\nWILLOW SPRING MERCANTILE Your adventure begins in this unique Excelsior Springs downtown shop. Willow Spring Mercantile established by Jim and Daphne Bowman in 2005. Willow Spring boasts the state’s largest selection of Missouri wines\, craft beers\, and distilled spirits. Enjoy brunch paired with Missouri-made wines in their exquisite wine cellar bistro. Brunch includes made-from-scratch ham and vegetable quiche\, spinach salad with fresh berries\, and fresh fruit. A chocolate cappuccino brownie is served for dessert.\nCASA DI VITE will provide an “apertivo” style experience featuring an assortment of international wines. Antipasto platters to purchase. Monthly “Featured Destinations” will bring an additional unique variety of flavors for all to enjoy.\nWalnut Creek Vineyard & Winery Walnut Creek is a local winery dedicated to crafting premium vinifera and hybrid wines. In a true farm-to-table fashion\, their vines are family-and-friend grown on small farms throughout Missouri and Colorado. Every bottle of wine will be a culinary adventure brought to you by your local community.\nPairings By Van Till Located in Excelsior Springs\, Missouri\, Pairings by Van Till serves boards with a variety of Charcuterie choices\, cheese\, vegetables\, and desserts paired exclusively with wine from Van Till Family Farm Winery.\nClick here for ticket info!
URL:https://events.excelsiorcitizen.com/event/third-saturday-wine-tours-2/
LOCATION:MO
END:VEVENT
BEGIN:VEVENT
DTSTART;TZID=America/Chicago:20231118T153000
DTEND;TZID=America/Chicago:20231118T173000
DTSTAMP:20260421T203928
CREATED:20250131T044903Z
LAST-MODIFIED:20250131T044903Z
UID:10001286-1700321400-1700328600@events.excelsiorcitizen.com
SUMMARY:Live Music with Marshall Holles
DESCRIPTION:Join us for live music with Marshall Holles from 3:30pm-5:30pm.
URL:https://events.excelsiorcitizen.com/event/live-music-with-marshall-holles-7/
LOCATION:MO
END:VEVENT
BEGIN:VEVENT
DTSTART;TZID=America/Chicago:20231118T180000
DTEND;TZID=America/Chicago:20231118T200000
DTSTAMP:20260421T203928
CREATED:20250131T045139Z
LAST-MODIFIED:20250131T045139Z
UID:10001360-1700330400-1700337600@events.excelsiorcitizen.com
SUMMARY:Lighted Christmas Parade
DESCRIPTION:ALOHA! Are you ready for the GREATEST parade? The Annual Lighted Christmas Parade is coming soon to Downtown Excelsior Springs!\nThe parade kicks off following the Mayor’s Christmas Tree Lighting! \nPick a spot on Broadway or Thompson and enjoy the show! Parade begins at approximately 6:00 PM. \nRegistration for this year’s parade is live on www.VisitExcelsior.com.
URL:https://events.excelsiorcitizen.com/event/lighted-christmas-parade-2/
LOCATION:MO
END:VEVENT
BEGIN:VEVENT
DTSTART;TZID=America/Chicago:20231118T190000
DTEND;TZID=America/Chicago:20231118T220000
DTSTAMP:20260421T203928
CREATED:20250131T045040Z
LAST-MODIFIED:20250131T045040Z
UID:10001328-1700334000-1700344800@events.excelsiorcitizen.com
SUMMARY:Renaissance Festival Dance
DESCRIPTION:Thou Art Invited to a Renaissance Festival Dance!Saturday\, Nov. 18\n7-10 p.m.\n$10 per person\nDon your Renaissance Festival attire (or simply dress autumnally) for an Olde Fashioned Dance Party! Bring savory or sweet treats to dine upon\, and your finest beverages to sip.\nParty begins with a 30-minute group class at 7 p.m. sharp\, Join the revelry and we’ll see you on the dance floor!
URL:https://events.excelsiorcitizen.com/event/renaissance-festival-dance/
LOCATION:MO
END:VEVENT
BEGIN:VEVENT
DTSTART;TZID=America/Chicago:20231118T213000
DTEND;TZID=America/Chicago:20231118T233000
DTSTAMP:20260421T203928
CREATED:20250131T045131Z
LAST-MODIFIED:20250131T045131Z
UID:10001354-1700343000-1700350200@events.excelsiorcitizen.com
SUMMARY:The Rocky Horror Show
DESCRIPTION:November 3\, 4\, 10\, 11\, 17\, 18Friday and Saturday Shows 9:30 pm\nThe story centers on a young engaged couple whose car breaks down in the rain near a castle\, where they seek a telephone to call for help. The castle or country home is occupied by strangers in elaborate costumes celebrating an annual convention. They discover the head of the house is Dr. Frank N. Furter\, an apparently mad scientist who actually is an alien transvestite from the planet Transsexual in the galaxy of Transylvania\, who creates a living muscle man named Rocky in his laboratory. \n• Please arrive 15 minutes prior to showtime\n• All sales are final\n• If you purchase single tickets\, but are coming as a group and want to sit together\, please call the theatre for arrangements at 816-637-3728.\nClick here to purchase tickets online.
URL:https://events.excelsiorcitizen.com/event/the-rocky-horror-show/
LOCATION:MO
END:VEVENT
BEGIN:VEVENT
DTSTART;TZID=America/Chicago:20231119T140000
DTEND;TZID=America/Chicago:20231119T160000
DTSTAMP:20260421T203928
CREATED:20250131T044855Z
LAST-MODIFIED:20250131T044855Z
UID:10001282-1700402400-1700409600@events.excelsiorcitizen.com
SUMMARY:FREE Holiday Open House with The Grinch!
DESCRIPTION:ITS THE MOST WONDERFUL TIME OF YEAR!Come meet the grinch at our holiday open house!\nWe are open from 12-7 for sales and deals….\nGRINCH is from 2-4pm\nBring your kiddos or Fur babies for some great pictures and stay for the amazing shopping!!\nLots of Vendors will be having sales too!
URL:https://events.excelsiorcitizen.com/event/free-holiday-open-house-with-the-grinch/
LOCATION:MO
END:VEVENT
BEGIN:VEVENT
DTSTART;TZID=America/Chicago:20231121T150000
DTEND;TZID=America/Chicago:20231121T190000
DTSTAMP:20260421T203928
CREATED:20250131T045033Z
LAST-MODIFIED:20250131T045033Z
UID:10001323-1700578800-1700593200@events.excelsiorcitizen.com
SUMMARY:Holly Days
DESCRIPTION:The Excelsior Springs School District will be holding a “Holly Days” vendor market that will feature small businesses and organizations\, kids activities\, and Christmas shopping. Public shopping hours are from 3pm-7pm and there are kids activities from 3pm-6pm. There will be food trucks\, live music\, and a visit from Santa Claus!
URL:https://events.excelsiorcitizen.com/event/holly-days/
LOCATION:MO
END:VEVENT
BEGIN:VEVENT
DTSTART;TZID=America/Chicago:20231123T100000
DTEND;TZID=America/Chicago:20231123T140000
DTSTAMP:20260421T203928
CREATED:20250131T044915Z
LAST-MODIFIED:20250131T044915Z
UID:10001293-1700733600-1700748000@events.excelsiorcitizen.com
SUMMARY:Three Owls Thanksgiving Dinner
DESCRIPTION:Gather around the table for a Thanksgiving feast like no other at Three Owls Restaurant. Join us for a Thanksgiving Day Buffet on November 23rd from 10 a.m. – 2 p.m.! We’ll have something for everyone with delectable dishes such as 5-cheese mac ‘n’ cheese\, oven-roasted turkey with brown butter gravy\, sweet potato soufflé with toasted pecans and torched marshmallow\, plus a heavenly assortment of pies\, cakes\, and more.Sounds like a plan? Call 816-630-5500 to reserve! 
URL:https://events.excelsiorcitizen.com/event/three-owls-thanksgiving-dinner/
LOCATION:MO
END:VEVENT
BEGIN:VEVENT
DTSTART;TZID=America/Chicago:20231124T083000
DTEND;TZID=America/Chicago:20231124T093000
DTSTAMP:20260421T203928
CREATED:20250131T044916Z
LAST-MODIFIED:20250131T044916Z
UID:10001295-1700814600-1700818200@events.excelsiorcitizen.com
SUMMARY:Turkey Blaster
DESCRIPTION:Enjoy your thanksgiving meals and then workout with us on Friday\, November 24th at the Turkey Blaster! This is FREE for members and non-members.Enjoy samples from the Wellness Cafe and Door Prizes!\n8:30-8:50AM: Zumba with Pam and Theresa\n9:00-9:20AM: Vinyasa Yoga with Jenn\n9:30-9:50AM: Hi-Lo with Bridgette\n10:00-10:50AM: Water with Trish\nZumba: We take the “work” out of workout\, by mixing low-intensity and high-intensity moves for an interval-style\, calorie-burning dance fitness party. Super effective and super\nfun.\nVinyasa Yoga: Helps build and maintain strong bones\, muscles and connective tissue to maintain a high metabolism\, healthy posture and an active and alive body\nHi-Lo: This class combines high cardio moves that are low impact all to the beat of energetic music! A great aerobic workout\, but you get to control the intensity based on your\nfitness level. Light weights are optional to help shape and tone arms. Larger weights used intermittently.\nWater with Trish: Fun\, energetic\, active\, and fast paced water workout.
URL:https://events.excelsiorcitizen.com/event/turkey-blaster/
LOCATION:MO
END:VEVENT
BEGIN:VEVENT
DTSTART;TZID=America/Chicago:20231124T103000
DTEND;TZID=America/Chicago:20231124T170000
DTSTAMP:20260421T203928
CREATED:20250131T044825Z
LAST-MODIFIED:20250131T044825Z
UID:10001258-1700821800-1700845200@events.excelsiorcitizen.com
SUMMARY:Black Friday at Knit Ewe Together
DESCRIPTION:Black Friday deals throughout the store!Doodle Bar\, Doodle Decks\, new products & new sales merchandise
URL:https://events.excelsiorcitizen.com/event/black-friday-at-knit-ewe-together/
LOCATION:MO
END:VEVENT
BEGIN:VEVENT
DTSTART;TZID=America/Chicago:20231124T190000
DTEND;TZID=America/Chicago:20231124T220000
DTSTAMP:20260421T203928
CREATED:20250131T045039Z
LAST-MODIFIED:20250131T045039Z
UID:10001327-1700852400-1700863200@events.excelsiorcitizen.com
SUMMARY:Four Course Wine Dinner with Baltimore Bend Winery
DESCRIPTION:Join us for the annual Italian Dinner with Baltimore Bend Winery. A fantastic dinner accompanied with wine at each course. Meet the winemaking family behind this second generation winery. Now celebrating 20 years\, this family is humble about their business\, but shines through with their quality wines.
URL:https://events.excelsiorcitizen.com/event/four-course-wine-dinner-with-baltimore-bend-winery-2/
LOCATION:MO
END:VEVENT
BEGIN:VEVENT
DTSTART;TZID=America/Chicago:20231125T090000
DTEND;TZID=America/Chicago:20231125T170000
DTSTAMP:20260421T203928
CREATED:20250131T045154Z
LAST-MODIFIED:20250131T045154Z
UID:10001371-1700902800-1700931600@events.excelsiorcitizen.com
SUMMARY:Small Business Saturday
DESCRIPTION:Small Business Saturday is a nationwide movement to shop small and support locally owned businesses. Join us in Downtown Excelsior Springs on Saturday\, November 25 for a day of shopping\, giveaways and giving back to our community! Show Your Love and Shop Small in Downtown Excelsior Springs.\nHave you heard about our good friend DEPO? DEPO the Downtown Elf! DEPO is really into #ShoppingSmall\, especially in Downtown Excelsior Springs! He will be stopping by local shops leading up to Small Business Saturday to show you what some of the small business that make our community go round and round! \nMake sure to check in on DEPO each day! We hear he will be arriving November 1st! He can’t wait to #ShopSmall with all of you and even give away some prizes! \nWhen you #ShopSmall at one of the businesses you have seen DEPO supporting\, make sure to post your Small Business Saturday Selfie in the comment! All participants will be entered into a drawing to win Downtown Excelsior Springs Gift Cards!
URL:https://events.excelsiorcitizen.com/event/small-business-saturday-2/
LOCATION:MO
END:VEVENT
BEGIN:VEVENT
DTSTART;TZID=America/Chicago:20231125T103000
DTEND;TZID=America/Chicago:20231125T170000
DTSTAMP:20260421T203928
CREATED:20250131T044826Z
LAST-MODIFIED:20250131T044826Z
UID:10001261-1700908200-1700931600@events.excelsiorcitizen.com
SUMMARY:Small Business Saturday at Knit Ewe Together
DESCRIPTION:Small Business Saturday sales and specials throughout the store.
URL:https://events.excelsiorcitizen.com/event/small-business-saturday-at-knit-ewe-together/
LOCATION:MO
END:VEVENT
BEGIN:VEVENT
DTSTART;TZID=America/Chicago:20231125T120000
DTEND;TZID=America/Chicago:20231125T130000
DTSTAMP:20260421T203928
CREATED:20250131T044832Z
LAST-MODIFIED:20250131T044832Z
UID:10001266-1700913600-1700917200@events.excelsiorcitizen.com
SUMMARY:Small Business Saturday POP UP!
DESCRIPTION:Join Solana on Broadway for a pop up on Small Business Saturday!! We will have some lovely small business ladies in the store for some fun! Briar Rose will be here with a hat bar and Jessica Quesenberry with LIFT Gym will be here promoting her amazing all women’s gym. Come support 3 women owned small businesses on Saturday November 25th!
URL:https://events.excelsiorcitizen.com/event/small-business-saturday-pop-up/
LOCATION:MO
END:VEVENT
BEGIN:VEVENT
DTSTART;TZID=America/Chicago:20231125T130000
DTEND;TZID=America/Chicago:20231125T150000
DTSTAMP:20260421T203928
CREATED:20250131T044839Z
LAST-MODIFIED:20250131T044839Z
UID:10001271-1700917200-1700924400@events.excelsiorcitizen.com
SUMMARY:Deck the Trees at Casa Di Vite
DESCRIPTION:November 25th from 1 PM until 3 PM.\nExperience the joy of the season at our festive event: “Deck the Trees” at Casa Di Vite‘s outside patio. Bring your entire family\, including the little ones\, for delightful time\, decorating our enchanting Christmas trees. This special occasion promises to create lasting memories and offers a fun time for family and friends. \nWe’ll have the decorations for everyone to use! \n(If you have any decorations you would like to bring along\, we would love to share them with everyone for the event. )
URL:https://events.excelsiorcitizen.com/event/deck-the-trees-at-casa-di-vite/
LOCATION:MO
END:VEVENT
BEGIN:VEVENT
DTSTART;TZID=America/Chicago:20231125T160000
DTEND;TZID=America/Chicago:20231125T180000
DTSTAMP:20260421T203928
CREATED:20250131T044903Z
LAST-MODIFIED:20250131T044903Z
UID:10001285-1700928000-1700935200@events.excelsiorcitizen.com
SUMMARY:Live Music with Mike Murphy
DESCRIPTION:Join us for live music with Mike Murphy from 4:00pm-6:00pm.
URL:https://events.excelsiorcitizen.com/event/live-music-with-mike-murphy-2/
LOCATION:MO
END:VEVENT
BEGIN:VEVENT
DTSTART;TZID=America/Chicago:20231125T170000
DTEND;TZID=America/Chicago:20231125T200000
DTSTAMP:20260421T203928
CREATED:20250131T044826Z
LAST-MODIFIED:20250131T044826Z
UID:10001262-1700931600-1700942400@events.excelsiorcitizen.com
SUMMARY:Live Music with Jerry Hooper
DESCRIPTION:Live music with pianist Jerry Hooper at Pairings by Van Till!Jerry will be playing piano from 5pm-8pm!
URL:https://events.excelsiorcitizen.com/event/live-music-with-jerry-hooper-2/
LOCATION:MO
END:VEVENT
BEGIN:VEVENT
DTSTART;TZID=America/Chicago:20231126T111000
DTEND;TZID=America/Chicago:20231126T133000
DTSTAMP:20260421T203928
CREATED:20250131T044838Z
LAST-MODIFIED:20250131T044838Z
UID:10001268-1700997000-1701005400@events.excelsiorcitizen.com
SUMMARY:Photos with Santa for a Cause
DESCRIPTION:Join us on November 26th for photos with Santa. This event is a fundraiser to raise money for John’s service dog. All proceeds will go to John’s Merlin’s KIDS Service Dogs account. Help spread the word. \nBook your Santa Photo Session today using the link below \nTo make a donation outside of the Santa photo event\, or to learn more about John’s story\, visit the link below
URL:https://events.excelsiorcitizen.com/event/photos-with-santa-for-a-cause/
LOCATION:MO
END:VEVENT
BEGIN:VEVENT
DTSTART;TZID=America/Chicago:20231128T113000
DTEND;TZID=America/Chicago:20231128T120000
DTSTAMP:20260421T203928
CREATED:20250131T044959Z
LAST-MODIFIED:20250131T044959Z
UID:10001314-1701171000-1701172800@events.excelsiorcitizen.com
SUMMARY:Hospital Trivia with Tina
DESCRIPTION:And the FUN continues! This will be another round of interactive FUN learning all about our incredible community hospital and its stellar teams!
URL:https://events.excelsiorcitizen.com/event/hospital-trivia-with-tina-5/
LOCATION:MO
END:VEVENT
END:VCALENDAR