BEGIN:VCALENDAR
VERSION:2.0
PRODID:-// - ECPv6.15.20//NONSGML v1.0//EN
CALSCALE:GREGORIAN
METHOD:PUBLISH
X-ORIGINAL-URL:https://events.excelsiorcitizen.com
X-WR-CALDESC:Events for 
REFRESH-INTERVAL;VALUE=DURATION:PT1H
X-Robots-Tag:noindex
X-PUBLISHED-TTL:PT1H
BEGIN:VTIMEZONE
TZID:America/Chicago
BEGIN:DAYLIGHT
TZOFFSETFROM:-0600
TZOFFSETTO:-0500
TZNAME:CDT
DTSTART:20220313T080000
END:DAYLIGHT
BEGIN:STANDARD
TZOFFSETFROM:-0500
TZOFFSETTO:-0600
TZNAME:CST
DTSTART:20221106T070000
END:STANDARD
BEGIN:DAYLIGHT
TZOFFSETFROM:-0600
TZOFFSETTO:-0500
TZNAME:CDT
DTSTART:20230312T080000
END:DAYLIGHT
BEGIN:STANDARD
TZOFFSETFROM:-0500
TZOFFSETTO:-0600
TZNAME:CST
DTSTART:20231105T070000
END:STANDARD
BEGIN:DAYLIGHT
TZOFFSETFROM:-0600
TZOFFSETTO:-0500
TZNAME:CDT
DTSTART:20240310T080000
END:DAYLIGHT
BEGIN:STANDARD
TZOFFSETFROM:-0500
TZOFFSETTO:-0600
TZNAME:CST
DTSTART:20241103T070000
END:STANDARD
END:VTIMEZONE
BEGIN:VEVENT
DTSTART;TZID=America/Chicago:20231029T140000
DTEND;TZID=America/Chicago:20231029T170000
DTSTAMP:20260422T013804
CREATED:20250131T045232Z
LAST-MODIFIED:20250131T045232Z
UID:10001399-1698588000-1698598800@events.excelsiorcitizen.com
SUMMARY:Live Music with Noah Austin
DESCRIPTION:Join us for live music from Noah Austin from 2:00pm-5:00pm.
URL:https://events.excelsiorcitizen.com/event/live-music-with-noah-austin-2/
END:VEVENT
BEGIN:VEVENT
DTSTART;TZID=America/Chicago:20231029T150000
DTEND;TZID=America/Chicago:20231029T170000
DTSTAMP:20260422T013804
CREATED:20250131T045126Z
LAST-MODIFIED:20250131T045126Z
UID:10001348-1698591600-1698598800@events.excelsiorcitizen.com
SUMMARY:First United Methodist Church Trunk or Treat
DESCRIPTION:Join First United Methodist Church of Excelsior Springs for a free\, family friendly event hosted by the church and Treehouse Preschool. From 3-5pm at 1650 Rainbow Blvd.
URL:https://events.excelsiorcitizen.com/event/first-united-methodist-church-trunk-or-treat/
END:VEVENT
BEGIN:VEVENT
DTSTART;TZID=America/Chicago:20231031T160000
DTEND;TZID=America/Chicago:20231031T180000
DTSTAMP:20260422T013804
CREATED:20250131T045145Z
LAST-MODIFIED:20250131T045145Z
UID:10001363-1698768000-1698775200@events.excelsiorcitizen.com
SUMMARY:Downtown Trick or Treating
DESCRIPTION:Be sure to make Downtown Excelsior Springs a stop on your Trick or Treating adventure this Halloween!\nOur eateries\, drinkeries\, shops\, boutiques and galleries can’t wait to see all the great costumes and hand out candy. \nEnjoy trick or treating at participating businesses from 4:00 to 6:00 PM in Downtown Excelsior Springs! \nAll are invited to the Bill Payne Costume Contest promptly at 6:00 p.m. at the Clay Ray Veterans Hall located at 208 Veterans Memorial Drive (weather permitting). Hotdogs and soda will be available. \nThis tradition was begun by one of Excelsior Springs’ most beloved police chiefs\, Bill Payne. He found a way to make Halloween safe and enjoyable for kids of all ages\, keeping everyone busy so there was no time for “Tricks”! This year marks the 97th annual Bill Payne Costume Contest\, a beloved tradition in our community!
URL:https://events.excelsiorcitizen.com/event/downtown-trick-or-treating-2/
END:VEVENT
BEGIN:VEVENT
DTSTART;TZID=America/Chicago:20231031T160000
DTEND;TZID=America/Chicago:20231031T190000
DTSTAMP:20260422T013804
CREATED:20250131T045034Z
LAST-MODIFIED:20250131T045034Z
UID:10001325-1698768000-1698778800@events.excelsiorcitizen.com
SUMMARY:Trunk or Treat at Wood Heights Police Department
DESCRIPTION:**Trunk or Treat rescheduled due to rain delay to Halloween night. Sorry for the horror-ible news.**\nThe City of Wood Heights is hosting a Trunk or Treat at City Hall on October 28th from 4-7pm. The Wood Heights Fire Protection District – New will also be in attendance! \nHope to see you there!
URL:https://events.excelsiorcitizen.com/event/trunk-or-treat-at-wood-heights-police-department/
END:VEVENT
BEGIN:VEVENT
DTSTART;TZID=America/Chicago:20231031T163000
DTEND;TZID=America/Chicago:20231031T193000
DTSTAMP:20260422T013804
CREATED:20250131T045032Z
LAST-MODIFIED:20250131T045032Z
UID:10001322-1698769800-1698780600@events.excelsiorcitizen.com
SUMMARY:Colony Plaza Trick or Treating
DESCRIPTION:Colony Plaza will hand out candy for children trick or treating from 4:30pm-7:3opm or until candy is gone!
URL:https://events.excelsiorcitizen.com/event/colony-plaza-trick-or-treating/
END:VEVENT
BEGIN:VEVENT
DTSTART;TZID=America/Chicago:20231031T170000
DTEND;TZID=America/Chicago:20231031T180000
DTSTAMP:20260422T013804
CREATED:20250131T045148Z
LAST-MODIFIED:20250131T045148Z
UID:10001367-1698771600-1698775200@events.excelsiorcitizen.com
SUMMARY:Halloween Pop-Up Classes
DESCRIPTION:Get fit and have fun this Halloween with our Halloween pop-up classes! We have two exciting classes lined up for you:\nPower Burn with Yolanda (5:00 PM): Get ready to torch those calories with Yolanda’s high-energy workout. Dress up in your favorite Halloween gear and let’s power through this fitness session! \nZumba with Theresa (6:00 PM): Dance to the rhythm and move to the groove with Theresa’s Zumba class. This is a great way to celebrate Halloween while having a blast on the dance floor. \nDon’t miss out on this opportunity to have a fang-tastic time! Feel free to invite your friends and family; all are welcome. See you there! \nAll classes in the Group-X room.\nFREE for members and non-members!\nCostumes encouraged!\nALL REGULAR CLASSES ARE CANCELLED.\nClick here to register
URL:https://events.excelsiorcitizen.com/event/halloween-pop-up-classes/
END:VEVENT
BEGIN:VEVENT
DTSTART;TZID=America/Chicago:20231031T180000
DTEND;TZID=America/Chicago:20231031T200000
DTSTAMP:20260422T013804
CREATED:20250131T045125Z
LAST-MODIFIED:20250131T045125Z
UID:10001346-1698775200-1698782400@events.excelsiorcitizen.com
SUMMARY:Wood Heights Fire Department Trick or Treat
DESCRIPTION:Wood Heights Fire Department Trick or Treat at Wood Heights Fire\, 5998 MO-10\, starting at 6:30pm
URL:https://events.excelsiorcitizen.com/event/wood-heights-fire-department-trick-or-treat/
END:VEVENT
BEGIN:VEVENT
DTSTART;TZID=America/Chicago:20231031T180000
DTEND;TZID=America/Chicago:20231031T200000
DTSTAMP:20260422T013804
CREATED:20250131T045125Z
LAST-MODIFIED:20250131T045125Z
UID:10001347-1698775200-1698782400@events.excelsiorcitizen.com
SUMMARY:97th Annual Bill Payne’s Halloween Party
DESCRIPTION:97th Annual Bill Payne’s Halloween Party starting at 6pm.Free Admission\, Photo Ops\, Family Fun for everyone
URL:https://events.excelsiorcitizen.com/event/97th-annual-bill-paynes-halloween-party/
END:VEVENT
BEGIN:VEVENT
DTSTART;TZID=America/Chicago:20231031T180000
DTEND;TZID=America/Chicago:20231031T220000
DTSTAMP:20260422T013804
CREATED:20250131T045115Z
LAST-MODIFIED:20250131T045115Z
UID:10001341-1698775200-1698789600@events.excelsiorcitizen.com
SUMMARY:Boos and Boozes at The Tavern
DESCRIPTION:Join The Elms Hotel & Spa on Halloween for some Boos and Booze at The Tavern from 6pm-11pm\, with live music from 7pm-10pm. There will be a costume contest!
URL:https://events.excelsiorcitizen.com/event/boos-and-boozes-at-the-tavern/
END:VEVENT
BEGIN:VEVENT
DTSTART;TZID=America/Chicago:20231031T180000
DTEND;TZID=America/Chicago:20231031T230000
DTSTAMP:20260422T013804
CREATED:20250131T045013Z
LAST-MODIFIED:20250131T045013Z
UID:10001321-1698775200-1698793200@events.excelsiorcitizen.com
SUMMARY:Boos and Boozes at the Tavern of Terror
DESCRIPTION:Join The Elms Hotel & Spa for a Boos and Boozes at the Tavern of Terror on Halloween Night from 6pm-11pm\, with live music from 7pm-10pm. There will be a Costume Contest with tricks and treats!
URL:https://events.excelsiorcitizen.com/event/boos-and-boozes-at-the-tavern-of-terror/
END:VEVENT
BEGIN:VEVENT
DTSTART;TZID=America/Chicago:20231101T193000
DTEND;TZID=America/Chicago:20231101T233000
DTSTAMP:20260422T013804
CREATED:20250131T045012Z
LAST-MODIFIED:20250131T045012Z
UID:10001320-1698867000-1698881400@events.excelsiorcitizen.com
SUMMARY:Open Mic Night at The Atlas Saloon
DESCRIPTION:Wednesdays are Open Mic Night downtown at The Atlas Saloon from 7:30pm-11:30pm\, 100 W Broadway. Hosted by B Howard Crist!
URL:https://events.excelsiorcitizen.com/event/open-mic-night-at-the-atlas-saloon-3/
END:VEVENT
BEGIN:VEVENT
DTSTART;TZID=America/Chicago:20231102T180000
DTEND;TZID=America/Chicago:20231102T190000
DTSTAMP:20260422T013804
CREATED:20250131T045049Z
LAST-MODIFIED:20250131T045049Z
UID:10001331-1698948000-1698951600@events.excelsiorcitizen.com
SUMMARY:Silver Prom Planning Committee
DESCRIPTION:Join the Excelsior Springs Neighborhoods for a Silver Prom Planning Committee meeting on November 2nd at the ES Community Center at 6pm. The event will take place in the Fall of 2024 and the City is looking for citizens who want to get involved.
URL:https://events.excelsiorcitizen.com/event/silver-prom-planning-committee-2/
END:VEVENT
BEGIN:VEVENT
DTSTART;TZID=America/Chicago:20231103T113000
DTEND;TZID=America/Chicago:20231103T120000
DTSTAMP:20260422T013804
CREATED:20250131T045011Z
LAST-MODIFIED:20250131T045011Z
UID:10001317-1699011000-1699012800@events.excelsiorcitizen.com
SUMMARY:Help for the Holidays at Meet the Need
DESCRIPTION:Meet the Need provides wonderful services to our community\, including operating an assistance center open each week to meet families in need. MTN is a volunteer non-profit 501c3 serving primarily in Ray and northern Clay counties. Come and learn how YOU can partner with them to make a difference in people’s lives.
URL:https://events.excelsiorcitizen.com/event/help-for-the-holidays-at-meet-the-need/
END:VEVENT
BEGIN:VEVENT
DTSTART;TZID=America/Chicago:20231103T190000
DTEND;TZID=America/Chicago:20231103T210000
DTSTAMP:20260422T013804
CREATED:20250131T044929Z
LAST-MODIFIED:20250131T044929Z
UID:10001304-1699038000-1699045200@events.excelsiorcitizen.com
SUMMARY:Elks Lodge Fundraiser – Texas Hold ‘Em Tournament
DESCRIPTION:Charlie Boyce says\, “We are having a fundraiser for my mother in law at the Excelsior Springs Elks Lodge\, all proceeds will be going towards her medical bills for her fight with lung cancer and metastatic brain cancer. This will be open to the public\, CASH bar\, no kids after 9 pm. Friday November 3rd Texas hold ‘em tournament at 7\, check in at 6:30 $40 buy in and there will be add ons and re buys.Saturday November 4th we are doing a fried chicken dinner with mashed potatoes and corn\, dinner starting at 4:30 until 7 for $12. option for a leg and thigh or a chicken breast. Also\, on the 4th we will have a cornhole tournament\, blind draw\, $10 a person and it will be single elimination\, We will have multiple games! We will also be having a silent auction that runs both nights\, we will have some signed chiefs stuff and other items! Please come help support this wonderful woman\, She’s got a heart of gold and I’m lucky enough to call her my mother in law!”
URL:https://events.excelsiorcitizen.com/event/elks-lodge-fundraiser-texas-hold-em-tournament/
END:VEVENT
BEGIN:VEVENT
DTSTART;TZID=America/Chicago:20231103T190000
DTEND;TZID=America/Chicago:20231103T220000
DTSTAMP:20260422T013804
CREATED:20250131T045049Z
LAST-MODIFIED:20250131T045049Z
UID:10001332-1699038000-1699048800@events.excelsiorcitizen.com
SUMMARY:Rotary Bowling Fundraiser
DESCRIPTION:Save the date! Join us for a fun night of bowling\, and giveaways! Help us raise money for high school scholarships and RYLA students.$125 for 5 person team (includes shoes).\nWe are notorious for having a GREAT TIME!!!
URL:https://events.excelsiorcitizen.com/event/rotary-bowling-fundraiser/
END:VEVENT
BEGIN:VEVENT
DTSTART;TZID=America/Chicago:20231103T213000
DTEND;TZID=America/Chicago:20231103T233000
DTSTAMP:20260422T013804
CREATED:20250131T045138Z
LAST-MODIFIED:20250131T045138Z
UID:10001359-1699047000-1699054200@events.excelsiorcitizen.com
SUMMARY:The Rocky Horror Show
DESCRIPTION:November 3\, 4\, 10\, 11\, 17\, 18Friday and Saturday Shows 9:30 pm\nThe story centers on a young engaged couple whose car breaks down in the rain near a castle\, where they seek a telephone to call for help. The castle or country home is occupied by strangers in elaborate costumes celebrating an annual convention. They discover the head of the house is Dr. Frank N. Furter\, an apparently mad scientist who actually is an alien transvestite from the planet Transsexual in the galaxy of Transylvania\, who creates a living muscle man named Rocky in his laboratory. \n• Please arrive 15 minutes prior to showtime\n• All sales are final\n• If you purchase single tickets\, but are coming as a group and want to sit together\, please call the theatre for arrangements at 816-637-3728.\nClick here to purchase tickets online.
URL:https://events.excelsiorcitizen.com/event/the-rocky-horror-show-6/
END:VEVENT
BEGIN:VEVENT
DTSTART;TZID=America/Chicago:20231104T163000
DTEND;TZID=America/Chicago:20231104T173000
DTSTAMP:20260422T013804
CREATED:20250131T044929Z
LAST-MODIFIED:20250131T044929Z
UID:10001303-1699115400-1699119000@events.excelsiorcitizen.com
SUMMARY:Elks Lodge Fundraiser – Chicken Dinner and Cornhole Tournament
DESCRIPTION:Charlie Boyce says\, “We are having a fundraiser for my mother in law at the Excelsior Springs Elks Lodge\, all proceeds will be going towards her medical bills for her fight with lung cancer and metastatic brain cancer. This will be open to the public\, CASH bar\, no kids after 9 pm. Friday November 3rd Texas hold ‘em tournament at 7\, check in at 6:30 $40 buy in and there will be add ons and re buys.Saturday November 4th we are doing a fried chicken dinner with mashed potatoes and corn\, dinner starting at 4:30 until 7 for $12. option for a leg and thigh or a chicken breast. Also\, on the 4th we will have a cornhole tournament\, blind draw\, $10 a person and it will be single elimination\, We will have multiple games! We will also be having a silent auction that runs both nights\, we will have some signed chiefs stuff and other items! Please come help support this wonderful woman\, She’s got a heart of gold and I’m lucky enough to call her my mother in law!”
URL:https://events.excelsiorcitizen.com/event/elks-lodge-fundraiser-chicken-dinner-and-cornhole-tournament/
END:VEVENT
BEGIN:VEVENT
DTSTART;TZID=America/Chicago:20231104T213000
DTEND;TZID=America/Chicago:20231104T233000
DTSTAMP:20260422T013804
CREATED:20250131T045138Z
LAST-MODIFIED:20250131T045138Z
UID:10001358-1699133400-1699140600@events.excelsiorcitizen.com
SUMMARY:The Rocky Horror Show
DESCRIPTION:November 3\, 4\, 10\, 11\, 17\, 18Friday and Saturday Shows 9:30 pm\nThe story centers on a young engaged couple whose car breaks down in the rain near a castle\, where they seek a telephone to call for help. The castle or country home is occupied by strangers in elaborate costumes celebrating an annual convention. They discover the head of the house is Dr. Frank N. Furter\, an apparently mad scientist who actually is an alien transvestite from the planet Transsexual in the galaxy of Transylvania\, who creates a living muscle man named Rocky in his laboratory. \n• Please arrive 15 minutes prior to showtime\n• All sales are final\n• If you purchase single tickets\, but are coming as a group and want to sit together\, please call the theatre for arrangements at 816-637-3728.\nClick here to purchase tickets online.
URL:https://events.excelsiorcitizen.com/event/the-rocky-horror-show-5/
END:VEVENT
BEGIN:VEVENT
DTSTART;TZID=America/Chicago:20231106T180000
DTEND;TZID=America/Chicago:20231106T183000
DTSTAMP:20260422T013804
CREATED:20250131T044909Z
LAST-MODIFIED:20250131T044909Z
UID:10001291-1699293600-1699295400@events.excelsiorcitizen.com
SUMMARY:November SOS Meeting
DESCRIPTION:Fall festival will be over and we are starting to plan winter activities for our kids and families! We would love to have you join us in the library!
URL:https://events.excelsiorcitizen.com/event/november-sos-meeting/
END:VEVENT
BEGIN:VEVENT
DTSTART;TZID=America/Chicago:20231107T113000
DTEND;TZID=America/Chicago:20231107T120000
DTSTAMP:20260422T013804
CREATED:20250131T044959Z
LAST-MODIFIED:20250131T044959Z
UID:10001316-1699356600-1699358400@events.excelsiorcitizen.com
SUMMARY:Veterans: ES Hospital Thanks You!
DESCRIPTION:Veterans hold a very special place in the heart of Excelsior Springs Hospital. We want to take a moment to honor and bless our veterans of all branches for their sacrifice\, their bravery\, and the example they have set for us all.
URL:https://events.excelsiorcitizen.com/event/veterans-es-hospital-thanks-you/
END:VEVENT
BEGIN:VEVENT
DTSTART;TZID=America/Chicago:20231108T180000
DTEND;TZID=America/Chicago:20231108T190000
DTSTAMP:20260422T013804
CREATED:20250131T045041Z
LAST-MODIFIED:20250131T045041Z
UID:10001330-1699466400-1699470000@events.excelsiorcitizen.com
SUMMARY:Bingo Night
DESCRIPTION:Come join us for Bingo Night at ESHS! Open to the community! $10 for 30 Bingo cards. Caramel apple bar included 
URL:https://events.excelsiorcitizen.com/event/bingo-night-2/
END:VEVENT
BEGIN:VEVENT
DTSTART;TZID=America/Chicago:20231108T180000
DTEND;TZID=America/Chicago:20231108T200000
DTSTAMP:20260422T013804
CREATED:20231029T223824Z
LAST-MODIFIED:20231029T223824Z
UID:10000019-1699466400-1699473600@events.excelsiorcitizen.com
SUMMARY:Bingo Night at ESHS
DESCRIPTION:Come join us for Bingo Night at ESHS! Open to the community! $10 for 30 Bingo cards. Caramel apple bar included 
URL:https://events.excelsiorcitizen.com/event/bingo-night-at-eshs/
LOCATION:Excelsior Springs High School\, 612 Tiger Drive\, Excelsior Springs\, MO\, 64024\, United States
END:VEVENT
BEGIN:VEVENT
DTSTART;TZID=America/Chicago:20231109T173000
DTEND;TZID=America/Chicago:20231109T193000
DTSTAMP:20260422T013804
CREATED:20250131T045231Z
LAST-MODIFIED:20250131T045231Z
UID:10001397-1699551000-1699558200@events.excelsiorcitizen.com
SUMMARY:Excelsior Springs Museum’s Annual Dinner
DESCRIPTION:Excelsior Springs Museum & Archives Annual Dinner\nThursday\, November 9\, 2023\n5:30pm \nPairings by Van Till\n415 S Thompson Ave\, Excelsior Springs\, MO 64024 \nHosted by Excelsior Springs Museum & Archives \nMessage from the Host \nPlease join us as we celebrate “Preserving our Past & Investing in our Future” 5:30 Social Hour (cash bar) 6:15 Buffet Dinner and Program followed by Dessert/Baked Goods Auction Tickets $50/person To purchase tickets or make a donation if unable to attend\, visit esmuseum.com or at the Museum by October 30.
URL:https://events.excelsiorcitizen.com/event/excelsior-springs-museums-annual-dinner/
END:VEVENT
BEGIN:VEVENT
DTSTART;TZID=America/Chicago:20231109T190000
DTEND;TZID=America/Chicago:20231109T210000
DTSTAMP:20260422T013804
CREATED:20250131T045156Z
LAST-MODIFIED:20250131T045156Z
UID:10001375-1699556400-1699563600@events.excelsiorcitizen.com
SUMMARY:Board Games
DESCRIPTION:On the Second and Fourth Thursdays we now have BOARD GAME NIGHT! Tell me what games you want to play and we’ll have them ready. Tables will be open at 6:00 pm until 9:00 pm. 21 and up.
URL:https://events.excelsiorcitizen.com/event/board-games/
END:VEVENT
BEGIN:VEVENT
DTSTART;TZID=America/Chicago:20231110T070000
DTEND;TZID=America/Chicago:20231110T210000
DTSTAMP:20260422T013804
CREATED:20250131T044924Z
LAST-MODIFIED:20250131T044924Z
UID:10001302-1699599600-1699650000@events.excelsiorcitizen.com
SUMMARY:Seussical The Musical
DESCRIPTION:Join the Excelsior Springs Performing Arts Center for Seussical The Musical on Friday\, November 10th and Saturday\, November 11th at 7pm. Adult – $10\, Students – $5Tickets available online: ESPAC.LUDUS.com
URL:https://events.excelsiorcitizen.com/event/seussical-the-musical-2/
END:VEVENT
BEGIN:VEVENT
DTSTART;TZID=America/Chicago:20231110T213000
DTEND;TZID=America/Chicago:20231110T233000
DTSTAMP:20260422T013804
CREATED:20250131T045138Z
LAST-MODIFIED:20250131T045138Z
UID:10001357-1699651800-1699659000@events.excelsiorcitizen.com
SUMMARY:The Rocky Horror Show
DESCRIPTION:November 3\, 4\, 10\, 11\, 17\, 18Friday and Saturday Shows 9:30 pm\nThe story centers on a young engaged couple whose car breaks down in the rain near a castle\, where they seek a telephone to call for help. The castle or country home is occupied by strangers in elaborate costumes celebrating an annual convention. They discover the head of the house is Dr. Frank N. Furter\, an apparently mad scientist who actually is an alien transvestite from the planet Transsexual in the galaxy of Transylvania\, who creates a living muscle man named Rocky in his laboratory. \n• Please arrive 15 minutes prior to showtime\n• All sales are final\n• If you purchase single tickets\, but are coming as a group and want to sit together\, please call the theatre for arrangements at 816-637-3728.\nClick here to purchase tickets online.
URL:https://events.excelsiorcitizen.com/event/the-rocky-horror-show-4/
END:VEVENT
BEGIN:VEVENT
DTSTART;TZID=America/Chicago:20231111T100000
DTEND;TZID=America/Chicago:20231111T110000
DTSTAMP:20260422T013804
CREATED:20231029T224037Z
LAST-MODIFIED:20231029T224037Z
UID:10000021-1699696800-1699700400@events.excelsiorcitizen.com
SUMMARY:Yoga at Fence Stile Vineyard and Winery
DESCRIPTION:Join Jenn for Yoga at Fence Stile Vineyards & Winery! This is a FREE class for anyone! Stay after class and see what all Fence Stile has to offer.\nYoga: : Helps build and maintain strong bones\, muscles and connective tissue to maintain a high metabolism\, healthy posture and an active and alive body.
URL:https://events.excelsiorcitizen.com/event/yoga-at-fence-stile-vineyard-and-winery/
LOCATION:Fence Stile Vineyards and Winery\, 31010 W 124th St\, Excelsior Springs\, MO\, 64024\, United States
END:VEVENT
BEGIN:VEVENT
DTSTART;TZID=America/Chicago:20231111T100000
DTEND;TZID=America/Chicago:20231111T140000
DTSTAMP:20260422T013804
CREATED:20250131T044923Z
LAST-MODIFIED:20250131T044923Z
UID:10001300-1699696800-1699711200@events.excelsiorcitizen.com
SUMMARY:Yellow Ball Tournament – ES Golf Course
DESCRIPTION:There will be a Yellow Ball Tournament on Saturday\, November 11th with a 10am shotgun start\, 3-man event.Format:\n• Two players scramble and the third plays the YELLOW ball.\n• Players rotate who plays the YELLOW ball on each hole.\n• Scramble scores are added to the YELLOW ball score to achieve a team score per hole.\nEntry Fee* includes a meal after your round –\nMember: $60\nNon-Member: $75\n55 & Under: White Tees\n56-64: Orange Tees\n65-74: Gold Tees\n75 & older: Red Tees\nLadies: Red Tees
URL:https://events.excelsiorcitizen.com/event/yellow-ball-tournament-es-golf-course/
END:VEVENT
BEGIN:VEVENT
DTSTART;TZID=America/Chicago:20231111T100000
DTEND;TZID=America/Chicago:20231111T190000
DTSTAMP:20260422T013804
CREATED:20250131T044910Z
LAST-MODIFIED:20250131T044910Z
UID:10001292-1699696800-1699729200@events.excelsiorcitizen.com
SUMMARY:Annual Veterans Day Celebration – Wild Bunch
DESCRIPTION:All Veterans and Active Duty Service Members who come in on Veterans Day will receive a FREE $10 gift card!
URL:https://events.excelsiorcitizen.com/event/annual-veterans-day-celebration-wild-bunch/
END:VEVENT
BEGIN:VEVENT
DTSTART;TZID=America/Chicago:20231111T100000
DTEND;TZID=America/Chicago:20231111T230000
DTSTAMP:20260422T013804
CREATED:20250131T045040Z
LAST-MODIFIED:20250131T045040Z
UID:10001329-1699696800-1699743600@events.excelsiorcitizen.com
SUMMARY:Yoga at Fence Stile Vineyards & Winery
DESCRIPTION:Join Jenn for Yoga at Fence Stile Vineyards & Winery! This is a FREE class for anyone! Stay after class and see what all Fence Stile has to offer.Yoga: : Helps build and maintain strong bones\, muscles and connective tissue to maintain a high metabolism\, healthy posture and an active and alive body.
URL:https://events.excelsiorcitizen.com/event/yoga-at-fence-stile-vineyards-winery-2/
END:VEVENT
END:VCALENDAR