BEGIN:VCALENDAR
VERSION:2.0
PRODID:-// - ECPv6.15.20//NONSGML v1.0//EN
CALSCALE:GREGORIAN
METHOD:PUBLISH
X-ORIGINAL-URL:https://events.excelsiorcitizen.com
X-WR-CALDESC:Events for 
REFRESH-INTERVAL;VALUE=DURATION:PT1H
X-Robots-Tag:noindex
X-PUBLISHED-TTL:PT1H
BEGIN:VTIMEZONE
TZID:America/Chicago
BEGIN:DAYLIGHT
TZOFFSETFROM:-0600
TZOFFSETTO:-0500
TZNAME:CDT
DTSTART:20220313T080000
END:DAYLIGHT
BEGIN:STANDARD
TZOFFSETFROM:-0500
TZOFFSETTO:-0600
TZNAME:CST
DTSTART:20221106T070000
END:STANDARD
BEGIN:DAYLIGHT
TZOFFSETFROM:-0600
TZOFFSETTO:-0500
TZNAME:CDT
DTSTART:20230312T080000
END:DAYLIGHT
BEGIN:STANDARD
TZOFFSETFROM:-0500
TZOFFSETTO:-0600
TZNAME:CST
DTSTART:20231105T070000
END:STANDARD
BEGIN:DAYLIGHT
TZOFFSETFROM:-0600
TZOFFSETTO:-0500
TZNAME:CDT
DTSTART:20240310T080000
END:DAYLIGHT
BEGIN:STANDARD
TZOFFSETFROM:-0500
TZOFFSETTO:-0600
TZNAME:CST
DTSTART:20241103T070000
END:STANDARD
END:VTIMEZONE
BEGIN:VEVENT
DTSTART;TZID=America/Chicago:20231019T180000
DTEND;TZID=America/Chicago:20231019T200000
DTSTAMP:20260421T072032
CREATED:20250131T045300Z
LAST-MODIFIED:20250131T045300Z
UID:10001420-1697738400-1697745600@events.excelsiorcitizen.com
SUMMARY:Trunk or Treat – Cornerstone Elementary
DESCRIPTION: Trunk or Treat time!!This year\, the Trunk or Treat will follow STEAM night.\nSTEAM night will be inside Cornerstone from 5-6pm and the Trunk or Treat will take place outside in the bus loop from 6-7pm.\nCornerstone students and siblings are welcome to our Trunk or Treat!\nIf you are able to host a trunk\, please send us a message or email escornerstonepto@gmail.com
URL:https://events.excelsiorcitizen.com/event/trunk-or-treat-cornerstone-elementary/
LOCATION:MO
END:VEVENT
BEGIN:VEVENT
DTSTART;TZID=America/Chicago:20231019T180000
DTEND;TZID=America/Chicago:20231019T200000
DTSTAMP:20260421T072032
CREATED:20250131T045203Z
LAST-MODIFIED:20250131T045203Z
UID:10001377-1697738400-1697745600@events.excelsiorcitizen.com
SUMMARY:Charcuterie Workshop Fall Edition
DESCRIPTION:We had so much fun at the last one we thought we’d step it up and do a Fall Edition!When – October 19th 6pm – 8pm\nWhere – Pairings by Van Till – 415 S. Thompson Ave. Excelsior Springs MO\nClick the link for all the fun details. Hope to see you then.
URL:https://events.excelsiorcitizen.com/event/charcuterie-workshop-fall-edition/
LOCATION:MO
END:VEVENT
BEGIN:VEVENT
DTSTART;TZID=America/Chicago:20231019T183000
DTEND;TZID=America/Chicago:20231019T203000
DTSTAMP:20260421T072032
CREATED:20250131T045149Z
LAST-MODIFIED:20250131T045149Z
UID:10001370-1697740200-1697747400@events.excelsiorcitizen.com
SUMMARY:Paint Class Sugar Skull
DESCRIPTION:Join us for this fun class\, where talented artist Grace Beshore teaches you to paint this awesome sugar skull. Cost is $35 per person and reservations are required. You can reserve your spot/s by sending us a pm or calling the boutique at 8165140564
URL:https://events.excelsiorcitizen.com/event/paint-class-sugar-skull/
LOCATION:MO
END:VEVENT
BEGIN:VEVENT
DTSTART;TZID=America/Chicago:20231020T173000
DTEND;TZID=America/Chicago:20231020T193000
DTSTAMP:20260421T072032
CREATED:20250131T045238Z
LAST-MODIFIED:20250131T045238Z
UID:10001402-1697823000-1697830200@events.excelsiorcitizen.com
SUMMARY:Live Music with Marshall Holles
DESCRIPTION:Join us for live music with Marshall Holles from 5:30pm-7:30pm!
URL:https://events.excelsiorcitizen.com/event/live-music-with-marshall-holles-8/
LOCATION:MO
END:VEVENT
BEGIN:VEVENT
DTSTART;TZID=America/Chicago:20231021T080000
DTEND;TZID=America/Chicago:20231021T180000
DTSTAMP:20260421T072032
CREATED:20250131T045547Z
LAST-MODIFIED:20250131T045547Z
UID:10001551-1697875200-1697911200@events.excelsiorcitizen.com
SUMMARY:Live Music with Kari King
DESCRIPTION:We are excited to have Kari King\, an Excelsior native. Kari has been playing guitar since she was 9 yrs. old\, everything from oldies to today’s hits and everything in between.
URL:https://events.excelsiorcitizen.com/event/live-music-with-kari-king-8/
LOCATION:MO
END:VEVENT
BEGIN:VEVENT
DTSTART;TZID=America/Chicago:20231021T103000
DTEND;TZID=America/Chicago:20231021T170000
DTSTAMP:20260421T072032
CREATED:20250131T050830Z
LAST-MODIFIED:20250131T050830Z
UID:10001807-1697884200-1697907600@events.excelsiorcitizen.com
SUMMARY:Third Saturday Wine Tours
DESCRIPTION:Join us for an all-inclusive wine tour experience!Your wine tour features these four destinations:\nWILLOW SPRING MERCANTILE Your adventure begins in this unique Excelsior Springs downtown shop. Willow Spring Mercantile established by Jim and Daphne Bowman in 2005. Willow Spring boasts the state’s largest selection of Missouri wines\, craft beers\, and distilled spirits. Enjoy brunch paired with Missouri-made wines in their exquisite wine cellar bistro. Brunch includes made-from-scratch ham and vegetable quiche\, spinach salad with fresh berries\, and fresh fruit. A chocolate cappuccino brownie is served for dessert.\nCASA DI VITE will provide an “apertivo” style experience featuring an assortment of international wines. Antipasto platters to purchase. Monthly “Featured Destinations” will bring an additional unique variety of flavors for all to enjoy.\nWalnut Creek Vineyard & Winery Walnut Creek is a local winery dedicated to crafting premium vinifera and hybrid wines. In a true farm-to-table fashion\, their vines are family-and-friend grown on small farms throughout Missouri and Colorado. Every bottle of wine will be a culinary adventure brought to you by your local community.\nPairings By Van Till Located in Excelsior Springs\, Missouri\, Pairings by Van Till serves boards with a variety of Charcuterie choices\, cheese\, vegetables\, and desserts paired exclusively with wine from Van Till Family Farm Winery.\nClick here for ticket info!
URL:https://events.excelsiorcitizen.com/event/third-saturday-wine-tours-3/
LOCATION:MO
END:VEVENT
BEGIN:VEVENT
DTSTART;TZID=America/Chicago:20231021T140000
DTEND;TZID=America/Chicago:20231021T180000
DTSTAMP:20260421T072032
CREATED:20250131T045155Z
LAST-MODIFIED:20250131T045155Z
UID:10001373-1697896800-1697911200@events.excelsiorcitizen.com
SUMMARY:Crazy Carnival Kids Halloween Party
DESCRIPTION:Games\, Cake Walk\, Ball Toss\, Spooky Egg Hunt\, and More! Goodie bags\, Costume Contest (ages 0-13)\, crafts\, face painting\, apple bobbing and decorating.Food: Hot dogs\, chips\, cotton candy\, cupcakes\, popcorn\, drinks
URL:https://events.excelsiorcitizen.com/event/crazy-carnival-kids-halloween-party/
LOCATION:MO
END:VEVENT
BEGIN:VEVENT
DTSTART;TZID=America/Chicago:20231021T160000
DTEND;TZID=America/Chicago:20231021T180000
DTSTAMP:20260421T072032
CREATED:20250131T045248Z
LAST-MODIFIED:20250131T045248Z
UID:10001411-1697904000-1697911200@events.excelsiorcitizen.com
SUMMARY:Trunk or Treat 2023 at Excelsior Springs Church of the Nazarene
DESCRIPTION:Join us for an event filled with food\, fun\, festivities\, fellowship\, and candy!
URL:https://events.excelsiorcitizen.com/event/trunk-or-treat-2023-at-excelsior-springs-church-of-the-nazarene/
LOCATION:MO
END:VEVENT
BEGIN:VEVENT
DTSTART;TZID=America/Chicago:20231021T170000
DTEND;TZID=America/Chicago:20231021T190000
DTSTAMP:20260421T072032
CREATED:20250131T045210Z
LAST-MODIFIED:20250131T045210Z
UID:10001381-1697907600-1697914800@events.excelsiorcitizen.com
SUMMARY:Spaghetti Dinner at the Elks Lodge
DESCRIPTION:Dinner and a great cause! \nJoin us at the Elks Lodge on October 21st for a spaghetti dinner and silent auction fundraiser to benefit Eden Village of Excelsior Springs! \nThe cost is $12 per adult ($5 for kids under 12)\, which includes a spaghetti plate\, bread\, and salad bar. The Elks Lodge bar will also be open during dinner for cash only customers. \nHope to see you there!
URL:https://events.excelsiorcitizen.com/event/spaghetti-dinner-at-the-elks-lodge/
LOCATION:MO
END:VEVENT
BEGIN:VEVENT
DTSTART;TZID=America/Chicago:20231022T143000
DTEND;TZID=America/Chicago:20231022T163000
DTSTAMP:20260421T072032
CREATED:20250131T045238Z
LAST-MODIFIED:20250131T045238Z
UID:10001401-1697985000-1697992200@events.excelsiorcitizen.com
SUMMARY:Live Music with Nicki White
DESCRIPTION:Join us for live music with Nicki White from 2:30pm-4:30pm!
URL:https://events.excelsiorcitizen.com/event/live-music-with-nicki-white-2/
LOCATION:MO
END:VEVENT
BEGIN:VEVENT
DTSTART;TZID=America/Chicago:20231023T113000
DTEND;TZID=America/Chicago:20231023T120000
DTSTAMP:20260421T072032
CREATED:20250131T045224Z
LAST-MODIFIED:20250131T045224Z
UID:10001394-1698060600-1698062400@events.excelsiorcitizen.com
SUMMARY:Mammography Screens in the Older Adult
DESCRIPTION:In honor of breast cancer awareness month\, a presentation on mammograms for older adults\, when and if these can stop\, and how this can impact both males and females.
URL:https://events.excelsiorcitizen.com/event/mammography-screens-in-the-older-adult/
LOCATION:MO
END:VEVENT
BEGIN:VEVENT
DTSTART;TZID=America/Chicago:20231024T083000
DTEND;TZID=America/Chicago:20231024T091500
DTSTAMP:20260421T072032
CREATED:20250131T045050Z
LAST-MODIFIED:20250131T045050Z
UID:10001335-1698136200-1698138900@events.excelsiorcitizen.com
SUMMARY:TARGET & TONE w/ Jessica
DESCRIPTION:Target & Tone is a combination of resistance training exercises designed to target specific areas along with bursts of cardio for an amazing workout! Any fitness level welcome!Free for LIFT Members $5 for Guests
URL:https://events.excelsiorcitizen.com/event/target-tone-w-jessica/
LOCATION:MO
END:VEVENT
BEGIN:VEVENT
DTSTART;TZID=America/Chicago:20231024T173000
DTEND;TZID=America/Chicago:20231024T190000
DTSTAMP:20260421T072032
CREATED:20250131T045155Z
LAST-MODIFIED:20250131T045155Z
UID:10001372-1698168600-1698174000@events.excelsiorcitizen.com
SUMMARY:ESHS College & Career Fair
DESCRIPTION:Don’t miss the Excelsior Springs School District College & Career Fair! Date: Tuesday\, October 24\, 2023\n Time: 5:30 – 7:00pm\n Location: 612 Tiger Drive\, Excelsior Springs\, MO\nStudents can meet representatives from more than 50 universities\, technical/trade schools\, unions\, and the military. Come explore programs\, connect with experts\, and learn more about scholarship opportunities.\nThere will be food trucks and a raffle for prizes.\nRegister yourself or your student now at @strivefair.com
URL:https://events.excelsiorcitizen.com/event/eshs-college-career-fair/
LOCATION:MO
END:VEVENT
BEGIN:VEVENT
DTSTART;VALUE=DATE:20231025
DTEND;VALUE=DATE:20231030
DTSTAMP:20260421T072032
CREATED:20250131T045344Z
LAST-MODIFIED:20250131T045344Z
UID:10001453-1698199200-1698544799@events.excelsiorcitizen.com
SUMMARY:Museum Rummage Sale
DESCRIPTION:The Excelsior Springs Museum & Archives will be having another Rummage Sale at 218 South Street (former Excelsior Trust company building at the corner of Thompson and South St.). The sale will run October 25-28. Please call Deb Foster at 816-305-9117 or email at emuseum101@gmail.com to arrange a drop-off if donating items.
URL:https://events.excelsiorcitizen.com/event/museum-rummage-sale/
LOCATION:MO
END:VEVENT
BEGIN:VEVENT
DTSTART;TZID=America/Chicago:20231025T130000
DTEND;TZID=America/Chicago:20231025T140000
DTSTAMP:20260421T072032
CREATED:20250131T045210Z
LAST-MODIFIED:20250131T045210Z
UID:10001383-1698238800-1698242400@events.excelsiorcitizen.com
SUMMARY:Community Meeting – Medicare Annual Enrollment
DESCRIPTION:The Medicare Annual Enrollment Period is October 15th – December 7th and is the time to explore plan options for 2024 and make any changes to your plan. At this community meeting you will learn the basics of Medicare\, Medicare Advantage & Part D Prescription Drug plans.\nThis event is open to the public and there is absolutely no pressure to enroll. So whether you are new to Medicare or comparing annual options – please come! \nIf you’d like to meet individually or have questions about Medicare Supplement plans\, please reach out to me and we can schedule a one-on-one appointment: 816-654-6259 or erinnventura1@gmail.com.
URL:https://events.excelsiorcitizen.com/event/community-meeting-medicare-annual-enrollment/
LOCATION:MO
END:VEVENT
BEGIN:VEVENT
DTSTART;TZID=America/Chicago:20231025T160000
DTEND;TZID=America/Chicago:20231025T190000
DTSTAMP:20260421T072032
CREATED:20250131T045306Z
LAST-MODIFIED:20250131T045306Z
UID:10001424-1698249600-1698260400@events.excelsiorcitizen.com
SUMMARY:Excelsior Springs Farmers Market’s “Vend” or Treat Fall Festival
DESCRIPTION: Get Ready for a Spectacular Fall Festival! Join us on Wednesday\, October 25th\, for the grand finale of this year’s Excelsior Springs Farmers Market – the Fall Festival! \n Vend-o-Treat Family Activities:\n–  Kids Costume Contest from 4:30-5:30 pm\, judged by our wonderful vendors.\n–  Scavenger Hunt starting at 5 pm\, a thrilling adventure for all ages.\n–  A captivating Magic Show by A Yellow Box of Magic at 5:45 pm\, prepare to be amazed!\n–  Bounce House for endless fun.\n–  Face painting\, temporary tattoos\, and crafts for your little artists.\n–  Pumpkin decorating (with the purchase of a pumpkin) for creative minds.\n–  Loads of prizes for all the fantastic contests!\n Donate Candy and Win Smiles \nWe’re collecting unopened bags of wrapped candy for our Festive Fall Festival! You can drop off your candy donations at the market\, Community Bank of Missouri\, or the Excelsior Springs Chamber of Commerce. Help us create sweet memories for the community.  \nMark your calendars and bring your friends and family to this thrilling Fall Festival at the Excelsior Springs Farmers Market. It’s going to be a spooktacular time you won’t want to miss!
URL:https://events.excelsiorcitizen.com/event/excelsior-springs-farmers-markets-vend-or-treat-fall-festival/
LOCATION:MO
END:VEVENT
BEGIN:VEVENT
DTSTART;TZID=America/Chicago:20231025T180000
DTEND;TZID=America/Chicago:20231025T200000
DTSTAMP:20260421T072032
CREATED:20250131T045149Z
LAST-MODIFIED:20250131T045149Z
UID:10001368-1698256800-1698264000@events.excelsiorcitizen.com
SUMMARY:Pound at the Farmers Market
DESCRIPTION:Join us at the Farmers Market for some Pound and Fun!October 25th @ 6PM\nFREE for anyone!\nJoin in for some activities after class!\n-Halloween Costumes Encouraged\n-Family friendly activities at the market\n-Vend or Treat \nPound®: Designed for all fitness levels\, POUND® provides the perfect atmosphere for letting loose\, getting energized\, toning up and rockin’ out! The workout is easily modifiable and the alternative vibe and welcoming philosophy appeals to men and women of all ages and abilities.
URL:https://events.excelsiorcitizen.com/event/pound-at-the-farmers-market/
LOCATION:MO
END:VEVENT
BEGIN:VEVENT
DTSTART;TZID=America/Chicago:20231025T183000
DTEND;TZID=America/Chicago:20231025T193000
DTSTAMP:20260421T072032
CREATED:20250131T045513Z
LAST-MODIFIED:20250131T045513Z
UID:10001526-1698258600-1698262200@events.excelsiorcitizen.com
SUMMARY:Make & Take Doormat Workshop
DESCRIPTION:Join us at Dubious Claims Brewery in Excelsior Springs on Wednesday\, October 25th for a fun evening painting on a doormat! The workshop starts promptly at 6:30 pm and we should expect the class to last 2/3 hours. Before registering\, please browse and choose your favorite design under “Workshop Design Options” on the website and during checkout\, write a brief description of the design you choose. Your paid ticket includes the space needed to host\, a small 16×24” coconut coir doormat and all the supplies needed for this make & take.There are no custom designs for this workshop with the exception of the “Go Away unless you brought Coors Light/Wine” and “Real friends bring wine” to be changed to your favorite flavor. EXAMPLE : “Go Away unless you brought White Claw”. If you would like a custom design\, please check back on the “Workshop” tab for future custom workshops.\nWe will be using exterior paint so please dress comfortable and in paint clothes. You will leave with the small doormat you painted that evening.\nI offer a wide variety of paint colors\, stencils such as paw prints\, hearts\, flowers etc. for added creativity. I do not print or design at the workshop so once you choose your design\, it can only be changed up to 48 hours before the workshop starts. Please feel free to contact me if you have any questions or comments.\nTo choose a design AND check out for this event – www.gretajunedesigns.com\nI look forward to creating with you!\n– Mabel\nCreator\, Designer\, Painter\nGreta June Designs
URL:https://events.excelsiorcitizen.com/event/make-take-doormat-workshop/
LOCATION:MO
END:VEVENT
BEGIN:VEVENT
DTSTART;TZID=America/Chicago:20231026T143000
DTEND;TZID=America/Chicago:20231026T153000
DTSTAMP:20260421T072032
CREATED:20250131T045224Z
LAST-MODIFIED:20250131T045224Z
UID:10001393-1698330600-1698334200@events.excelsiorcitizen.com
SUMMARY:Tiger Tunes
DESCRIPTION:A Tri-County Mental Health music therapist will present expressive therapy for all school-aged children\, where youth can express themselves through fun art and musical instruments.
URL:https://events.excelsiorcitizen.com/event/tiger-tunes/
LOCATION:MO
END:VEVENT
BEGIN:VEVENT
DTSTART;TZID=America/Chicago:20231026T170000
DTEND;TZID=America/Chicago:20231026T190000
DTSTAMP:20260421T072032
CREATED:20250131T045210Z
LAST-MODIFIED:20250131T045210Z
UID:10001382-1698339600-1698346800@events.excelsiorcitizen.com
SUMMARY:Chamber Afterhours
DESCRIPTION:The Excelsior Springs Area Chamber of Commerce will be hosting an After Hours event at Pairings by Van Till\, 415 Thompson Ave\, on Thursday\, October 26th from 5-7pm. There will be charcuterie boards\, wine\, and prizes.
URL:https://events.excelsiorcitizen.com/event/chamber-afterhours/
LOCATION:MO
END:VEVENT
BEGIN:VEVENT
DTSTART;TZID=America/Chicago:20231026T170000
DTEND;TZID=America/Chicago:20231026T220000
DTSTAMP:20260421T072032
CREATED:20250131T045115Z
LAST-MODIFIED:20250131T045115Z
UID:10001342-1698339600-1698357600@events.excelsiorcitizen.com
SUMMARY:Wine Down Wednesday
DESCRIPTION:Flight tasting with half off bottles of wine from 5pm-10pm at the Elms Hotel & Spa!
URL:https://events.excelsiorcitizen.com/event/wine-down-wednesday/
LOCATION:MO
END:VEVENT
BEGIN:VEVENT
DTSTART;TZID=America/Chicago:20231026T183000
DTEND;TZID=America/Chicago:20231026T213000
DTSTAMP:20260421T072032
CREATED:20250131T045437Z
LAST-MODIFIED:20250131T045437Z
UID:10001501-1698345000-1698355800@events.excelsiorcitizen.com
SUMMARY:HALLOWEEN Music Bingo Party
DESCRIPTION: It’s a Halloween Playlist for this festive Music Bingo night! Costumes Encouraged (but not required)\nFree to play\, the game is like “name that tune” and “bingo” combined. When you hear a song title that’s on your bingo card\, mark it off with the supplies provided. Win bingo and win prizes! LET’S PARTY!
URL:https://events.excelsiorcitizen.com/event/halloween-music-bingo-party/
LOCATION:MO
END:VEVENT
BEGIN:VEVENT
DTSTART;TZID=America/Chicago:20231026T190000
DTEND;TZID=America/Chicago:20231026T210000
DTSTAMP:20260421T072032
CREATED:20250131T045058Z
LAST-MODIFIED:20250131T045058Z
UID:10001338-1698346800-1698354000@events.excelsiorcitizen.com
SUMMARY:Trivia Night at DCBC with Beatz DJ
DESCRIPTION:Join DCBC for an evening of socializing and smart phone trivia\, hosted by Beatz DJ.\nPlay solo\, or bring a team!\nHalloween costumes encouraged.\nFree to customers.\nPrizes Awarded! \n(Better prizes for participants in costume\, on this festive October occasion). \nTrivia nights are now monthly on the 3rd Thursday\, except when holidays effect scheduling. Follow our social media to stay informed about their upcoming events!
URL:https://events.excelsiorcitizen.com/event/trivia-night-at-dcbc-with-beatz-dj/
LOCATION:MO
END:VEVENT
BEGIN:VEVENT
DTSTART;TZID=America/Chicago:20231027T083000
DTEND;TZID=America/Chicago:20231027T091500
DTSTAMP:20260421T072032
CREATED:20250131T045057Z
LAST-MODIFIED:20250131T045057Z
UID:10001336-1698395400-1698398100@events.excelsiorcitizen.com
SUMMARY:CORE & RESTORE w/ Jessica
DESCRIPTION:A strong core is the foundation of our body. We will work our body’s stabilizer muscles to improve tasks and movements in our everyday life. We will also work on our restoring our mind and body through meditation work!Free for all LIFT Members and $5 for our guests
URL:https://events.excelsiorcitizen.com/event/core-restore-w-jessica/
LOCATION:MO
END:VEVENT
BEGIN:VEVENT
DTSTART;TZID=America/Chicago:20231027T160000
DTEND;TZID=America/Chicago:20231028T190000
DTSTAMP:20260421T072032
CREATED:20250131T045704Z
LAST-MODIFIED:20250131T045704Z
UID:10001587-1698422400-1698519600@events.excelsiorcitizen.com
SUMMARY:Wild Bunch – Free Fall Festival/Car Show
DESCRIPTION:It’s gonna be a FREE event you don’t wanna miss and last car show of the year!petting zoo\nCorn hole tournament\nCarnival Food\n“All cars” car show\n50/50 raffle\nBounce house\nCostume contest\nHaunted House and more….
URL:https://events.excelsiorcitizen.com/event/wild-bunch-free-fall-festival-car-show/
LOCATION:MO
END:VEVENT
BEGIN:VEVENT
DTSTART;TZID=America/Chicago:20231027T173000
DTEND;TZID=America/Chicago:20231027T193000
DTSTAMP:20260421T072032
CREATED:20250131T045340Z
LAST-MODIFIED:20250131T045340Z
UID:10001450-1698427800-1698435000@events.excelsiorcitizen.com
SUMMARY:Trunk or Treat at Schreier Family Medicine
DESCRIPTION:Join us for a SPOOKTACULAR time We are hosting our 2nd Annual Trunk or Treat here at Schreier Family Medicine! This is a volunteer ran event and are currently looking for candy donations\, a face painter and people to host trunks! If you’re interested please send us a message or call our office at 816-630-9411!
URL:https://events.excelsiorcitizen.com/event/trunk-or-treat-at-schreier-family-medicine/
LOCATION:MO
END:VEVENT
BEGIN:VEVENT
DTSTART;TZID=America/Chicago:20231027T190000
DTEND;TZID=America/Chicago:20231027T210000
DTSTAMP:20260421T072032
CREATED:20250131T045145Z
LAST-MODIFIED:20250131T045145Z
UID:10001364-1698433200-1698440400@events.excelsiorcitizen.com
SUMMARY:Re/Max not so Haunted House
DESCRIPTION:Come walk through the Re/Max Area Real Estate Office in your costumes! Stop by each agent to get some candy!! No trick here! Just fun Halloween decorations\, agents in costumes and free candy! Who doesn’t love that?!? 
URL:https://events.excelsiorcitizen.com/event/re-max-not-so-haunted-house/
LOCATION:MO
END:VEVENT
BEGIN:VEVENT
DTSTART;TZID=America/Chicago:20231027T190000
DTEND;TZID=America/Chicago:20231027T220000
DTSTAMP:20260421T072032
CREATED:20250131T045050Z
LAST-MODIFIED:20250131T045050Z
UID:10001333-1698433200-1698444000@events.excelsiorcitizen.com
SUMMARY:Halloween Dance Party!
DESCRIPTION:Join us for a Spooktacular Halloween Dance Party!\nFriday\, Oct. 27\n7-10 p.m.\n$10 per person \nWe will begin with a FREE 30-minute group class at 7 o’clock\, then we will dance and celebrate in fun and spooky costumes. Throughout the night\, we will also enjoy performances by the students of the William Jewell College Ballroom Class. \nBring a snack and your favorite beverages\, and remember ALL ARE WELCOME\, so come on out and give us a try. See you on the dance floor!
URL:https://events.excelsiorcitizen.com/event/halloween-dance-party/
LOCATION:MO
END:VEVENT
BEGIN:VEVENT
DTSTART;TZID=America/Chicago:20231027T190000
DTEND;TZID=America/Chicago:20231028T220000
DTSTAMP:20260421T072032
CREATED:20250131T045306Z
LAST-MODIFIED:20250131T045306Z
UID:10001423-1698433200-1698530400@events.excelsiorcitizen.com
SUMMARY:Annual Haunted House at Wild Bunch
DESCRIPTION:FRI & SAT night from 7-10pm come walk through their FREE HAUNTED HOUSE!
URL:https://events.excelsiorcitizen.com/event/annual-haunted-house-at-wild-bunch/
LOCATION:MO
END:VEVENT
BEGIN:VEVENT
DTSTART;VALUE=DATE:20231028
DTEND;VALUE=DATE:20231030
DTSTAMP:20260421T072032
CREATED:20250131T045203Z
LAST-MODIFIED:20250131T045203Z
UID:10001376-1698458400-1698544799@events.excelsiorcitizen.com
SUMMARY:National Prescription Drug Take Back Day
DESCRIPTION:Everyone has a role in preventing teen prescription drug misuse\, accidental poisoning\, and addiction. With the DEA’s #DrugTakeBack Day coming up on October 28th\, this month is a great time to do what we can to help protect our kids and dispose of any unwanted\, unused\, or expired prescriptions lying around the house. Learn more and find help at https://parentupkc.com/drug-topics/prescription-drugs.Local drop off is at the police station.
URL:https://events.excelsiorcitizen.com/event/national-prescription-drug-take-back-day/
LOCATION:MO
END:VEVENT
END:VCALENDAR