BEGIN:VCALENDAR
VERSION:2.0
PRODID:-// - ECPv6.15.20//NONSGML v1.0//EN
CALSCALE:GREGORIAN
METHOD:PUBLISH
X-ORIGINAL-URL:https://events.excelsiorcitizen.com
X-WR-CALDESC:Events for 
REFRESH-INTERVAL;VALUE=DURATION:PT1H
X-Robots-Tag:noindex
X-PUBLISHED-TTL:PT1H
BEGIN:VTIMEZONE
TZID:America/Chicago
BEGIN:DAYLIGHT
TZOFFSETFROM:-0600
TZOFFSETTO:-0500
TZNAME:CDT
DTSTART:20220313T080000
END:DAYLIGHT
BEGIN:STANDARD
TZOFFSETFROM:-0500
TZOFFSETTO:-0600
TZNAME:CST
DTSTART:20221106T070000
END:STANDARD
BEGIN:DAYLIGHT
TZOFFSETFROM:-0600
TZOFFSETTO:-0500
TZNAME:CDT
DTSTART:20230312T080000
END:DAYLIGHT
BEGIN:STANDARD
TZOFFSETFROM:-0500
TZOFFSETTO:-0600
TZNAME:CST
DTSTART:20231105T070000
END:STANDARD
BEGIN:DAYLIGHT
TZOFFSETFROM:-0600
TZOFFSETTO:-0500
TZNAME:CDT
DTSTART:20240310T080000
END:DAYLIGHT
BEGIN:STANDARD
TZOFFSETFROM:-0500
TZOFFSETTO:-0600
TZNAME:CST
DTSTART:20241103T070000
END:STANDARD
END:VTIMEZONE
BEGIN:VEVENT
DTSTART;TZID=America/Chicago:20230917T040000
DTEND;TZID=America/Chicago:20230917T180000
DTSTAMP:20260420T225141
CREATED:20250131T045936Z
LAST-MODIFIED:20250131T045936Z
UID:10001633-1694923200-1694973600@events.excelsiorcitizen.com
SUMMARY:Tribute Quartet
DESCRIPTION:Join us as we welcome Tribute Quartet Sunday\, September 17th @ 4:00. Please come prepared to give a generous love offering. Questions? Text or call Jeremy Pope @ 816-918-2676.
URL:https://events.excelsiorcitizen.com/event/tribute-quartet/
LOCATION:MO
END:VEVENT
BEGIN:VEVENT
DTSTART;TZID=America/Chicago:20230917T120000
DTEND;TZID=America/Chicago:20230917T130000
DTSTAMP:20260420T225141
CREATED:20250131T045356Z
LAST-MODIFIED:20250131T045356Z
UID:10001464-1694952000-1694955600@events.excelsiorcitizen.com
SUMMARY:ESFA Youth Flag Football Games
DESCRIPTION:ESFA Youth Flag Football Games at Tiger Stadium
URL:https://events.excelsiorcitizen.com/event/esfa-youth-flag-football-games/
LOCATION:MO
END:VEVENT
BEGIN:VEVENT
DTSTART;TZID=America/Chicago:20230917T130000
DTEND;TZID=America/Chicago:20230917T170000
DTSTAMP:20260420T225141
CREATED:20250131T045745Z
LAST-MODIFIED:20250131T045745Z
UID:10001600-1694955600-1694970000@events.excelsiorcitizen.com
SUMMARY:LAUGHH Now\, Wine Later
DESCRIPTION:Come and be a part of an unforgettable afternoon at Fence Stile Vineyards\, where LAUGHH is hosting a fantastic fundraiser supporting the 2024 Health & Wellness mission.Enjoy a grape stomp\, bid on some exclusive items and experiences in the silent auction\, and enjoy live music by Davis Keats. Join us for an afternoon of fun\, laughter\, and heartfelt support\, knowing that every moment spent here will make a difference in the lives of those in need.\nFor VIP ticket holders\, enjoy an exclusive experience! Take a tour of the winery\, wine cave and enjoy a candlelight tasting with the winemaker.\nBuy your tickets today! As a bonus\, your first drink is included in the ticket!
URL:https://events.excelsiorcitizen.com/event/laughh-now-wine-later/
LOCATION:MO
END:VEVENT
BEGIN:VEVENT
DTSTART;TZID=America/Chicago:20230917T130000
DTEND;TZID=America/Chicago:20230917T170000
DTSTAMP:20260420T225141
CREATED:20250131T045444Z
LAST-MODIFIED:20250131T045444Z
UID:10001504-1694955600-1694970000@events.excelsiorcitizen.com
SUMMARY:LAUGHH Grape Stomp
DESCRIPTION: Grape Stomp – yes\, with your feet! Silent Auction – time to bid high!\n Live Music\n Tickets required \n $35 – Wine Stomp Experience\n $100 – VIP Experience with the Winemaker \nRaise a glass to giving back! \nPicture yourself unleashing your inner winemaker as you stomp grapes with gusto\, while also scoring incredible goodies at our highly-anticipated Silent Auction. As the beats of live music set the energetic backdrop\, you’ll find yourself immersed in an atmosphere of pure excitement. And here’s the cherry on top – your ticket doesn’t just open the door to a day of unforgettable fun\, but it also treats you to a complimentary drink on us! Join the festivities and let’s create memories that will be talked about for years to come!\nAs you immerse yourself in the festivities of this fundraiser\, remember that your participation is a vital step toward supporting our 2024 health & wellness mission to Bucaramanga\, Colombia. Your involvement will play a huge role in providing much-needed healthcare and education to underserved rural communities. \nDon’t miss out – grab your tickets now and be a part of this extraordinary day that promises unforgettable fun and meaningful impact!
URL:https://events.excelsiorcitizen.com/event/laughh-grape-stomp/
LOCATION:MO
END:VEVENT
BEGIN:VEVENT
DTSTART;TZID=America/Chicago:20230917T170000
DTEND;TZID=America/Chicago:20230917T180000
DTSTAMP:20260420T225141
CREATED:20250131T045355Z
LAST-MODIFIED:20250131T045355Z
UID:10001463-1694970000-1694973600@events.excelsiorcitizen.com
SUMMARY:Tigerettes Mini Clinic
DESCRIPTION:Tigerettes Mini Clinic at ESHS Commons
URL:https://events.excelsiorcitizen.com/event/tigerettes-mini-clinic/
LOCATION:MO
END:VEVENT
BEGIN:VEVENT
DTSTART;TZID=America/Chicago:20230918T140000
DTEND;TZID=America/Chicago:20230918T143000
DTSTAMP:20260420T225141
CREATED:20250131T045344Z
LAST-MODIFIED:20250131T045344Z
UID:10001452-1695045600-1695047400@events.excelsiorcitizen.com
SUMMARY:Aspire Senior Living Veterans Memorial
DESCRIPTION:Aspire Senior Living will be holding a Memorial service for the veterans that live at their home. The event will take place on Monday\, September 18th at 2:00pm.
URL:https://events.excelsiorcitizen.com/event/aspire-senior-living-veterans-memorial/
LOCATION:MO
END:VEVENT
BEGIN:VEVENT
DTSTART;TZID=America/Chicago:20230918T173000
DTEND;TZID=America/Chicago:20230918T190000
DTSTAMP:20260420T225141
CREATED:20250131T045506Z
LAST-MODIFIED:20250131T045506Z
UID:10001523-1695058200-1695063600@events.excelsiorcitizen.com
SUMMARY:KidsCARE Clinic Open House
DESCRIPTION:You’re invited to join Swope Health\, the Excelsior Springs School District\, and Head Start for an Open House celebrating the opening of a New KidsCARE Clinic on Monday\, September 18\, 5:30-7pm at the Excelsior Springs Early Education Center\, 500 N Jesse James Rd. Light refreshments will be served. RSVP to dmcgee@swopehealth.org.Come tour the clinic\, learn more about the services we provide\, and meet the clinicians\, staff\, and partnership leaders. Supported by: NASB\, T-Mobile\, Delta Dental\, Come On Now!\, Association of Clinicians for the Underserved\, and Missouri Telehealth Network.
URL:https://events.excelsiorcitizen.com/event/kidscare-clinic-open-house/
LOCATION:MO
END:VEVENT
BEGIN:VEVENT
DTSTART;TZID=America/Chicago:20230919T113000
DTEND;TZID=America/Chicago:20230919T120000
DTSTAMP:20260420T225141
CREATED:20250131T045541Z
LAST-MODIFIED:20250131T045541Z
UID:10001548-1695123000-1695124800@events.excelsiorcitizen.com
SUMMARY:Hospital Trivia – Round 3
DESCRIPTION:On September 19th at 11:30am the Excelsior Springs Hospital’s Hospital Trivia – Round 3 will take place\, led by Tina Cook\, ES Hospital’s CommunityEducation Coordinator.A time of interactive FUN learning all about our incredible community hospital and its stellar teams!
URL:https://events.excelsiorcitizen.com/event/hospital-trivia-round-3/
LOCATION:MO
END:VEVENT
BEGIN:VEVENT
DTSTART;TZID=America/Chicago:20230919T180000
DTEND;TZID=America/Chicago:20230919T193000
DTSTAMP:20260420T225141
CREATED:20250131T045540Z
LAST-MODIFIED:20250131T045540Z
UID:10001544-1695146400-1695151800@events.excelsiorcitizen.com
SUMMARY:Managing Emotional Mayhem with The Nurtured Path
DESCRIPTION:Join us in this immersive experience to better understand yourself. Learn about how your brain is wired\, identify triggers\, and practical strategies to manage upset without violence.Session 1: In session one\, we will learn about our brain. We will learn about the states of our brain and how our behavior corresponds with them. We will learn about our capability to rewire our brain and choose a different way! We will identify triggers and gain an understanding of the warning signs to major upset.\nSession 2: Session two will be a busy night of planning and practicing! We will work on the skill of empathy\, positive intent and assertiveness. We will complete a personal action plan and commitments to managing emotional mayhem in our day to day lives to be happier\, healthier\, and more at peace.\nJoin us on Tuesdays from 6:00pm-7:30pm\nSept 19: Session 1\nSept 26: Session 2\nWhere: 351 E Kansas St\, Liberty\, MO 64068
URL:https://events.excelsiorcitizen.com/event/managing-emotional-mayhem-with-the-nurtured-path-2/
LOCATION:MO
END:VEVENT
BEGIN:VEVENT
DTSTART;TZID=America/Chicago:20230919T190000
DTEND;TZID=America/Chicago:20230919T200000
DTSTAMP:20260420T225141
CREATED:20250131T045458Z
LAST-MODIFIED:20250131T045458Z
UID:10001515-1695150000-1695153600@events.excelsiorcitizen.com
SUMMARY:Book Club with ES Neighborhoods
DESCRIPTION:Join us for a discussion of this great book by Melody Warnick on how to love where you live! “This is Where You Belong” is about finding home wherever you are.
URL:https://events.excelsiorcitizen.com/event/book-club-with-es-neighborhoods/
LOCATION:MO
END:VEVENT
BEGIN:VEVENT
DTSTART;TZID=America/Chicago:20230919T190000
DTEND;TZID=America/Chicago:20230919T200000
DTSTAMP:20260420T225141
CREATED:20250131T045343Z
LAST-MODIFIED:20250131T045343Z
UID:10001451-1695150000-1695153600@events.excelsiorcitizen.com
SUMMARY:Book Club with ES Neighborhoods/This is Where You Belong by Melody Warnick
DESCRIPTION:Join us for a discussion of this great book by Melody Warnick on how to love where you live!
URL:https://events.excelsiorcitizen.com/event/book-club-with-es-neighborhoods-this-is-where-you-belong-by-melody-warnick/
LOCATION:MO
END:VEVENT
BEGIN:VEVENT
DTSTART;TZID=America/Chicago:20230920T140000
DTEND;TZID=America/Chicago:20230920T150000
DTSTAMP:20260420T225141
CREATED:20250131T045424Z
LAST-MODIFIED:20250131T045424Z
UID:10001493-1695218400-1695222000@events.excelsiorcitizen.com
SUMMARY:Learn to Steek Class
DESCRIPTION:In knitting\, steeking is a shortcut used to knit garments such as sweaters in the round without interruption for openings or sleeves until the end. After completing a tube\, a straight line is cut along the center of a column of stitches\, in order to make room for an opening or place to attach another piece.\nThese fingerless gloves are knit in the round on a 16” circular needle with steeks dividing them\, then cut apart and finished with a button band. They are a good way to gain experience with steeks on a small project. \nThe finished gloves are approximately 8.5 inches around the palm and about 6 inches long. They can be made larger or smaller by changing gauge or by adding pattern repeats for either length or circumference. If changing the circumference\, the location for the thumb may need to be adjusted. \nThe gloves require approximately 270 yards in two or more colors. The pattern includes charts and directions for either two or four colors\, but can be adjusted to use more or fewer colors. For four colors\, 70 yards each should be enough for average sized hands. \nClick here for tickets!
URL:https://events.excelsiorcitizen.com/event/learn-to-steek-class/
LOCATION:MO
END:VEVENT
BEGIN:VEVENT
DTSTART;TZID=America/Chicago:20230920T140000
DTEND;TZID=America/Chicago:20230920T160000
DTSTAMP:20260420T225141
CREATED:20250131T045335Z
LAST-MODIFIED:20250131T045335Z
UID:10001445-1695218400-1695225600@events.excelsiorcitizen.com
SUMMARY:ES Aging Well
DESCRIPTION:Are you passionate about issues concerning older adults in Excelsior Springs? Please come be part of the conversation! We meet on third Wednesdays at the Community Center at 2:00.
URL:https://events.excelsiorcitizen.com/event/es-aging-well-4/
LOCATION:MO
END:VEVENT
BEGIN:VEVENT
DTSTART;TZID=America/Chicago:20230920T160000
DTEND;TZID=America/Chicago:20230920T180000
DTSTAMP:20260420T225141
CREATED:20250131T045350Z
LAST-MODIFIED:20250131T045350Z
UID:10001459-1695225600-1695232800@events.excelsiorcitizen.com
SUMMARY:Clay County Public Health Center Open House
DESCRIPTION:Join Clay County Public Health Center for an Open House in celebration of 70 years of public health in Clay County\, MO. Optional RSVP: comms@clayhealth.com. Refreshments will be provided and an opportunity to get to know the health center’s programs.
URL:https://events.excelsiorcitizen.com/event/clay-county-public-health-center-open-house/
LOCATION:MO
END:VEVENT
BEGIN:VEVENT
DTSTART;TZID=America/Chicago:20230920T183000
DTEND;TZID=America/Chicago:20230920T193000
DTSTAMP:20260420T225141
CREATED:20250131T045526Z
LAST-MODIFIED:20250131T045526Z
UID:10001535-1695234600-1695238200@events.excelsiorcitizen.com
SUMMARY:Beginner Meal Prep Seminar
DESCRIPTION:Join Stephanie Marcum as she teaches you valuable skills to meal prep! Leave with knowledge that is sure to make you successful!Register by September 13th for $3\nRegister Sept. 14th-17th for $5\nFree for Fall Challenge Participants\nMembers & non-members welcome!\nDoor prizes.\nFree samples.\nLots of resources to bring home.
URL:https://events.excelsiorcitizen.com/event/beginner-meal-prep-seminar/
LOCATION:MO
END:VEVENT
BEGIN:VEVENT
DTSTART;TZID=America/Chicago:20230921T103000
DTEND;TZID=America/Chicago:20230921T170000
DTSTAMP:20260420T225141
CREATED:20250131T050831Z
LAST-MODIFIED:20250131T050831Z
UID:10001808-1695292200-1695315600@events.excelsiorcitizen.com
SUMMARY:Third Saturday Wine Tours
DESCRIPTION:Join us for an all-inclusive wine tour experience!Your wine tour features these four destinations:\nWILLOW SPRING MERCANTILE Your adventure begins in this unique Excelsior Springs downtown shop. Willow Spring Mercantile established by Jim and Daphne Bowman in 2005. Willow Spring boasts the state’s largest selection of Missouri wines\, craft beers\, and distilled spirits. Enjoy brunch paired with Missouri-made wines in their exquisite wine cellar bistro. Brunch includes made-from-scratch ham and vegetable quiche\, spinach salad with fresh berries\, and fresh fruit. A chocolate cappuccino brownie is served for dessert.\nCASA DI VITE will provide an “apertivo” style experience featuring an assortment of international wines. Antipasto platters to purchase. Monthly “Featured Destinations” will bring an additional unique variety of flavors for all to enjoy.\nWalnut Creek Vineyard & Winery Walnut Creek is a local winery dedicated to crafting premium vinifera and hybrid wines. In a true farm-to-table fashion\, their vines are family-and-friend grown on small farms throughout Missouri and Colorado. Every bottle of wine will be a culinary adventure brought to you by your local community.\nPairings By Van Till Located in Excelsior Springs\, Missouri\, Pairings by Van Till serves boards with a variety of Charcuterie choices\, cheese\, vegetables\, and desserts paired exclusively with wine from Van Till Family Farm Winery.\nClick here for ticket info!
URL:https://events.excelsiorcitizen.com/event/third-saturday-wine-tours-4/
LOCATION:MO
END:VEVENT
BEGIN:VEVENT
DTSTART;TZID=America/Chicago:20230921T173000
DTEND;TZID=America/Chicago:20230921T193000
DTSTAMP:20260420T225141
CREATED:20250131T045459Z
LAST-MODIFIED:20250131T045459Z
UID:10001518-1695317400-1695324600@events.excelsiorcitizen.com
SUMMARY:Cornerstone Color Blast
DESCRIPTION:Cornerstone Elementary PTO is hosting our second annual color run. This is a short distance run\, jog\, or walk through 4 different color stations.This is not just for Cornerstone families and anyone in the community is invited to participate. All you need to do is email ESCornerstonePTO@gmail.com and we can help get you registered.\nDoes your business want to sponser? If so we have 3 different sponsorship levels. Please email us for more details!
URL:https://events.excelsiorcitizen.com/event/cornerstone-color-blast-2/
LOCATION:MO
END:VEVENT
BEGIN:VEVENT
DTSTART;TZID=America/Chicago:20230921T180000
DTEND;TZID=America/Chicago:20230921T200000
DTSTAMP:20260420T225141
CREATED:20250131T045430Z
LAST-MODIFIED:20250131T045430Z
UID:10001495-1695319200-1695326400@events.excelsiorcitizen.com
SUMMARY:Learn to Steek Class
DESCRIPTION:In knitting\, steeking is a shortcut used to knit garments such as sweaters in the round without interruption for openings or sleeves until the end. After completing a tube\, a straight line is cut along the center of a column of stitches\, in order to make room for an opening or place to attach another piece.\nThese fingerless gloves are knit in the round on a 16” circular needle with steeks dividing them\, then cut apart and finished with a button band. They are a good way to gain experience with steeks on a small project. \nThe finished gloves are approximately 8.5 inches around the palm and about 6 inches long. They can be made larger or smaller by changing gauge or by adding pattern repeats for either length or circumference. If changing the circumference\, the location for the thumb may need to be adjusted. \nThe gloves require approximately 270 yards in two or more colors. The pattern includes charts and directions for either two or four colors\, but can be adjusted to use more or fewer colors. For four colors\, 70 yards each should be enough for average sized hands.
URL:https://events.excelsiorcitizen.com/event/learn-to-steek-class-2/
LOCATION:MO
END:VEVENT
BEGIN:VEVENT
DTSTART;TZID=America/Chicago:20230921T190000
DTEND;TZID=America/Chicago:20230921T200000
DTSTAMP:20260420T225141
CREATED:20250131T045438Z
LAST-MODIFIED:20250131T045438Z
UID:10001503-1695322800-1695326400@events.excelsiorcitizen.com
SUMMARY:Trivia Night at DCBC
DESCRIPTION:Join us for an evening of socializing and smart phone trivia\, hosted by Beatz DJ Service!Free to customers. Prizes Awarded!\nTrivia nights are now monthly on the 3rd Thursday\, except when holidays effect scheduling. Follow our social media to stay informed about our upcoming events!
URL:https://events.excelsiorcitizen.com/event/trivia-night-at-dcbc/
LOCATION:MO
END:VEVENT
BEGIN:VEVENT
DTSTART;TZID=America/Chicago:20230922T110000
DTEND;TZID=America/Chicago:20230922T160000
DTSTAMP:20260420T225141
CREATED:20250131T045355Z
LAST-MODIFIED:20250131T045355Z
UID:10001462-1695380400-1695398400@events.excelsiorcitizen.com
SUMMARY:Community Blood Drive
DESCRIPTION:Go to www.savealifenow.org to schedule an appointment. Group Code KC3G at Flack Memorial Church\, 1300 Tracy Ave\, 11-4
URL:https://events.excelsiorcitizen.com/event/community-blood-drive-2/
LOCATION:MO
END:VEVENT
BEGIN:VEVENT
DTSTART;TZID=America/Chicago:20230922T190000
DTEND;TZID=America/Chicago:20230922T220000
DTSTAMP:20260420T225141
CREATED:20250131T045554Z
LAST-MODIFIED:20250131T045554Z
UID:10001554-1695409200-1695420000@events.excelsiorcitizen.com
SUMMARY:Four Course Wine Dinner with Les Bourgeois Winery
DESCRIPTION:Join Josh as we tell the story of Les Bourgeois wines and enjoy unique wines from their Collectors series to include Noiret\, Vivant\, & Petit Syrah. Dinner will pare perfectly with this collection of wines. More details on the website. Make reservations online.
URL:https://events.excelsiorcitizen.com/event/four-course-wine-dinner-with-les-bourgeois-winery/
LOCATION:MO
END:VEVENT
BEGIN:VEVENT
DTSTART;TZID=America/Chicago:20230922T193000
DTEND;TZID=America/Chicago:20230922T203000
DTSTAMP:20260420T225141
CREATED:20250131T045430Z
LAST-MODIFIED:20250131T045430Z
UID:10001497-1695411000-1695414600@events.excelsiorcitizen.com
SUMMARY:Legends of Rock The 80s
DESCRIPTION:The Slightly Off Band is excited to bring you this year’s concert series: Legends of Rock The 80s!Come rock out with us as we bring you classic rock hits from all of your favorite bands. Sing along and party hard while you enjoy a true rock concert experience. Tickets sell out fast so get your spot reserved today!\nTickets can be purchased at sobtheatre.org\nFor more information call 816-637-3728
URL:https://events.excelsiorcitizen.com/event/legends-of-rock-the-80s-2/
LOCATION:MO
END:VEVENT
BEGIN:VEVENT
DTSTART;TZID=America/Chicago:20230923T103000
DTEND;TZID=America/Chicago:20230923T170000
DTSTAMP:20260420T225141
CREATED:20250131T050905Z
LAST-MODIFIED:20250131T050905Z
UID:10001826-1695465000-1695488400@events.excelsiorcitizen.com
SUMMARY:Trolley Wine Tour
DESCRIPTION:Your wine tour includes these four destinations:WILLOW SPRING MERCANTILE- Your adventure begins in this unique downtown Excelsior Springs mercantile established by Jim and Daphne Bowman in 2005. Willow Spring boasts the state’s largest selection of Missouri wines\, craft beers\, and distilled spirits. Enjoy brunch paired with Missouri-made wines in their exquisite wine cellar bistro. Brunch includes made from scratch ham and vegetable quiche\, spinach salad with fresh berries\, and fresh fruit. A chocolate cappuccino brownie is served for dessert.\nFENCE STILE WINERY – Second up\, Fence Stile\, is situated on 55 acres of land and has 8 varieties of grapes making up 10 acres of vineyards. The estate winery focuses on making dry and semi-dry wines and has a couple of sweet wines to offer as well. The state-of-the-art winery is located underground adjacent to the wine caves where the wine barrels are stored. Tours of the winery and wine caves are available which include an extensive tasting of the wines with the winemaker. Fence Stile is also a distillery crafting small-batch spirits branded as Nyx Spirits. Guests can enjoy wine\, beer\, spirits\, cocktails\, mimosas\, and sangrias while they enjoy live music\, movies on the patio\, firepit Fridays\, yoga\, food and wine pairings\, and many more seasonal activities. Indoor and outdoor space is available.\nVAN TILL FAMILY FARM WINERY – Your next destination is an enjoyable 15-minute trolley ride to beautiful and scenic Rayville. Here\, you will visit the Van Till family known for their warm hospitality\, Country garden setting\, great wine\, and wood-fired oven pizza. Order ahead sheets will be on the trolley ready for you to place your orders. (NOT included in ticket price.)\nSHAMROCK HILLS VINEYARD & WINERY – Your last stop is Excelsior’s newest winery venue. Your taste buds will be delighted with the award-winning Four Horses and a Dog wines and the Irish-themed hospitality experience where you are treated as family. Owners Mike and Denise Riley\, along with the entire Shamrock Hills staff\, look forward to continuing the legacy that “Four Horses and a Dog Vineyard and Winery” established back in 2008. The Rileys will be planting their first four acres of vines in the spring of 2023 and look forward to producing wines of their own in the future\nClick for ticket information
URL:https://events.excelsiorcitizen.com/event/trolley-wine-tour-7/
LOCATION:MO
END:VEVENT
BEGIN:VEVENT
DTSTART;TZID=America/Chicago:20230923T110000
DTEND;TZID=America/Chicago:20230923T120000
DTSTAMP:20260420T225141
CREATED:20250131T045645Z
LAST-MODIFIED:20250131T045645Z
UID:10001578-1695466800-1695470400@events.excelsiorcitizen.com
SUMMARY:PIYO at Shamrock Hills Vineyard and Winery
DESCRIPTION:Join Bridgette for PIYO at Shamrock Hills Vineyard and Winery! This is a FREE class for anyone! Stay after class and see what all Shamrock Hills has to offer.\nPIYO: an energetic and dynamic workout that combines the flexibility of yoga and the strengthening of Pilates as well as cardio intervals. This amazing workout get your heart rate up while improving balance and core strength
URL:https://events.excelsiorcitizen.com/event/piyo-at-shamrock-hills-vineyard-and-winery/
LOCATION:MO
END:VEVENT
BEGIN:VEVENT
DTSTART;TZID=America/Chicago:20230923T143000
DTEND;TZID=America/Chicago:20230923T153000
DTSTAMP:20260420T225141
CREATED:20250131T045437Z
LAST-MODIFIED:20250131T045437Z
UID:10001500-1695479400-1695483000@events.excelsiorcitizen.com
SUMMARY:Colorwork Design Class
DESCRIPTION:In this workshop we’ll explore the basics of designing Fair Isle and stranded knitting projects. Stranded knitting can be incorporated into existing patterns or you can design your own patterns and motifs to fit a desired project. Students will spend time creating or modifying patterns using variations in color choices or motif adjustments. We’ll discuss how gauge and yarn types impact the process\, how to center the pattern motifs and how to ensure a good fit between the pattern motifs and the project.
URL:https://events.excelsiorcitizen.com/event/colorwork-design-class/
LOCATION:MO
END:VEVENT
BEGIN:VEVENT
DTSTART;TZID=America/Chicago:20230923T160000
DTEND;TZID=America/Chicago:20230923T180000
DTSTAMP:20260420T225141
CREATED:20250131T045512Z
LAST-MODIFIED:20250131T045512Z
UID:10001524-1695484800-1695492000@events.excelsiorcitizen.com
SUMMARY:Live Music with The Huixqui Sisters
DESCRIPTION:Join us for a live performance by the Huixqui Sisters from 4pm-6pm.
URL:https://events.excelsiorcitizen.com/event/live-music-with-the-huixqui-sisters/
LOCATION:MO
END:VEVENT
BEGIN:VEVENT
DTSTART;TZID=America/Chicago:20230923T170000
DTEND;TZID=America/Chicago:20230923T200000
DTSTAMP:20260420T225141
CREATED:20250131T045548Z
LAST-MODIFIED:20250131T045548Z
UID:10001553-1695488400-1695499200@events.excelsiorcitizen.com
SUMMARY:Live Music with Kari King
DESCRIPTION:We are excited to have Kari King\, an Excelsior native. Kari has been playing guitar since she was 9 yrs. old\, everything from oldies to today’s hits and everything in between.
URL:https://events.excelsiorcitizen.com/event/live-music-with-kari-king-9/
LOCATION:MO
END:VEVENT
BEGIN:VEVENT
DTSTART;TZID=America/Chicago:20230923T183000
DTEND;TZID=America/Chicago:20230923T200000
DTSTAMP:20260420T225141
CREATED:20250131T045429Z
LAST-MODIFIED:20250131T045429Z
UID:10001494-1695493800-1695499200@events.excelsiorcitizen.com
SUMMARY:Legends of Rock The 80s
DESCRIPTION:The Slightly Off Band is excited to bring you this year’s concert series: Legends of Rock The 80s!Come rock out with us as we bring you classic rock hits from all of your favorite bands. Sing along and party hard while you enjoy a true rock concert experience. Tickets sell out fast so get your spot reserved today!\nTickets can be purchased at sobtheatre.org\nFor more information call 816-637-3728
URL:https://events.excelsiorcitizen.com/event/legends-of-rock-the-80s/
LOCATION:MO
END:VEVENT
BEGIN:VEVENT
DTSTART;TZID=America/Chicago:20230924T110000
DTEND;TZID=America/Chicago:20230924T120000
DTSTAMP:20260420T225141
CREATED:20250131T045334Z
LAST-MODIFIED:20250131T045334Z
UID:10001442-1695553200-1695556800@events.excelsiorcitizen.com
SUMMARY:Fantastic Auction/Ron Pollard Sale
DESCRIPTION:Mac’s Auction ServiceSunday\, September 24\n11:00 a.m.\nFantastic Auction!\nRon Pollard Sale: Due to selling his business in Cameron\, MO and moving we’ve brought the family’s items into our building. Everything in excellent condition!!\nAntiques\, Household & Business Items: TWA jacket and ABV items\, train items\, glassware\, fishing items\, glass butter churn\, metal cars\, old telephones\, pocket knives\, straight razors\, Zippo lighters\, corn sheller\, advertising cans\, M&M display rack\, sled\, pictures\, mirrors\, antique galvanized wash tub with wringer\, metal cabinet\, cedar chest\, oak dresser and chest\, wood planters\, lamps\, flat screen tv\, Christmas items\, fireworks\, large hand painted dining room table\, Indian states and dreamcatchers\, 5 gallon crock\, pots and pans\, pressure cookers\, (2) X-Box consoles\, Playstation\, Wii & Xbox games\, books\, KitchenAid blender\, Bunn coffee maker\, microwave\, mini fridge\, bicycle\, Kenmore electric dryer\, Whirlpool apartment size washer\, ice cream freezer\, (3) nice Masterbuilt electric smokers\, wood doors and lots more!\nTools: DeWalt double bevel 12” sliding compound mitre saw (used one time)\, furniture dollies\, air drill\, toolboxes\, ladders\, 54 T-Posts\, 250’ of barbed wire\, hand tools\, c-clamps\, fans\, roll around coolers\, galvanized tub and more!\nOF SPECIAL INTEREST: Professional Comp. Karaoke set up including machine\, keyboard\, all the speakers and tripod. – 1949 Massey Ferguson 30 Tractor\, runs great! 3pt hitch tractor potholed digger with 2 rulers\, snow blade – (3) Masterbuilt electric smokers.\nSomething for everyone at this great sale! Come on down and we’ll get you home before the Chiefs game!
URL:https://events.excelsiorcitizen.com/event/fantastic-auction-ron-pollard-sale/
LOCATION:MO
END:VEVENT
BEGIN:VEVENT
DTSTART;TZID=America/Chicago:20230926T053000
DTEND;TZID=America/Chicago:20230926T061500
DTSTAMP:20260420T225141
CREATED:20250131T045310Z
LAST-MODIFIED:20250131T045310Z
UID:10001430-1695706200-1695708900@events.excelsiorcitizen.com
SUMMARY:Group Tabata
DESCRIPTION:This 45min class is sure to get your heart rate up!! Our timer is set to intervals of 20 seconds work and 10 seconds rest!! You can choose your level of difficulty or ease as it’s YOUR 20seconds of work! ALL fitness levels welcome.
URL:https://events.excelsiorcitizen.com/event/group-tabata/
LOCATION:MO
END:VEVENT
END:VCALENDAR