BEGIN:VCALENDAR
VERSION:2.0
PRODID:-// - ECPv6.15.20//NONSGML v1.0//EN
CALSCALE:GREGORIAN
METHOD:PUBLISH
X-ORIGINAL-URL:https://events.excelsiorcitizen.com
X-WR-CALDESC:Events for 
REFRESH-INTERVAL;VALUE=DURATION:PT1H
X-Robots-Tag:noindex
X-PUBLISHED-TTL:PT1H
BEGIN:VTIMEZONE
TZID:UTC
BEGIN:STANDARD
TZOFFSETFROM:+0000
TZOFFSETTO:+0000
TZNAME:UTC
DTSTART:20250101T000000
END:STANDARD
END:VTIMEZONE
BEGIN:VTIMEZONE
TZID:America/Chicago
BEGIN:DAYLIGHT
TZOFFSETFROM:-0600
TZOFFSETTO:-0500
TZNAME:CDT
DTSTART:20250309T080000
END:DAYLIGHT
BEGIN:STANDARD
TZOFFSETFROM:-0500
TZOFFSETTO:-0600
TZNAME:CST
DTSTART:20251102T070000
END:STANDARD
BEGIN:DAYLIGHT
TZOFFSETFROM:-0600
TZOFFSETTO:-0500
TZNAME:CDT
DTSTART:20260308T080000
END:DAYLIGHT
BEGIN:STANDARD
TZOFFSETFROM:-0500
TZOFFSETTO:-0600
TZNAME:CST
DTSTART:20261101T070000
END:STANDARD
BEGIN:DAYLIGHT
TZOFFSETFROM:-0600
TZOFFSETTO:-0500
TZNAME:CDT
DTSTART:20270314T080000
END:DAYLIGHT
BEGIN:STANDARD
TZOFFSETFROM:-0500
TZOFFSETTO:-0600
TZNAME:CST
DTSTART:20271107T070000
END:STANDARD
END:VTIMEZONE
BEGIN:VEVENT
DTSTART;TZID=UTC:20260505T220000
DTEND;TZID=UTC:20260505T233000
DTSTAMP:20260420T201651
CREATED:20260223T004608Z
LAST-MODIFIED:20260223T010107Z
UID:10004493-1778018400-1778023800@events.excelsiorcitizen.com
SUMMARY:Soccer: Girls JV  (Location Changed) vs. Kearney (Home)
DESCRIPTION:Type: Game  Opponent: Kearney
URL:https://events.excelsiorcitizen.com/event/soccer-girls-jv-location-changed-vs-kearney-home/
LOCATION:Excelsior Springs High School  Tiger Stadium
END:VEVENT
BEGIN:VEVENT
DTSTART;TZID=UTC:20260505T233000
DTEND;TZID=UTC:20260506T010000
DTSTAMP:20260420T201651
CREATED:20260223T004608Z
LAST-MODIFIED:20260223T010107Z
UID:10004492-1778023800-1778029200@events.excelsiorcitizen.com
SUMMARY:Soccer: Girls Varsity  (Location Changed) vs. Kearney (Home)
DESCRIPTION:Type: Game  Opponent: Kearney
URL:https://events.excelsiorcitizen.com/event/soccer-girls-varsity-location-changed-vs-kearney-home/
LOCATION:Excelsior Springs High School  Tiger Stadium
END:VEVENT
BEGIN:VEVENT
DTSTART;TZID=UTC:20260505T233000
DTEND;TZID=UTC:20260506T010000
DTSTAMP:20260420T201651
CREATED:20260223T004609Z
LAST-MODIFIED:20260223T010107Z
UID:10004496-1778023800-1778029200@events.excelsiorcitizen.com
SUMMARY:Middle School Special Events  (Home)
DESCRIPTION:Comments: MS Band Concert
URL:https://events.excelsiorcitizen.com/event/middle-school-special-events-home-11/
LOCATION:Excelsior Springs High School – Performing Arts Center
END:VEVENT
BEGIN:VEVENT
DTSTART;TZID=America/Chicago:20260506T110000
DTEND;TZID=America/Chicago:20260506T150000
DTSTAMP:20260420T201651
CREATED:20260412T181521Z
LAST-MODIFIED:20260412T181521Z
UID:10004985-1778065200-1778079600@events.excelsiorcitizen.com
SUMMARY:Home School Swim
DESCRIPTION:Bring your home school students ages 18 and under to enjoy the indoor pool and all that is has to offer! FREE for ESCC Members and just $5 for Non-Members (parent/guardian gets in free and must be present). Every Wednesday from 11:00 AM- 3:00 PM.
URL:https://events.excelsiorcitizen.com/event/home-school-swim-2/2026-05-06/
LOCATION:Excelsior Springs Community Center\, 500 Tiger Dr\, Excelsior Springs\, MO\, United States
ATTACH;FMTTYPE=image/jpeg:https://events.excelsiorcitizen.com/wp-content/uploads/2026/04/home-school-swim-1.jpg
GEO:39.349002;-94.244358
X-APPLE-STRUCTURED-LOCATION;VALUE=URI;X-ADDRESS=Excelsior Springs Community Center 500 Tiger Dr Excelsior Springs MO United States;X-APPLE-RADIUS=500;X-TITLE=500 Tiger Dr:geo:-94.244358,39.349002
END:VEVENT
BEGIN:VEVENT
DTSTART;TZID=UTC:20260506T210000
DTEND;TZID=UTC:20260506T230000
DTSTAMP:20260420T201651
CREATED:20260223T004609Z
LAST-MODIFIED:20260223T010108Z
UID:10004498-1778101200-1778108400@events.excelsiorcitizen.com
SUMMARY:Baseball: JV  vs. Smithville School District (Home)
DESCRIPTION:Type: Game  Opponent: Smithville School District
URL:https://events.excelsiorcitizen.com/event/baseball-jv-vs-smithville-school-district-home/
LOCATION:Excelsior Springs High School  Baseball Field 2 (grass)
END:VEVENT
BEGIN:VEVENT
DTSTART;TZID=UTC:20260506T210000
DTEND;TZID=UTC:20260506T230000
DTSTAMP:20260420T201651
CREATED:20260223T004609Z
LAST-MODIFIED:20260223T010108Z
UID:10004497-1778101200-1778108400@events.excelsiorcitizen.com
SUMMARY:Baseball: Varsity  vs. Smithville School District (Away)
DESCRIPTION:Type: Game  Opponent: Smithville School District
URL:https://events.excelsiorcitizen.com/event/baseball-varsity-vs-smithville-school-district-away/
LOCATION:Smithville High School
END:VEVENT
BEGIN:VEVENT
DTSTART;TZID=UTC:20260507T000000
DTEND;TZID=UTC:20260507T013000
DTSTAMP:20260420T201651
CREATED:20260223T004609Z
LAST-MODIFIED:20260223T010108Z
UID:10004499-1778112000-1778117400@events.excelsiorcitizen.com
SUMMARY:Special Events-ESHS  (Home)
DESCRIPTION:Comments: Jazz Band Concert
URL:https://events.excelsiorcitizen.com/event/special-events-eshs-home-68/
LOCATION:Excelsior Springs High School – Performing Arts Center
END:VEVENT
BEGIN:VEVENT
DTSTART;TZID=America/Chicago:20260507T100000
DTEND;TZID=America/Chicago:20260507T113000
DTSTAMP:20260420T201651
CREATED:20251120T183234Z
LAST-MODIFIED:20260223T010112Z
UID:10002122-1778148000-1778153400@events.excelsiorcitizen.com
SUMMARY:Older Adult Caregiver Support Group
DESCRIPTION:Older Adult Caregiver Support Group\n“Together We Care” offers ongoing older adult caregiver support services by Northland Shepherd’s Center and Tri-County Mental Health.\nYou’re invited to join us the first Thursday of each month from 10 – 11:30 AM in a hybrid format. We meet in-person at the Woodneath Mid-Continent Library or virtually by Zoom. (email us for the link)
URL:https://events.excelsiorcitizen.com/event/older-adult-caregiver-support-group-6/
LOCATION:Woodneath Mid-Continent Library @ 8900 NE Flintlock Rd\, Kansas City\, MO\, United States
GEO:39.267855;-94.472963
END:VEVENT
BEGIN:VEVENT
DTSTART;TZID=UTC:20260507T130000
DTEND;TZID=UTC:20260507T210000
DTSTAMP:20260420T201651
CREATED:20260223T004609Z
LAST-MODIFIED:20260223T010108Z
UID:10004501-1778158800-1778187600@events.excelsiorcitizen.com
SUMMARY:Golf: Boys Varsity  vs. TBA (Away)
DESCRIPTION:Type: District  Opponent: TBA
URL:https://events.excelsiorcitizen.com/event/golf-boys-varsity-vs-tba-away/
LOCATION:TBA
END:VEVENT
BEGIN:VEVENT
DTSTART;TZID=America/Chicago:20260507T160000
DTEND;TZID=America/Chicago:20260507T190000
DTSTAMP:20260420T201651
CREATED:20260412T161919Z
LAST-MODIFIED:20260412T161938Z
UID:10004699-1778169600-1778180400@events.excelsiorcitizen.com
SUMMARY:Throwback Thursday at Rage Cave
DESCRIPTION: Throwback Thursday \nWe’re throwing it all the way back… and smashing like it’s your favorite era \nWhether you’re vibin’ with 80s jams\, 90s throwbacks\, or early 2000s bangers\, this is your chance to relive the good old days — just with a lot more breaking stuff involved.\nDress the part\, bring your crew\, and come smash\, splatter\, and sing your heart out like nobody’s watching (because honestly… no one cares\, we’re all doing it ).\n Old school vibes. New level stress relief.\n Call or text to book: 816-946-9062
URL:https://events.excelsiorcitizen.com/event/throwback-thursday-at-rage-cave/2026-05-07/
LOCATION:Rage Cave\, 215 Spring St\, Excelsior Springs\, MO\, 64024\, United States
ATTACH;FMTTYPE=image/jpeg:https://events.excelsiorcitizen.com/wp-content/uploads/2026/04/RageCave-Thurs.jpg
END:VEVENT
BEGIN:VEVENT
DTSTART;TZID=America/Chicago:20260507T180000
DTEND;TZID=America/Chicago:20260507T190000
DTSTAMP:20260420T201651
CREATED:20260208T193917Z
LAST-MODIFIED:20260208T193917Z
UID:10004085-1778176800-1778180400@events.excelsiorcitizen.com
SUMMARY:May Monthly Meeting for Cornerstone PTO
DESCRIPTION:Please join us for our monthly PTO meeting! All parents/guardians of Cornerstone students are welcome.
URL:https://events.excelsiorcitizen.com/event/may-monthly-meeting-for-cornerstone-pto/
LOCATION:Cornerstone Elementary – Cornerstone Elementary
ATTACH;FMTTYPE=image/jpeg:https://events.excelsiorcitizen.com/wp-content/uploads/2026/02/cornerstone-may-1.jpg
END:VEVENT
BEGIN:VEVENT
DTSTART;TZID=America/Chicago:20260507T183000
DTEND;TZID=America/Chicago:20260507T193000
DTSTAMP:20260420T201651
CREATED:20260419T174128Z
LAST-MODIFIED:20260419T174128Z
UID:10005389-1778178600-1778182200@events.excelsiorcitizen.com
SUMMARY:Tiger Bowl - Youth Leagues - "Double Trouble"
DESCRIPTION:Join Tiger Bowl on Thursday\, May 7th at 6:30pm for “Double Trouble”\n• Mixed Doubles Hdcp League • 2 person teams \n$17.00 per person per week
URL:https://events.excelsiorcitizen.com/event/tiger-bowl-youth-leagues-double-trouble/
LOCATION:Tiger Bowl\, 1729 W Jesse James Rd\, Excelsior Springs\, MO\, 64024\, United States
ATTACH;FMTTYPE=image/jpeg:https://events.excelsiorcitizen.com/wp-content/uploads/2026/04/492434010_3564516327175495_6887001635605478973_n-1.jpg
END:VEVENT
BEGIN:VEVENT
DTSTART;TZID=America/Chicago:20260507T183000
DTEND;TZID=America/Chicago:20260507T193000
DTSTAMP:20260420T201651
CREATED:20260419T174352Z
LAST-MODIFIED:20260419T174352Z
UID:10005390-1778178600-1778182200@events.excelsiorcitizen.com
SUMMARY:Tiger Bowl - Adult/Youth Baker Doubles
DESCRIPTION:Join Tiger Bowl for Adult/Youth Baker Doubles\n*5 – Baker Games per nite *Hdcp League\n*Scholarships for Youth\n$20.00 per team per week
URL:https://events.excelsiorcitizen.com/event/tiger-bowl-adult-youth-baker-doubles/
LOCATION:Tiger Bowl\, 1729 W Jesse James Rd\, Excelsior Springs\, MO\, 64024\, United States
ATTACH;FMTTYPE=image/jpeg:https://events.excelsiorcitizen.com/wp-content/uploads/2026/04/492434010_3564516327175495_6887001635605478973_n-1.jpg
END:VEVENT
BEGIN:VEVENT
DTSTART;TZID=UTC:20260507T210000
DTEND;TZID=UTC:20260507T230000
DTSTAMP:20260420T201651
CREATED:20260223T004609Z
LAST-MODIFIED:20260223T010108Z
UID:10004500-1778187600-1778194800@events.excelsiorcitizen.com
SUMMARY:Baseball: C Gold  vs. North Kansas City (Away)
DESCRIPTION:Type: Game  Opponent: North Kansas City
URL:https://events.excelsiorcitizen.com/event/baseball-c-gold-vs-north-kansas-city-away/
LOCATION:North Kansas City High School
END:VEVENT
BEGIN:VEVENT
DTSTART;TZID=UTC:20260507T220000
DTEND;TZID=UTC:20260507T233000
DTSTAMP:20260420T201651
CREATED:20260223T004609Z
LAST-MODIFIED:20260223T010108Z
UID:10004503-1778191200-1778196600@events.excelsiorcitizen.com
SUMMARY:Elementary Special Events  (Home)
DESCRIPTION:Comments: Art Show/Strum and Drum.  Art Show/Strum and Drum
URL:https://events.excelsiorcitizen.com/event/elementary-special-events-home-39/
LOCATION:Lewis Elementary
END:VEVENT
BEGIN:VEVENT
DTSTART;TZID=UTC:20260507T220000
DTEND;TZID=UTC:20260507T233000
DTSTAMP:20260420T201651
CREATED:20260223T004609Z
LAST-MODIFIED:20260223T010108Z
UID:10004504-1778191200-1778196600@events.excelsiorcitizen.com
SUMMARY:Soccer: Girls JV  vs. Winnetonka (Away)
DESCRIPTION:Type: Game  Opponent: Winnetonka
URL:https://events.excelsiorcitizen.com/event/soccer-girls-jv-vs-winnetonka-away/
LOCATION:Winnetonka High School
END:VEVENT
BEGIN:VEVENT
DTSTART;TZID=UTC:20260507T230000
DTEND;TZID=UTC:20260508T000000
DTSTAMP:20260420T201651
CREATED:20260223T004536Z
LAST-MODIFIED:20260223T010034Z
UID:10004448-1778194800-1778198400@events.excelsiorcitizen.com
SUMMARY:May Monthly Meeting
DESCRIPTION:Please join us for our monthly PTO meeting! All parents/guardians of Cornerstone students are welcome.\nhttps://www.facebook.com/events/1297990288403234/
URL:https://events.excelsiorcitizen.com/event/may-monthly-meeting/
LOCATION:Cornerstone Elementary – Excelsior Springs School District #40
ORGANIZER;CN="Cornerstone PTO":MAILTO:noreply@facebookmail.com
END:VEVENT
BEGIN:VEVENT
DTSTART;TZID=UTC:20260507T233000
DTEND;TZID=UTC:20260508T010000
DTSTAMP:20260420T201651
CREATED:20260223T004609Z
LAST-MODIFIED:20260223T010108Z
UID:10004502-1778196600-1778202000@events.excelsiorcitizen.com
SUMMARY:Soccer: Girls Varsity  vs. Winnetonka (Away)
DESCRIPTION:Type: Game  Opponent: Winnetonka
URL:https://events.excelsiorcitizen.com/event/soccer-girls-varsity-vs-winnetonka-away/
LOCATION:Winnetonka High School
END:VEVENT
BEGIN:VEVENT
DTSTART;TZID=UTC:20260508T000000
DTEND;TZID=UTC:20260508T013000
DTSTAMP:20260420T201651
CREATED:20260223T004610Z
LAST-MODIFIED:20260223T010108Z
UID:10004505-1778198400-1778203800@events.excelsiorcitizen.com
SUMMARY:Special Events-ESHS  (Home)
DESCRIPTION:Comments: HS Choir Concert
URL:https://events.excelsiorcitizen.com/event/special-events-eshs-home-69/
LOCATION:Excelsior Springs High School – Performing Arts Center
END:VEVENT
BEGIN:VEVENT
DTSTART;TZID=America/Chicago:20260508T160000
DTEND;TZID=America/Chicago:20260508T200000
DTSTAMP:20260420T201651
CREATED:20260412T162127Z
LAST-MODIFIED:20260412T162237Z
UID:10004706-1778256000-1778270400@events.excelsiorcitizen.com
SUMMARY:Friday Reset at Rage Cave
DESCRIPTION: Friday Send-Off \nClock out. Let it out. It’s time for your official weekend send-off.\nYou made it through the week — the stress\, the emails\, the people  — now come blow it all off in the best way possible. Smash it\, splatter it\, and leave every ounce of “I can’t deal with this” behind.\nBring your crew\, your date\, or just your fed-up self… either way\, we’re sending you into the weekend feeling lighter\, louder\, and ready for whatever’s next.\n Because the only thing you should be carrying into the weekend… is good vibes.\n Call or text to book: 816-946-9062
URL:https://events.excelsiorcitizen.com/event/friday-reset-at-rage-cave/2026-05-08/
LOCATION:Rage Cave\, 215 Spring St\, Excelsior Springs\, MO\, 64024\, United States
ATTACH;FMTTYPE=image/jpeg:https://events.excelsiorcitizen.com/wp-content/uploads/2026/04/RageCave-Friday.jpg
END:VEVENT
BEGIN:VEVENT
DTSTART;TZID=UTC:20260508T210000
DTEND;TZID=UTC:20260508T230000
DTSTAMP:20260420T201651
CREATED:20260223T004610Z
LAST-MODIFIED:20260223T010109Z
UID:10004506-1778274000-1778281200@events.excelsiorcitizen.com
SUMMARY:Baseball: Varsity  vs. Kearney (Home)
DESCRIPTION:Type: Game  Opponent: Kearney
URL:https://events.excelsiorcitizen.com/event/baseball-varsity-vs-kearney-home/
LOCATION:Excelsior Springs High School  Baseball Field 3 (turf)
END:VEVENT
BEGIN:VEVENT
DTSTART;TZID=UTC:20260508T210000
DTEND;TZID=UTC:20260508T230000
DTSTAMP:20260420T201651
CREATED:20260223T004610Z
LAST-MODIFIED:20260223T010109Z
UID:10004508-1778274000-1778281200@events.excelsiorcitizen.com
SUMMARY:Baseball: JV  vs. Kearney (Away)
DESCRIPTION:Type: Game  Opponent: Kearney
URL:https://events.excelsiorcitizen.com/event/baseball-jv-vs-kearney-away/
LOCATION:Kearney High School
END:VEVENT
BEGIN:VEVENT
DTSTART;TZID=UTC:20260508T230000
DTEND;TZID=UTC:20260509T020000
DTSTAMP:20260420T201651
CREATED:20260223T004610Z
LAST-MODIFIED:20260223T010109Z
UID:10004507-1778281200-1778292000@events.excelsiorcitizen.com
SUMMARY:Special Events-ESHS  (Home)
DESCRIPTION:Comments: Academic Team Trivia Night
URL:https://events.excelsiorcitizen.com/event/special-events-eshs-home-70/
LOCATION:Excelsior Springs High School – HS Commons
END:VEVENT
BEGIN:VEVENT
DTSTART;TZID=UTC:20260509T000000
DTEND;TZID=UTC:20260509T020000
DTSTAMP:20260420T201651
CREATED:20260223T004610Z
LAST-MODIFIED:20260223T010109Z
UID:10004509-1778284800-1778292000@events.excelsiorcitizen.com
SUMMARY:Middle School Special Events  (Home)
DESCRIPTION:Comments: 8th Grade Dance
URL:https://events.excelsiorcitizen.com/event/middle-school-special-events-home-12/
LOCATION:Excelsior Springs Middle School – Commons
END:VEVENT
BEGIN:VEVENT
DTSTART;TZID=America/Chicago:20260509T080000
DTEND;TZID=America/Chicago:20260509T170000
DTSTAMP:20260420T201651
CREATED:20260316T065204Z
LAST-MODIFIED:20260316T152042Z
UID:10004618-1778313600-1778346000@events.excelsiorcitizen.com
SUMMARY:Frank at Van Till Family Farm Winery
DESCRIPTION:I’ll be performing a mix of original music and favorites from the 60s\, 70s\, 80s\, and 90s\,
URL:https://events.excelsiorcitizen.com/event/frank-at-van-till-family-farm-winery-13/
LOCATION:MO
ATTACH;FMTTYPE=image/jpeg:https://events.excelsiorcitizen.com/wp-content/uploads/2026/03/645024084_1277907470985231_5796627859308106881_n.jpg
END:VEVENT
BEGIN:VEVENT
DTSTART;TZID=America/Chicago:20260509T100000
DTEND;TZID=America/Chicago:20260509T160000
DTSTAMP:20260420T201651
CREATED:20260406T015722Z
LAST-MODIFIED:20260406T015722Z
UID:10004672-1778320800-1778342400@events.excelsiorcitizen.com
SUMMARY:First Stitch at Sewcial Bar
DESCRIPTION:Join us for the Sewcial Bar Launch Party at Heartland Quilt Supply Co.! \nGet it? We are getting SEW-cial. Once you visit the Hat Bar\, Candle Bar\, Jewelry Bar and others in Excelsior\, you can hit one more at Heartland!\nStop in\, get creative\, and make a quick project while learning a new skill. Choose a needlebook or fabric bookmark\, and stitch it by hand or machine. Projects are just $5–$10 and take about 15–30 minutes.\nBring a friend\, try something new\, and leave with something handmade! \n 216 S Marietta\, Excelsior Springs\, MO\nThe Sewcial Bar will be open regular Heartland Quilt Supply Co. hours (Wed-Sat 10-5) after the launch party! Join us there or at the Sewing Studio at Heartland for quilting classes. Check our class schedule online.
URL:https://events.excelsiorcitizen.com/event/first-stitch-at-sewcial-bar/
LOCATION:Heartland Quilt Supply\, 216 S Marietta St\, Excelsior Springs\, MO\, 64024\, United States
ATTACH;FMTTYPE=image/jpeg:https://events.excelsiorcitizen.com/wp-content/uploads/2026/04/659541683_1566718575453954_2148651408258188843_n.jpg
END:VEVENT
BEGIN:VEVENT
DTSTART;TZID=America/Chicago:20260509T100000
DTEND;TZID=America/Chicago:20260509T170000
DTSTAMP:20260420T201651
CREATED:20260419T161342Z
LAST-MODIFIED:20260419T161342Z
UID:10005381-1778320800-1778346000@events.excelsiorcitizen.com
SUMMARY:Pop Up Patio Sale at Vesta Hearth & Home
DESCRIPTION:Exciting events are planned for Mother’s Day weekend in Downtown Excelsior Springs\, Missouri. ‘Mimosa’s with Mom’\, a ticketed downtown event sponsored by DEP\, will take place on Saturday\, May 9th. To secure tickets\, visit: https://visitexcelsior.com/.Vesta Hearth & Home will participate in the event as a Mimosa sampling spot and we will also host a Pop Up Patio sale right outside our building on Saturday and Sunday\, May 9th and 10th\, weather permitting. Our sale will feature a wide range of spring and summer home and garden furnishings\, gifts for mom\, live flowers and plants\, as well as special sale items! Come and shop all things vintage on the patio!
URL:https://events.excelsiorcitizen.com/event/pop-up-patio-sale-at-vesta-hearth-home/2026-05-09/
LOCATION:Vesta Hearth & Home\, 215 E Broadway\, Excelsior Springs\, MO\, 64024\, United States
ATTACH;FMTTYPE=image/jpeg:https://events.excelsiorcitizen.com/wp-content/uploads/2026/04/674592661_122229380120126340_844172737827970117_n.jpg
END:VEVENT
BEGIN:VEVENT
DTSTART;TZID=America/Chicago:20260509T103000
DTEND;TZID=America/Chicago:20260509T153000
DTSTAMP:20260420T201651
CREATED:20260124T235718Z
LAST-MODIFIED:20260125T000250Z
UID:10003899-1778322600-1778340600@events.excelsiorcitizen.com
SUMMARY:Second Saturday Wine Tour
DESCRIPTION:Join us for an all-inclusive Trolley Wine Tour experience.\nYour wine tour includes these three destinations:\n​ \n\nWillow Spring Mercantile-  Your adventure begins in the charming downtown of Excelsior Springs. Opened in 2005 by Jim and Daphne Bowman\, Willow Spring Mercantile is a beloved local gem. It proudly offers the largest selection of Missouri wines in the state\, along with an impressive lineup of craft beers and distilled spirits.  Settle into their beautiful wine cellar bistro and enjoy a relaxed brunch thoughtfully paired with Missouri-made wines. The brunch features a made-from-scratch pork (ham/bacon) vegetable quiche\, a fresh salad with seasonal toppings\, and a selection of fresh fruit. To finish on a sweet note\, guests are treated to a rich chocolate cappuccino brownie for dessert\, paired with the finale wine.\n\n  \n\nShamrock Hills Vineyard & Winery is second up. Nestled in the beautiful Missouri River Valley\, Shamrock Hills Vineyard and Winery is a hidden gem on a 323-acre farm. Mike & Denise Riley opened their doors in April 2023\, creating a welcoming space for visitors to enjoy great Missouri wines\, stunning views\, and the warmth of camaraderie. In 2023\, Shamrock planted 3\,000 vines across 5 acres\, adding an additional acre and 600 vines in 2024. While the estate vineyard grows and develops\, Shamrock Hills has partnered with Mid-Missouri Vineyards to provide grapes and produce their first couple of vintages. We are excited for you to try our wines and savor the beauty of the land that surrounds the tasting room.\n\n  \n\nVan Till Family Farm Winery\, your final destination is a scenic 20-minute Trolley ride to Van Till Family Farm Winery in Rayville\, where warm hospitality and handcrafted wines await. Relax in their picturesque garden setting and explore a variety of wines made from locally grown grapes. Don’t forget to place your order for their renowned wood-fired oven pizza- order sheets will be available on the trolley. (Food not included in ticket price)\n\nThis is a 21+ event only. ID required.
URL:https://events.excelsiorcitizen.com/event/second-saturday-wine-tour/2026-05-09/
LOCATION:Willow Spring Mercantile\, 249 E Broadway\, Excelsior Springs\, MO\, 64024\, United States
ATTACH;FMTTYPE=image/jpeg:https://events.excelsiorcitizen.com/wp-content/uploads/2025/11/trolley-other-trails-102525.jpg
END:VEVENT
BEGIN:VEVENT
DTSTART;TZID=America/Chicago:20260509T110000
DTEND;TZID=America/Chicago:20260509T150000
DTSTAMP:20260420T201651
CREATED:20260412T160526Z
LAST-MODIFIED:20260412T160526Z
UID:10004690-1778324400-1778338800@events.excelsiorcitizen.com
SUMMARY:Bead Besties Pop Up at Style by Ry
DESCRIPTION:Stop by and shop our first official Pop up during Mimosas with Mom!\nWe’ll have stretch beaded bracelets\, anklets\, stacker sets and Mommy and Me sets! Oh and some super cute earrings too!
URL:https://events.excelsiorcitizen.com/event/bead-besties-pop-up-at-style-by-ry/
LOCATION:Style By Ry\, 116 E Broadway\, Excelsior Springs\, MO\, 64024\, United States
ATTACH;FMTTYPE=image/jpeg:https://events.excelsiorcitizen.com/wp-content/uploads/2026/04/StylebyRy-PopUp.jpg
END:VEVENT
BEGIN:VEVENT
DTSTART;TZID=America/Chicago:20260509T110000
DTEND;TZID=America/Chicago:20260509T170000
DTSTAMP:20260420T201651
CREATED:20260302T061943Z
LAST-MODIFIED:20260302T061943Z
UID:10004571-1778324400-1778346000@events.excelsiorcitizen.com
SUMMARY:Mimosas with Mom
DESCRIPTION:Sip\, Stroll and Celebrate Moms!Treat the leading lady in your life to a Mother’s Day weekend she’ll never forget during the debut of Mimosas with Mom.\n\nThis brand new ticketed tasting event invites you and your favorite mamas\, daughters\, aunties\, and besties to sip your way through downtown with a mimosa in hand. Each participating business will offer a unique mimosa flavor to sample while you shop\, chat\, and create memories together.\n\nWhether you’re raising a glass to the moms who raised you\, celebrating your own motherhood journey\, or just looking for an fun excuse to brunch and browse\, Mimosas with Mom is the ultimate toast to the women who make life beautiful.\n\nPlan to spend the weekend in Excelsior Springs. Book a stay\, make a brunch reservation\, and let us help you turn Mother’s Day into a special experience.
URL:https://events.excelsiorcitizen.com/event/mimosas-with-mom-2/
LOCATION:Downtown Excelsior Springs\, Excelsior Springs\, MO\, 64024\, United States
ATTACH;FMTTYPE=image/jpeg:https://events.excelsiorcitizen.com/wp-content/uploads/2026/03/641423061_1496109295850314_7549307475008913114_n.jpg
END:VEVENT
END:VCALENDAR