BEGIN:VCALENDAR
VERSION:2.0
PRODID:-// - ECPv6.15.20//NONSGML v1.0//EN
CALSCALE:GREGORIAN
METHOD:PUBLISH
X-ORIGINAL-URL:https://events.excelsiorcitizen.com
X-WR-CALDESC:Events for 
REFRESH-INTERVAL;VALUE=DURATION:PT1H
X-Robots-Tag:noindex
X-PUBLISHED-TTL:PT1H
BEGIN:VTIMEZONE
TZID:America/Chicago
BEGIN:DAYLIGHT
TZOFFSETFROM:-0600
TZOFFSETTO:-0500
TZNAME:CDT
DTSTART:20220313T080000
END:DAYLIGHT
BEGIN:STANDARD
TZOFFSETFROM:-0500
TZOFFSETTO:-0600
TZNAME:CST
DTSTART:20221106T070000
END:STANDARD
BEGIN:DAYLIGHT
TZOFFSETFROM:-0600
TZOFFSETTO:-0500
TZNAME:CDT
DTSTART:20230312T080000
END:DAYLIGHT
BEGIN:STANDARD
TZOFFSETFROM:-0500
TZOFFSETTO:-0600
TZNAME:CST
DTSTART:20231105T070000
END:STANDARD
BEGIN:DAYLIGHT
TZOFFSETFROM:-0600
TZOFFSETTO:-0500
TZNAME:CDT
DTSTART:20240310T080000
END:DAYLIGHT
BEGIN:STANDARD
TZOFFSETFROM:-0500
TZOFFSETTO:-0600
TZNAME:CST
DTSTART:20241103T070000
END:STANDARD
END:VTIMEZONE
BEGIN:VEVENT
DTSTART;TZID=America/Chicago:20230911T170000
DTEND;TZID=America/Chicago:20230911T180000
DTSTAMP:20260420T194416
CREATED:20250131T045417Z
LAST-MODIFIED:20250131T045420Z
UID:10001485-1694451600-1694455200@events.excelsiorcitizen.com
SUMMARY:Volleyball: C Gold Game
DESCRIPTION:ESHS vs Lawson at ESHS
URL:https://events.excelsiorcitizen.com/event/volleyball-c-gold-game/
LOCATION:MO
END:VEVENT
BEGIN:VEVENT
DTSTART;TZID=America/Chicago:20230911T180000
DTEND;TZID=America/Chicago:20230911T190000
DTSTAMP:20260420T194416
CREATED:20250131T045444Z
LAST-MODIFIED:20250131T045444Z
UID:10001505-1694455200-1694458800@events.excelsiorcitizen.com
SUMMARY:September SOS Meeting
DESCRIPTION:We will be continuing to plan the fall festival and following up with Elkhorn night at the football game and Pennies for pumpkins.
URL:https://events.excelsiorcitizen.com/event/september-sos-meeting-2/
LOCATION:MO
END:VEVENT
BEGIN:VEVENT
DTSTART;TZID=America/Chicago:20230911T180000
DTEND;TZID=America/Chicago:20230911T190000
DTSTAMP:20260420T194416
CREATED:20250131T045419Z
LAST-MODIFIED:20250131T045419Z
UID:10001488-1694455200-1694458800@events.excelsiorcitizen.com
SUMMARY:ESHS Volleyball: JV Game
DESCRIPTION:ESHS vs Lawson at ESHS
URL:https://events.excelsiorcitizen.com/event/eshs-volleyball-jv-game-3/
LOCATION:MO
END:VEVENT
BEGIN:VEVENT
DTSTART;TZID=America/Chicago:20230911T180000
DTEND;TZID=America/Chicago:20230911T190000
DTSTAMP:20260420T194416
CREATED:20250131T045417Z
LAST-MODIFIED:20250131T045417Z
UID:10001484-1694455200-1694458800@events.excelsiorcitizen.com
SUMMARY:ESHS Volleyball: JV Game
DESCRIPTION:ESHS vs Lawson at ESHS
URL:https://events.excelsiorcitizen.com/event/eshs-volleyball-jv-game-2/
LOCATION:MO
END:VEVENT
BEGIN:VEVENT
DTSTART;TZID=America/Chicago:20230911T180000
DTEND;TZID=America/Chicago:20230911T200000
DTSTAMP:20260420T194416
CREATED:20250131T045533Z
LAST-MODIFIED:20250131T045533Z
UID:10001539-1694455200-1694462400@events.excelsiorcitizen.com
SUMMARY:Mother-Daughter Circle
DESCRIPTION:The Mother-Daughter Circle is a structured support group for mothers and theirdaughters\, ages 11-18. The purpose of the circle is to promote a healthy and sustaining\nbond between mothers and daughters during the transitional years from girlhood to\nyoung womanhood.\nThe Mother-Daughter Circle provides a safe\, consistent and strengths-based approach\nto supporting mothers or mother-figures and daughters on their relationship journey.\nThese female-responsive skills and activities will encourage development of:\n Empathy and Understanding\n Healthy Communication Skills\n Stress Reduction Skills\n Clear and Reasonable Limit Setting\, Expectations and Boundaries\n Accountability and Ownership Practices\n Relationship Success Strategies and Affirmations\n Explore Meanings and Messages about Being Female\nThese sessions are once a week for two hours held over a four week period. Each\nsession has 4-6 pairs of mothers/female caregivers and daughters. This is a free\nprogram provided by Clay County Family Court.\nPlease RSVP to Teri Hargrave at 816-736-8402.\nSeptember 11th –October 2 nd 6pm-8pm\nLocation: Liberty Fire Department\n200 W. Mississippi\, Liberty\, MO 64068
URL:https://events.excelsiorcitizen.com/event/mother-daughter-circle-4/
LOCATION:MO
END:VEVENT
BEGIN:VEVENT
DTSTART;TZID=America/Chicago:20230912T160000
DTEND;TZID=America/Chicago:20230912T180000
DTSTAMP:20260420T194416
CREATED:20250131T045419Z
LAST-MODIFIED:20250131T045419Z
UID:10001487-1694534400-1694541600@events.excelsiorcitizen.com
SUMMARY:ESHS Softball: Varsity Game
DESCRIPTION:ESHS vs Fort Osage at ESHS
URL:https://events.excelsiorcitizen.com/event/eshs-softball-varsity-game-2/
LOCATION:MO
END:VEVENT
BEGIN:VEVENT
DTSTART;TZID=America/Chicago:20230912T160000
DTEND;TZID=America/Chicago:20230912T180000
DTSTAMP:20260420T194416
CREATED:20250131T045418Z
LAST-MODIFIED:20250131T045418Z
UID:10001486-1694534400-1694541600@events.excelsiorcitizen.com
SUMMARY:ESHS Tennis: Girls Varsity & JV Match
DESCRIPTION:ESHS vs St. Joseph Benton at ES Middle School
URL:https://events.excelsiorcitizen.com/event/eshs-tennis-girls-varsity-jv-match-2/
LOCATION:MO
END:VEVENT
BEGIN:VEVENT
DTSTART;TZID=America/Chicago:20230912T160000
DTEND;TZID=America/Chicago:20230912T180000
DTSTAMP:20260420T194416
CREATED:20250131T045416Z
LAST-MODIFIED:20250131T045416Z
UID:10001482-1694534400-1694541600@events.excelsiorcitizen.com
SUMMARY:ESHS Softball: Varsity Game
DESCRIPTION:ESHS vs Fort Osage at ESHS
URL:https://events.excelsiorcitizen.com/event/eshs-softball-varsity-game/
LOCATION:MO
END:VEVENT
BEGIN:VEVENT
DTSTART;TZID=America/Chicago:20230912T160000
DTEND;TZID=America/Chicago:20230912T180000
DTSTAMP:20260420T194416
CREATED:20250131T045415Z
LAST-MODIFIED:20250131T045415Z
UID:10001481-1694534400-1694541600@events.excelsiorcitizen.com
SUMMARY:ESHS Tennis: Girls Varsity & JV Match
DESCRIPTION:ESHS vs St. Joseph Benton at ES Middle School
URL:https://events.excelsiorcitizen.com/event/eshs-tennis-girls-varsity-jv-match/
LOCATION:MO
END:VEVENT
BEGIN:VEVENT
DTSTART;TZID=America/Chicago:20230912T160000
DTEND;TZID=America/Chicago:20230912T180000
DTSTAMP:20260420T194416
CREATED:20250131T045348Z
LAST-MODIFIED:20250131T045348Z
UID:10001456-1694534400-1694541600@events.excelsiorcitizen.com
SUMMARY:Fastballs for First Responders
DESCRIPTION:ESHS Student Council presents Fastballs for First Responders on September 12th.STUCO invites first responders to join them at 4pm for the ESHS Softball Games! Enjoy the cookout in between games\, free admission\, and recognition of your service to the community during the Varsity game!
URL:https://events.excelsiorcitizen.com/event/fastballs-for-first-responders/
LOCATION:MO
END:VEVENT
BEGIN:VEVENT
DTSTART;TZID=America/Chicago:20230912T170000
DTEND;TZID=America/Chicago:20230912T183000
DTSTAMP:20260420T194416
CREATED:20250131T045409Z
LAST-MODIFIED:20250131T045409Z
UID:10001479-1694538000-1694543400@events.excelsiorcitizen.com
SUMMARY:Tigerettes/Cheer Mini Clinic
DESCRIPTION:Tigerettes/Cheer Mini Clinic in the High School Commons
URL:https://events.excelsiorcitizen.com/event/tigerettes-cheer-mini-clinic-4/
LOCATION:MO
END:VEVENT
BEGIN:VEVENT
DTSTART;TZID=America/Chicago:20230912T170000
DTEND;TZID=America/Chicago:20230912T190000
DTSTAMP:20260420T194416
CREATED:20250131T045410Z
LAST-MODIFIED:20250131T045410Z
UID:10001480-1694538000-1694545200@events.excelsiorcitizen.com
SUMMARY:ESMS Football: MS Game
DESCRIPTION:ESMS vs Park Hill at ESHS – Livestreaming
URL:https://events.excelsiorcitizen.com/event/esms-football-ms-game/
LOCATION:MO
END:VEVENT
BEGIN:VEVENT
DTSTART;TZID=America/Chicago:20230912T173000
DTEND;TZID=America/Chicago:20230912T183000
DTSTAMP:20260420T194416
CREATED:20250131T045409Z
LAST-MODIFIED:20250131T045409Z
UID:10001478-1694539800-1694543400@events.excelsiorcitizen.com
SUMMARY:Softball: JV Game
DESCRIPTION:ESHS vs Fort Osage at ESHS
URL:https://events.excelsiorcitizen.com/event/softball-jv-game/
LOCATION:MO
END:VEVENT
BEGIN:VEVENT
DTSTART;TZID=America/Chicago:20230912T180000
DTEND;TZID=America/Chicago:20230912T193000
DTSTAMP:20260420T194416
CREATED:20250131T045533Z
LAST-MODIFIED:20250131T045533Z
UID:10001540-1694541600-1694547000@events.excelsiorcitizen.com
SUMMARY:Parenting Through Tough Times
DESCRIPTION:Whether you are overwhelmed\, exhausted\, and frustrated or you are just looking for a refreshing way to learn and grow as a parent or care-giver\, this class is for you!Leave with new perspectives and tools and strategies to leave those frustrating cycles behind to increase connection and cooperation in y our family!\nYou will love attending this class if:\n• You’re overwhelmed from parenting through unprecedented times\n• You’re looking to better understand yourself as a parent (or educator!)\n• You would like to identify and tame your triggers\n• You want helpful and practical ways to support your children through emotional roller coasters\n• You want your children to listen BEFORE you lose your cool.\nThis event is FREE for you to attend. RSVP: teri.hargrave@courts.mo.gov
URL:https://events.excelsiorcitizen.com/event/parenting-through-tough-times-5/
LOCATION:MO
END:VEVENT
BEGIN:VEVENT
DTSTART;TZID=America/Chicago:20230912T180000
DTEND;TZID=America/Chicago:20230912T200000
DTSTAMP:20260420T194416
CREATED:20250131T045349Z
LAST-MODIFIED:20250131T045349Z
UID:10001458-1694541600-1694548800@events.excelsiorcitizen.com
SUMMARY:Youth Substance Use Education Class for Ages 13-17
DESCRIPTION:The Clay County Office of Dispute Resolution is hosting a free Youth Substance Use Education class for ages 13-17. The course will help teens identify triggers\, develop healthy skill-building\, establish healthy relationships\, work on impulse control\, and relapse prevention.When: September 12th from 6pm-8pm\nWhere: Clay County Juvenile Office\, 351 E Kansas St\, Liberty\, MO 64068
URL:https://events.excelsiorcitizen.com/event/youth-substance-use-education-class-for-ages-13-17/
LOCATION:MO
END:VEVENT
BEGIN:VEVENT
DTSTART;TZID=America/Chicago:20230913T090000
DTEND;TZID=America/Chicago:20230913T100000
DTSTAMP:20260420T194416
CREATED:20250131T045408Z
LAST-MODIFIED:20250131T045408Z
UID:10001477-1694595600-1694599200@events.excelsiorcitizen.com
SUMMARY:ESHS Tennis: Girls JV Tournament
DESCRIPTION:JV Tournament vs Multiple School at ES Middle School Courts
URL:https://events.excelsiorcitizen.com/event/eshs-tennis-girls-jv-tournament/
LOCATION:MO
END:VEVENT
BEGIN:VEVENT
DTSTART;TZID=America/Chicago:20230913T160000
DTEND;TZID=America/Chicago:20230913T180000
DTSTAMP:20260420T194416
CREATED:20250131T045408Z
LAST-MODIFIED:20250131T045408Z
UID:10001476-1694620800-1694628000@events.excelsiorcitizen.com
SUMMARY:ESMS Volleyball: MS Game
DESCRIPTION:ESMS vs Platte City Middle at ESMS
URL:https://events.excelsiorcitizen.com/event/esms-volleyball-ms-game/
LOCATION:MO
END:VEVENT
BEGIN:VEVENT
DTSTART;TZID=America/Chicago:20230913T170000
DTEND;TZID=America/Chicago:20230913T183000
DTSTAMP:20260420T194416
CREATED:20250131T045402Z
LAST-MODIFIED:20250131T045402Z
UID:10001475-1694624400-1694629800@events.excelsiorcitizen.com
SUMMARY:Tigerettes/Cheer Mini Clinic
DESCRIPTION:ESHS Tigerettes Cheer Mini Clinic in the High School Commons
URL:https://events.excelsiorcitizen.com/event/tigerettes-cheer-mini-clinic-3/
LOCATION:MO
END:VEVENT
BEGIN:VEVENT
DTSTART;TZID=America/Chicago:20230913T173000
DTEND;TZID=America/Chicago:20230913T190000
DTSTAMP:20260420T194416
CREATED:20250131T045655Z
LAST-MODIFIED:20250131T045655Z
UID:10001579-1694626200-1694631600@events.excelsiorcitizen.com
SUMMARY:“So Long Summer” Social Cookie Decorating Class
DESCRIPTION:Registration will open to the public August 14. (Want early access? Sign up for my 816 VIP email group at www.816Bakehouse.com)\nThis class is for a fun night out or the person who is curious what cookie decorating is all about! No experience is necessary for this cookie class- it is beginner friendly. \nIf you have limited experiences with decorating cookies or if you’re looking for a fun night out with family or friends\, this class is for you! \nWe will be decorating a “So Long Summer” themed set that tastes amazing and will look even better once you’ve completed your decorating! \nClass will be held Wednesday\, September 13\, 5:30pm-7:00pm at Dubious Claims Brewery located at 451 S. Thompson\, Excelsior Springs\, MO 64024. Parking is free and easy! \nThere will be plenty of time to decorate and ask questions along the way. It’ll be a blast whether you’re coming with a friend\, family member\, or solo!\nYou will receive an email confirmation within 48 business hours of online order at www.816Bakehouse.com. \nI provide EVERYTHING you need (the cookies\, piping bags and icing\, decorations\, take home box\, step-by-step cookie guide\, practice sheets\, parchment paper\, and recipes) all I need is YOU!\nSorry\, no spectators. Space is limited. Each person in attendance must purchase a ticket. \nCome early or stay late to enjoy delicious Dubious Claims food and beer!
URL:https://events.excelsiorcitizen.com/event/so-long-summer-social-cookie-decorating-class/
LOCATION:MO
END:VEVENT
BEGIN:VEVENT
DTSTART;TZID=America/Chicago:20230913T180000
DTEND;TZID=America/Chicago:20230913T190000
DTSTAMP:20260420T194416
CREATED:20250131T045548Z
LAST-MODIFIED:20250131T045548Z
UID:10001552-1694628000-1694631600@events.excelsiorcitizen.com
SUMMARY:Pop-Up Yoga with Holistic Springs Herb Co.
DESCRIPTION:Join us for FREE yoga with Holistic Springs Herb Co! Darrien will be instructing class at 6:00PM! Shopping to follow. All Class Participants will receive a 10% discount to use at Holistic Springs Herb Co. during the event!This event is part of the Wellness Wednesday Series.
URL:https://events.excelsiorcitizen.com/event/pop-up-yoga-with-holistic-springs-herb-co-2/
LOCATION:MO
END:VEVENT
BEGIN:VEVENT
DTSTART;TZID=America/Chicago:20230913T180000
DTEND;TZID=America/Chicago:20230913T203000
DTSTAMP:20260420T194416
CREATED:20250131T045402Z
LAST-MODIFIED:20250131T045402Z
UID:10001474-1694628000-1694637000@events.excelsiorcitizen.com
SUMMARY:Amigos Soccer
DESCRIPTION:Amigos Soccer at Tiger Stadium
URL:https://events.excelsiorcitizen.com/event/amigos-soccer/
LOCATION:MO
END:VEVENT
BEGIN:VEVENT
DTSTART;TZID=America/Chicago:20230914T063000
DTEND;TZID=America/Chicago:20230914T073000
DTSTAMP:20260420T194416
CREATED:20250131T045457Z
LAST-MODIFIED:20250131T045457Z
UID:10001514-1694673000-1694676600@events.excelsiorcitizen.com
SUMMARY:Glow Party! WERQ Dance Fitness with Elizabeth
DESCRIPTION:COME DANCE AND GLOW WITH US!!!!Glow sticks will be handed out and door prizes/drawings!!\nWERQ is the wildly addictive cardio dance workout that is based on trending hip hop and pop music\nFREE for all LIFT Members and $5 for guests
URL:https://events.excelsiorcitizen.com/event/glow-party-werq-dance-fitness-with-elizabeth/
LOCATION:MO
END:VEVENT
BEGIN:VEVENT
DTSTART;TZID=America/Chicago:20230914T170000
DTEND;TZID=America/Chicago:20230914T180000
DTSTAMP:20260420T194416
CREATED:20250131T045402Z
LAST-MODIFIED:20250131T045402Z
UID:10001473-1694710800-1694714400@events.excelsiorcitizen.com
SUMMARY:Tigerettes Cheer Mini Clinic
DESCRIPTION:Tigerettes Cheer Mini Clinic in ES High School Commons
URL:https://events.excelsiorcitizen.com/event/tigerettes-cheer-mini-clinic-2/
LOCATION:MO
END:VEVENT
BEGIN:VEVENT
DTSTART;TZID=America/Chicago:20230914T170000
DTEND;TZID=America/Chicago:20230914T180000
DTSTAMP:20260420T194416
CREATED:20250131T045401Z
LAST-MODIFIED:20250131T045401Z
UID:10001472-1694710800-1694714400@events.excelsiorcitizen.com
SUMMARY:ESHS Volleyball: JV Game
DESCRIPTION:ESHS Volleyball JV vs Lexington at ESHS
URL:https://events.excelsiorcitizen.com/event/eshs-volleyball-jv-game/
LOCATION:MO
END:VEVENT
BEGIN:VEVENT
DTSTART;TZID=America/Chicago:20230914T173000
DTEND;TZID=America/Chicago:20230914T183000
DTSTAMP:20260420T194416
CREATED:20250131T045401Z
LAST-MODIFIED:20250131T045401Z
UID:10001471-1694712600-1694716200@events.excelsiorcitizen.com
SUMMARY:ES Predators Soccer Practice
DESCRIPTION:ES Predators Soccer Practice at Tiger Stadium
URL:https://events.excelsiorcitizen.com/event/es-predators-soccer-practice/
LOCATION:MO
END:VEVENT
BEGIN:VEVENT
DTSTART;TZID=America/Chicago:20230914T174500
DTEND;TZID=America/Chicago:20230914T180000
DTSTAMP:20260420T194416
CREATED:20250131T045400Z
LAST-MODIFIED:20250131T045400Z
UID:10001470-1694713500-1694714400@events.excelsiorcitizen.com
SUMMARY:ES Parks and Rec – Volleyball
DESCRIPTION:ES Parks and Rec Volleyball in Cornerstone Elementary Gym
URL:https://events.excelsiorcitizen.com/event/es-parks-and-rec-volleyball/
LOCATION:MO
END:VEVENT
BEGIN:VEVENT
DTSTART;TZID=America/Chicago:20230914T180000
DTEND;TZID=America/Chicago:20230914T190000
DTSTAMP:20260420T194416
CREATED:20250131T045359Z
LAST-MODIFIED:20250131T045359Z
UID:10001468-1694714400-1694718000@events.excelsiorcitizen.com
SUMMARY:ESHS Volleyball: Varsity Game
DESCRIPTION:ESHS vs Lexington at ESHS
URL:https://events.excelsiorcitizen.com/event/eshs-volleyball-varsity-game/
LOCATION:MO
END:VEVENT
BEGIN:VEVENT
DTSTART;TZID=America/Chicago:20230914T180000
DTEND;TZID=America/Chicago:20230914T200000
DTSTAMP:20260420T194416
CREATED:20250131T051038Z
LAST-MODIFIED:20250131T051038Z
UID:10001851-1694714400-1694721600@events.excelsiorcitizen.com
SUMMARY:Big Deck Yacht Party – DEP Annual Dinner
DESCRIPTION:via Downtown Excelsior Partnership:Join is for the Downtown Excelsior Partnership\, Inc. Annual Dinner on Thursday\, September 14th in the Hall of Waters Circle Drive.\nThis year’s theme · DEP’s Big Deck Yacht Party\nThe evening will include an outdoor dinner under the lights\, games\, dessert auction\, revitalization awards\, and cash bar.\nWe hope you will mark your calendars and plan to join us in celebrating all things happening in Downtown Excelsior Springs! Tickets are $45 per person and will be available for purchase on August 1st.
URL:https://events.excelsiorcitizen.com/event/big-deck-yacht-party-dep-annual-dinner/
LOCATION:MO
END:VEVENT
BEGIN:VEVENT
DTSTART;TZID=America/Chicago:20230914T180000
DTEND;TZID=America/Chicago:20230914T200000
DTSTAMP:20260420T194416
CREATED:20250131T045359Z
LAST-MODIFIED:20250131T045359Z
UID:10001469-1694714400-1694721600@events.excelsiorcitizen.com
SUMMARY:Klutch Baseball Practice
DESCRIPTION:Klutch Baseball practice at Baseball Field #3
URL:https://events.excelsiorcitizen.com/event/klutch-baseball-practice/
LOCATION:MO
END:VEVENT
BEGIN:VEVENT
DTSTART;TZID=America/Chicago:20230915T113000
DTEND;TZID=America/Chicago:20230915T120000
DTSTAMP:20260420T194416
CREATED:20250131T045547Z
LAST-MODIFIED:20250131T045547Z
UID:10001549-1694777400-1694779200@events.excelsiorcitizen.com
SUMMARY:Fraud Safety
DESCRIPTION:On September 15th at 11:30am the Excelsior Springs Hospital’s Health and Wellness series will hold a program on Fraud Safety\, presented by Zachary Thompson\, Clay County Prosecuting Attorney.Our clay county prosecutor is coming to talk to us about CEASE\, Citizen Education Against Scams and Exploitations. Knowledge helps safeguard us from experiencing these crimes.
URL:https://events.excelsiorcitizen.com/event/fraud-safety/
LOCATION:MO
END:VEVENT
END:VCALENDAR