BEGIN:VCALENDAR
VERSION:2.0
PRODID:-// - ECPv6.15.20//NONSGML v1.0//EN
CALSCALE:GREGORIAN
METHOD:PUBLISH
X-ORIGINAL-URL:https://events.excelsiorcitizen.com
X-WR-CALDESC:Events for 
REFRESH-INTERVAL;VALUE=DURATION:PT1H
X-Robots-Tag:noindex
X-PUBLISHED-TTL:PT1H
BEGIN:VTIMEZONE
TZID:America/Chicago
BEGIN:DAYLIGHT
TZOFFSETFROM:-0600
TZOFFSETTO:-0500
TZNAME:CDT
DTSTART:20220313T080000
END:DAYLIGHT
BEGIN:STANDARD
TZOFFSETFROM:-0500
TZOFFSETTO:-0600
TZNAME:CST
DTSTART:20221106T070000
END:STANDARD
BEGIN:DAYLIGHT
TZOFFSETFROM:-0600
TZOFFSETTO:-0500
TZNAME:CDT
DTSTART:20230312T080000
END:DAYLIGHT
BEGIN:STANDARD
TZOFFSETFROM:-0500
TZOFFSETTO:-0600
TZNAME:CST
DTSTART:20231105T070000
END:STANDARD
BEGIN:DAYLIGHT
TZOFFSETFROM:-0600
TZOFFSETTO:-0500
TZNAME:CDT
DTSTART:20240310T080000
END:DAYLIGHT
BEGIN:STANDARD
TZOFFSETFROM:-0500
TZOFFSETTO:-0600
TZNAME:CST
DTSTART:20241103T070000
END:STANDARD
END:VTIMEZONE
BEGIN:VEVENT
DTSTART;TZID=America/Chicago:20230901T200000
DTEND;TZID=America/Chicago:20230901T230000
DTSTAMP:20260420T181022
CREATED:20250131T050105Z
LAST-MODIFIED:20250131T050105Z
UID:10001656-1693598400-1693609200@events.excelsiorcitizen.com
SUMMARY:JD Summers Solo Acoustic at The Elms Hotel
DESCRIPTION:Every Friday and Saturday night\, I’ll be jamming acoustic tunes in the tavern at The Elms Hotel & Spa. Everyone is welcome to come out and join in the fun and music. And if you find that for some reason\, you can’t make it home very easily\, check into a room.
URL:https://events.excelsiorcitizen.com/event/jd-summers-solo-acoustic-at-the-elms-hotel/
LOCATION:MO
END:VEVENT
BEGIN:VEVENT
DTSTART;TZID=America/Chicago:20230902T113000
DTEND;TZID=America/Chicago:20230902T130000
DTSTAMP:20260420T181022
CREATED:20250131T045636Z
LAST-MODIFIED:20250131T045636Z
UID:10001571-1693654200-1693659600@events.excelsiorcitizen.com
SUMMARY:Winery/Wine Cave Tour & Candlelit Tasting with premium wine
DESCRIPTION:Enjoy a tour of the winery and wine cave. Learn about Fence Stile’s wines and grape varieties\, the winery’s history\, Brix (testing the sugar level in grapes)\, vineyard management\, and terroir of the estate. Finish with a candlelit tasting in the CELLAR57 club room and the wine caves.Keep the tasting glass and enjoy 10% off bottles of wine purchased after the tour. $48/person.\nReservations required. RSVP via the ticket link.\nCall 816-500-6465 to schedule a custom tour.
URL:https://events.excelsiorcitizen.com/event/winery-wine-cave-tour-candlelit-tasting-with-premium-wine-3/
LOCATION:MO
END:VEVENT
BEGIN:VEVENT
DTSTART;TZID=America/Chicago:20230902T170000
DTEND;TZID=America/Chicago:20230902T183000
DTSTAMP:20260420T181022
CREATED:20250131T045621Z
LAST-MODIFIED:20250131T045621Z
UID:10001567-1693674000-1693679400@events.excelsiorcitizen.com
SUMMARY:Winery/Wine Cave Tour & Candlelit Tasting with Premium wines
DESCRIPTION:Enjoy a tour of the winery and wine cave. Learn about Fence Stile’s wines and grape varieties\, the winery’s history\, Brix (testing the sugar level in grapes)\, vineyard management\, and terroir of the estate. Finish with a candlelit tasting in the CELLAR57 club room and the wine caves.Keep the tasting glass and enjoy 10% off bottles of wine purchased after the tour. $48/person.\nReservations required. RSVP via the ticket link.\nCall 816-500-6465 to schedule a custom tour.
URL:https://events.excelsiorcitizen.com/event/winery-wine-cave-tour-candlelit-tasting-with-premium-wines-45/
LOCATION:MO
END:VEVENT
BEGIN:VEVENT
DTSTART;TZID=America/Chicago:20230902T200000
DTEND;TZID=America/Chicago:20230902T213000
DTSTAMP:20260420T181022
CREATED:20250131T045554Z
LAST-MODIFIED:20250131T045554Z
UID:10001555-1693684800-1693690200@events.excelsiorcitizen.com
SUMMARY:Wine-In Movie Night – Movies on the patio
DESCRIPTION:Winery opens at noon. Spend the afternoon with us and take a winery tour before the movie. Come early and enjoy a bottle of wine.Join the email listing to see what movies are playing.\nThe movie is free for winery guests. (weather permitting). Movies begin around dusk.
URL:https://events.excelsiorcitizen.com/event/wine-in-movie-night-movies-on-the-patio-9/
LOCATION:MO
END:VEVENT
BEGIN:VEVENT
DTSTART;TZID=America/Chicago:20230903T150000
DTEND;TZID=America/Chicago:20230903T170000
DTSTAMP:20260420T181022
CREATED:20250131T045512Z
LAST-MODIFIED:20250131T045512Z
UID:10001525-1693753200-1693760400@events.excelsiorcitizen.com
SUMMARY:Live Music by John Beddall
DESCRIPTION:Join us for a live performance from John Beddall from 3pm-5pm.
URL:https://events.excelsiorcitizen.com/event/live-music-by-john-beddall/
LOCATION:MO
END:VEVENT
BEGIN:VEVENT
DTSTART;TZID=America/Chicago:20230904T083000
DTEND;TZID=America/Chicago:20230904T093000
DTSTAMP:20260420T181022
CREATED:20250131T045527Z
LAST-MODIFIED:20250131T045527Z
UID:10001536-1693816200-1693819800@events.excelsiorcitizen.com
SUMMARY:Labor Day Pop Up – Country Zumba
DESCRIPTION:We do not have regular group-x classes on Labor Day but join us for a pop-up Zumba class with Pam & Theresa!
URL:https://events.excelsiorcitizen.com/event/labor-day-pop-up-country-zumba/
LOCATION:MO
END:VEVENT
BEGIN:VEVENT
DTSTART;TZID=America/Chicago:20230904T093000
DTEND;TZID=America/Chicago:20230904T103000
DTSTAMP:20260420T181022
CREATED:20250131T045513Z
LAST-MODIFIED:20250131T045513Z
UID:10001527-1693819800-1693823400@events.excelsiorcitizen.com
SUMMARY:Labor Day Pop Up – Water with Trish
DESCRIPTION:We do not have regular group-x classes on Labor Day but join us for a pop-up Water class with Trish!
URL:https://events.excelsiorcitizen.com/event/labor-day-pop-up-water-with-trish/
LOCATION:MO
END:VEVENT
BEGIN:VEVENT
DTSTART;TZID=America/Chicago:20230904T120000
DTEND;TZID=America/Chicago:20230904T133000
DTSTAMP:20260420T181022
CREATED:20250131T045637Z
LAST-MODIFIED:20250131T045637Z
UID:10001573-1693828800-1693834200@events.excelsiorcitizen.com
SUMMARY:Noon Winery/Wine Cave Tour & Candlelit Tasting with Premium wines
DESCRIPTION:Enjoy a tour of the winery and wine cave. Learn about Fence Stile’s wines and grape varieties\, the winery’s history\, Brix (testing the sugar level in grapes)\, vineyard management\, and terroir of the estate. Finish with a candlelit tasting in the CELLAR57 club room and the wine caves.Keep the tasting glass and enjoy 10% off bottles of wine purchased after the tour. $48/person.\nReservations required. RSVP via the ticket link.\nCall 816-500-6465 to schedule a custom tour.
URL:https://events.excelsiorcitizen.com/event/noon-winery-wine-cave-tour-candlelit-tasting-with-premium-wines-3/
LOCATION:MO
END:VEVENT
BEGIN:VEVENT
DTSTART;TZID=America/Chicago:20230904T140000
DTEND;TZID=America/Chicago:20230904T153000
DTSTAMP:20260420T181022
CREATED:20250131T045601Z
LAST-MODIFIED:20250131T045601Z
UID:10001560-1693836000-1693841400@events.excelsiorcitizen.com
SUMMARY:Winery/Wine Cave Tour & Candlelit Tasting with Premium wines
DESCRIPTION:Enjoy a tour of the winery and wine cave. Learn about Fence Stile’s wines and grape varieties\, the winery’s history\, Brix (testing the sugar level in grapes)\, vineyard management\, and terroir of the estate. Finish with a candlelit tasting in the CELLAR57 club room and the wine caves.Keep the tasting glass and enjoy 10% off bottles of wine purchased after the tour. $48/person.\nReservations required. RSVP via the ticket link.\nCall 816-500-6465 to schedule a custom tour.
URL:https://events.excelsiorcitizen.com/event/winery-wine-cave-tour-candlelit-tasting-with-premium-wines-43/
LOCATION:MO
END:VEVENT
BEGIN:VEVENT
DTSTART;TZID=America/Chicago:20230905T090000
DTEND;TZID=America/Chicago:20230909T140000
DTSTAMP:20260420T181022
CREATED:20250131T045459Z
LAST-MODIFIED:20250131T045459Z
UID:10001517-1693904400-1694268000@events.excelsiorcitizen.com
SUMMARY:Froyo Fundraiser – Cornerstone Elementary
DESCRIPTION:Join the Excelsior Springs Community Center for a Froyo Fundraiser ($3 each) in benefit of Cornerstone Elementary PTO on Sept 5th-9th and 50% of proceeds go to PTO. Also\, join us September 5th for Teacher Night and $2 Bingo!Cafe Hours:\nTues-Thurs\, 9am-8pm\nFri\, 9am-5pm\nSat\, 10am-2pm
URL:https://events.excelsiorcitizen.com/event/froyo-fundraiser-cornerstone-elementary/
LOCATION:MO
END:VEVENT
BEGIN:VEVENT
DTSTART;TZID=America/Chicago:20230905T180000
DTEND;TZID=America/Chicago:20230905T193000
DTSTAMP:20260420T181022
CREATED:20250131T045533Z
LAST-MODIFIED:20250131T045533Z
UID:10001541-1693936800-1693942200@events.excelsiorcitizen.com
SUMMARY:Parenting Through Tough Times
DESCRIPTION:Whether you are overwhelmed\, exhausted\, and frustrated or you are just looking for a refreshing way to learn and grow as a parent or care-giver\, this class is for you!Leave with new perspectives and tools and strategies to leave those frustrating cycles behind to increase connection and cooperation in y our family!\nYou will love attending this class if:\n• You’re overwhelmed from parenting through unprecedented times\n• You’re looking to better understand yourself as a parent (or educator!)\n• You would like to identify and tame your triggers\n• You want helpful and practical ways to support your children through emotional roller coasters\n• You want your children to listen BEFORE you lose your cool.\nThis event is FREE for you to attend. RSVP: teri.hargrave@courts.mo.gov\n 
URL:https://events.excelsiorcitizen.com/event/parenting-through-tough-times-6/
LOCATION:MO
END:VEVENT
BEGIN:VEVENT
DTSTART;TZID=America/Chicago:20230906T060000
DTEND;TZID=America/Chicago:20230906T080000
DTSTAMP:20260420T181022
CREATED:20250131T045505Z
LAST-MODIFIED:20250131T045505Z
UID:10001522-1693980000-1693987200@events.excelsiorcitizen.com
SUMMARY:Red Wednesday Chiefs Flags
DESCRIPTION:ReeceNichols Excelsior Springs will once again be selling Kansas City Chiefs flags in their partnership with McDonald’s in benefit of the Ronald McDonald House Charities of Kansas City. Beginning at 6:00am at the McDonald’s\, Excelsior Springs ReeceNichols will be selling flags until they are sold out!Find more info here:
URL:https://events.excelsiorcitizen.com/event/red-wednesday-chiefs-flags/
LOCATION:MO
END:VEVENT
BEGIN:VEVENT
DTSTART;TZID=America/Chicago:20230906T180000
DTEND;TZID=America/Chicago:20230906T190000
DTSTAMP:20260420T181022
CREATED:20250131T045620Z
LAST-MODIFIED:20250131T045620Z
UID:10001564-1694023200-1694026800@events.excelsiorcitizen.com
SUMMARY:Ruck Walk
DESCRIPTION:Do you have what it takes? Join us as we walk 1 Mile with a ruck sack or backpack filled with a weight of your choice! Suggested 20-40LBS for Adults. Must provide your own pack. Weight can be checked out if needed. Come early if you need weight.This is a FREE event. The walk will be led by Drake Pollard.\nThis event is part of the Wellness Wednesday Series.
URL:https://events.excelsiorcitizen.com/event/ruck-walk/
LOCATION:MO
END:VEVENT
BEGIN:VEVENT
DTSTART;TZID=America/Chicago:20230907T103000
DTEND;TZID=America/Chicago:20230907T123000
DTSTAMP:20260420T181022
CREATED:20250131T045504Z
LAST-MODIFIED:20250131T045504Z
UID:10001519-1694082600-1694089800@events.excelsiorcitizen.com
SUMMARY:Grief Share
DESCRIPTION:A 13-week grief recovery support group where  you’ll hear insights from grief recovery experts\, meet others who understand what you’re going through\, receive comfort and support\, learn practical tips and navigating your grief\, and discovering the 6 signs of healing.When: September 7th-November 30th\nWhere:\n• Excelsior Springs Home Health Office\, 1010 N Jesse James Rd\, Excelsior Springs. 10:30am-12:30pm\n• Life Center\, 307 E 3rd St\, Lawson\, 7:00pm\,-9:00pm
URL:https://events.excelsiorcitizen.com/event/grief-share-2/
LOCATION:MO
END:VEVENT
BEGIN:VEVENT
DTSTART;TZID=America/Chicago:20230907T190000
DTEND;TZID=America/Chicago:20230907T210000
DTSTAMP:20260420T181022
CREATED:20250131T045519Z
LAST-MODIFIED:20250131T045519Z
UID:10001529-1694113200-1694120400@events.excelsiorcitizen.com
SUMMARY:Chiefs Watch Party at DCBC
DESCRIPTION:We are staying open a bit later for this occasion to watch the Chiefs play their Season Home Opener with any fans who want to watch at the brewery with us!!!The game starts at 7:20PM.\nLet’s go\, Chiefs!
URL:https://events.excelsiorcitizen.com/event/chiefs-watch-party-at-dcbc-2/
LOCATION:MO
END:VEVENT
BEGIN:VEVENT
DTSTART;TZID=America/Chicago:20230908T113000
DTEND;TZID=America/Chicago:20230908T120000
DTSTAMP:20260420T181022
CREATED:20250131T045547Z
LAST-MODIFIED:20250131T045547Z
UID:10001550-1694172600-1694174400@events.excelsiorcitizen.com
SUMMARY:Education on Flu Safety
DESCRIPTION:On September 8th at 11:30am the Excelsior Springs Hospital’s Health and Wellness series will hold an Education on Flu Safety program presented by Angela Ochoa\, Infection Prevention Specialist at ESH.With Flu Season approaching\, their Infection Prevention Specialist is coming to educate us on practical ways that we can keep ourselves and our loved ones health and free from infection.
URL:https://events.excelsiorcitizen.com/event/education-on-flu-safety/
LOCATION:MO
END:VEVENT
BEGIN:VEVENT
DTSTART;TZID=America/Chicago:20230908T190000
DTEND;TZID=America/Chicago:20230908T210000
DTSTAMP:20260420T181022
CREATED:20250131T045527Z
LAST-MODIFIED:20250131T045527Z
UID:10001537-1694199600-1694206800@events.excelsiorcitizen.com
SUMMARY:Paint and Sip – Sunflower
DESCRIPTION:Joint the Talented Grace Beshore as she teaches you to paint this beautiful sunflower  picture.To reserve a spot send Moments and Memories a pm or call 8165140564
URL:https://events.excelsiorcitizen.com/event/paint-and-sip-sunflower/
LOCATION:MO
END:VEVENT
BEGIN:VEVENT
DTSTART;TZID=America/Chicago:20230909T090000
DTEND;TZID=America/Chicago:20230909T140000
DTSTAMP:20260420T181022
CREATED:20250131T045458Z
LAST-MODIFIED:20250131T045458Z
UID:10001516-1694250000-1694268000@events.excelsiorcitizen.com
SUMMARY:9U Tigers Baseball Carwash Fundraiser
DESCRIPTION:Join the 9U Tigers Baseball Team for a Carwash Fundraiser on Saturday\, September 9th from 9am-2pm at Auto Zone in Excelsior Springs\, 1750 W Jesse James Rd. Donations accepted for gear\, tournaments\, and uniforms!
URL:https://events.excelsiorcitizen.com/event/9u-tigers-baseball-carwash-fundraiser/
LOCATION:MO
END:VEVENT
BEGIN:VEVENT
DTSTART;TZID=America/Chicago:20230909T103000
DTEND;TZID=America/Chicago:20230909T170000
DTSTAMP:20260420T181022
CREATED:20250131T050913Z
LAST-MODIFIED:20250131T050913Z
UID:10001827-1694255400-1694278800@events.excelsiorcitizen.com
SUMMARY:Trolley Wine Tour
DESCRIPTION:Your wine tour includes these four destinations:WILLOW SPRING MERCANTILE- Your adventure begins in this unique downtown Excelsior Springs mercantile established by Jim and Daphne Bowman in 2005. Willow Spring boasts the state’s largest selection of Missouri wines\, craft beers\, and distilled spirits. Enjoy brunch paired with Missouri-made wines in their exquisite wine cellar bistro. Brunch includes made from scratch ham and vegetable quiche\, spinach salad with fresh berries\, and fresh fruit. A chocolate cappuccino brownie is served for dessert.\nFENCE STILE WINERY – Second up\, Fence Stile\, is situated on 55 acres of land and has 8 varieties of grapes making up 10 acres of vineyards. The estate winery focuses on making dry and semi-dry wines and has a couple of sweet wines to offer as well. The state-of-the-art winery is located underground adjacent to the wine caves where the wine barrels are stored. Tours of the winery and wine caves are available which include an extensive tasting of the wines with the winemaker. Fence Stile is also a distillery crafting small-batch spirits branded as Nyx Spirits. Guests can enjoy wine\, beer\, spirits\, cocktails\, mimosas\, and sangrias while they enjoy live music\, movies on the patio\, firepit Fridays\, yoga\, food and wine pairings\, and many more seasonal activities. Indoor and outdoor space is available.\nVAN TILL FAMILY FARM WINERY – Your next destination is an enjoyable 15-minute trolley ride to beautiful and scenic Rayville. Here\, you will visit the Van Till family known for their warm hospitality\, Country garden setting\, great wine\, and wood-fired oven pizza. Order ahead sheets will be on the trolley ready for you to place your orders. (NOT included in ticket price.)\nSHAMROCK HILLS VINEYARD & WINERY – Your last stop is Excelsior’s newest winery venue. Your taste buds will be delighted with the award-winning Four Horses and a Dog wines and the Irish-themed hospitality experience where you are treated as family. Owners Mike and Denise Riley\, along with the entire Shamrock Hills staff\, look forward to continuing the legacy that “Four Horses and a Dog Vineyard and Winery” established back in 2008. The Rileys will be planting their first four acres of vines in the spring of 2023 and look forward to producing wines of their own in the future\nClick for ticket information
URL:https://events.excelsiorcitizen.com/event/trolley-wine-tour-8/
LOCATION:MO
END:VEVENT
BEGIN:VEVENT
DTSTART;TZID=America/Chicago:20230909T170000
DTEND;TZID=America/Chicago:20230909T200000
DTSTAMP:20260420T181022
CREATED:20250131T045602Z
LAST-MODIFIED:20250131T045602Z
UID:10001562-1694278800-1694289600@events.excelsiorcitizen.com
SUMMARY:Music on the Patio with Kari King
DESCRIPTION:We are excited to have Kari King\, an Excelsior native. Kari has been playing guitar since she was 9 yrs. old\, everything from oldies to today’s hits and everything in between.
URL:https://events.excelsiorcitizen.com/event/music-on-the-patio-with-kari-king-2/
LOCATION:MO
END:VEVENT
BEGIN:VEVENT
DTSTART;TZID=America/Chicago:20230909T180000
DTEND;TZID=America/Chicago:20230909T200000
DTSTAMP:20260420T181022
CREATED:20250131T045505Z
LAST-MODIFIED:20250131T045505Z
UID:10001521-1694282400-1694289600@events.excelsiorcitizen.com
SUMMARY:Noah Moon Concert
DESCRIPTION:Iron Youth of Excelsior Springs of the First Church of the Nazarene presents Noah Moon in concert with outdoor games\, campfire\, and food to open this FREE event followed by a Christian Rap Concert at 1308 Tracy Ave\, Excelsior Springs on Sept 9th at 6pm.
URL:https://events.excelsiorcitizen.com/event/noah-moon-concert/
LOCATION:MO
END:VEVENT
BEGIN:VEVENT
DTSTART;TZID=America/Chicago:20230911T050000
DTEND;TZID=America/Chicago:20230911T190000
DTSTAMP:20260420T181022
CREATED:20250131T045422Z
LAST-MODIFIED:20250131T045422Z
UID:10001489-1694408400-1694458800@events.excelsiorcitizen.com
SUMMARY:ESHS Football: JV Game
DESCRIPTION:ESHS vs Winnetonka at Tiger Stadium
URL:https://events.excelsiorcitizen.com/event/eshs-football-jv-game/
LOCATION:MO
END:VEVENT
BEGIN:VEVENT
DTSTART;TZID=America/Chicago:20230911T160000
DTEND;TZID=America/Chicago:20230911T170000
DTSTAMP:20260420T181022
CREATED:20250131T045438Z
LAST-MODIFIED:20250131T045438Z
UID:10001502-1694448000-1694451600@events.excelsiorcitizen.com
SUMMARY:September PALS Meeting
DESCRIPTION:Join us right after dismissal to discuss important topics regarding the Lewis students\, activities and volunteer opportunities!
URL:https://events.excelsiorcitizen.com/event/september-pals-meeting/
LOCATION:MO
END:VEVENT
BEGIN:VEVENT
DTSTART;TZID=America/Chicago:20230911T160000
DTEND;TZID=America/Chicago:20230911T180000
DTSTAMP:20260420T181022
CREATED:20250131T045416Z
LAST-MODIFIED:20250131T045419Z
UID:10001483-1694448000-1694455200@events.excelsiorcitizen.com
SUMMARY:ESHS Volleyball: Varsity Game
DESCRIPTION:ESHS vs Lawson at ESHS
URL:https://events.excelsiorcitizen.com/event/eshs-volleyball-varsity-game-2/
LOCATION:MO
END:VEVENT
BEGIN:VEVENT
DTSTART;TZID=America/Chicago:20230911T170000
DTEND;TZID=America/Chicago:20230911T180000
DTSTAMP:20260420T181022
CREATED:20250131T045417Z
LAST-MODIFIED:20250131T045420Z
UID:10001485-1694451600-1694455200@events.excelsiorcitizen.com
SUMMARY:Volleyball: C Gold Game
DESCRIPTION:ESHS vs Lawson at ESHS
URL:https://events.excelsiorcitizen.com/event/volleyball-c-gold-game/
LOCATION:MO
END:VEVENT
BEGIN:VEVENT
DTSTART;TZID=America/Chicago:20230911T180000
DTEND;TZID=America/Chicago:20230911T190000
DTSTAMP:20260420T181022
CREATED:20250131T045444Z
LAST-MODIFIED:20250131T045444Z
UID:10001505-1694455200-1694458800@events.excelsiorcitizen.com
SUMMARY:September SOS Meeting
DESCRIPTION:We will be continuing to plan the fall festival and following up with Elkhorn night at the football game and Pennies for pumpkins.
URL:https://events.excelsiorcitizen.com/event/september-sos-meeting-2/
LOCATION:MO
END:VEVENT
BEGIN:VEVENT
DTSTART;TZID=America/Chicago:20230911T180000
DTEND;TZID=America/Chicago:20230911T190000
DTSTAMP:20260420T181022
CREATED:20250131T045419Z
LAST-MODIFIED:20250131T045419Z
UID:10001488-1694455200-1694458800@events.excelsiorcitizen.com
SUMMARY:ESHS Volleyball: JV Game
DESCRIPTION:ESHS vs Lawson at ESHS
URL:https://events.excelsiorcitizen.com/event/eshs-volleyball-jv-game-3/
LOCATION:MO
END:VEVENT
BEGIN:VEVENT
DTSTART;TZID=America/Chicago:20230911T180000
DTEND;TZID=America/Chicago:20230911T190000
DTSTAMP:20260420T181022
CREATED:20250131T045417Z
LAST-MODIFIED:20250131T045417Z
UID:10001484-1694455200-1694458800@events.excelsiorcitizen.com
SUMMARY:ESHS Volleyball: JV Game
DESCRIPTION:ESHS vs Lawson at ESHS
URL:https://events.excelsiorcitizen.com/event/eshs-volleyball-jv-game-2/
LOCATION:MO
END:VEVENT
BEGIN:VEVENT
DTSTART;TZID=America/Chicago:20230911T180000
DTEND;TZID=America/Chicago:20230911T200000
DTSTAMP:20260420T181022
CREATED:20250131T045533Z
LAST-MODIFIED:20250131T045533Z
UID:10001539-1694455200-1694462400@events.excelsiorcitizen.com
SUMMARY:Mother-Daughter Circle
DESCRIPTION:The Mother-Daughter Circle is a structured support group for mothers and theirdaughters\, ages 11-18. The purpose of the circle is to promote a healthy and sustaining\nbond between mothers and daughters during the transitional years from girlhood to\nyoung womanhood.\nThe Mother-Daughter Circle provides a safe\, consistent and strengths-based approach\nto supporting mothers or mother-figures and daughters on their relationship journey.\nThese female-responsive skills and activities will encourage development of:\n Empathy and Understanding\n Healthy Communication Skills\n Stress Reduction Skills\n Clear and Reasonable Limit Setting\, Expectations and Boundaries\n Accountability and Ownership Practices\n Relationship Success Strategies and Affirmations\n Explore Meanings and Messages about Being Female\nThese sessions are once a week for two hours held over a four week period. Each\nsession has 4-6 pairs of mothers/female caregivers and daughters. This is a free\nprogram provided by Clay County Family Court.\nPlease RSVP to Teri Hargrave at 816-736-8402.\nSeptember 11th –October 2 nd 6pm-8pm\nLocation: Liberty Fire Department\n200 W. Mississippi\, Liberty\, MO 64068
URL:https://events.excelsiorcitizen.com/event/mother-daughter-circle-4/
LOCATION:MO
END:VEVENT
BEGIN:VEVENT
DTSTART;TZID=America/Chicago:20230912T160000
DTEND;TZID=America/Chicago:20230912T180000
DTSTAMP:20260420T181022
CREATED:20250131T045419Z
LAST-MODIFIED:20250131T045419Z
UID:10001487-1694534400-1694541600@events.excelsiorcitizen.com
SUMMARY:ESHS Softball: Varsity Game
DESCRIPTION:ESHS vs Fort Osage at ESHS
URL:https://events.excelsiorcitizen.com/event/eshs-softball-varsity-game-2/
LOCATION:MO
END:VEVENT
END:VCALENDAR