BEGIN:VCALENDAR
VERSION:2.0
PRODID:-// - ECPv6.15.20//NONSGML v1.0//EN
CALSCALE:GREGORIAN
METHOD:PUBLISH
X-ORIGINAL-URL:https://events.excelsiorcitizen.com
X-WR-CALDESC:Events for 
REFRESH-INTERVAL;VALUE=DURATION:PT1H
X-Robots-Tag:noindex
X-PUBLISHED-TTL:PT1H
BEGIN:VTIMEZONE
TZID:America/Chicago
BEGIN:DAYLIGHT
TZOFFSETFROM:-0600
TZOFFSETTO:-0500
TZNAME:CDT
DTSTART:20220313T080000
END:DAYLIGHT
BEGIN:STANDARD
TZOFFSETFROM:-0500
TZOFFSETTO:-0600
TZNAME:CST
DTSTART:20221106T070000
END:STANDARD
BEGIN:DAYLIGHT
TZOFFSETFROM:-0600
TZOFFSETTO:-0500
TZNAME:CDT
DTSTART:20230312T080000
END:DAYLIGHT
BEGIN:STANDARD
TZOFFSETFROM:-0500
TZOFFSETTO:-0600
TZNAME:CST
DTSTART:20231105T070000
END:STANDARD
BEGIN:DAYLIGHT
TZOFFSETFROM:-0600
TZOFFSETTO:-0500
TZNAME:CDT
DTSTART:20240310T080000
END:DAYLIGHT
BEGIN:STANDARD
TZOFFSETFROM:-0500
TZOFFSETTO:-0600
TZNAME:CST
DTSTART:20241103T070000
END:STANDARD
END:VTIMEZONE
BEGIN:VEVENT
DTSTART;TZID=America/Chicago:20230803T170000
DTEND;TZID=America/Chicago:20230803T183000
DTSTAMP:20260420T131017
CREATED:20250131T045751Z
LAST-MODIFIED:20250131T045751Z
UID:10001607-1691082000-1691087400@events.excelsiorcitizen.com
SUMMARY:Winery/Wine Cave Tour & Candlelit Tasting with Premium wines
DESCRIPTION:Enjoy a tour of the winery and wine cave. Learn about Fence Stile’s wines and grape varieties\, the winery’s history\, Brix (testing the sugar level in grapes)\, vineyard management\, and terroir of the estate. Finish with a candlelit tasting in the CELLAR57 club room and the wine caves.Keep the tasting glass and enjoy 10% off bottles of wine purchased after the tour. $48/person.\nReservations required. RSVP via the ticket link.\nCall 816-500-6465 to schedule a custom tour.
URL:https://events.excelsiorcitizen.com/event/winery-wine-cave-tour-candlelit-tasting-with-premium-wines-51/
LOCATION:MO
END:VEVENT
BEGIN:VEVENT
DTSTART;TZID=America/Chicago:20230803T170000
DTEND;TZID=America/Chicago:20230803T200000
DTSTAMP:20260420T131017
CREATED:20250131T050451Z
LAST-MODIFIED:20250131T050451Z
UID:10001753-1691082000-1691092800@events.excelsiorcitizen.com
SUMMARY:The Elms Spa Back to School Charity Event
DESCRIPTION:Attendees will have access to the grotto and spa sanctuary from 5pm- 8pm. Light refreshments\, spa treatments\, and wellness classes will be available throughout the evening.Click here to register
URL:https://events.excelsiorcitizen.com/event/the-elms-spa-back-to-school-charity-event/
LOCATION:MO
END:VEVENT
BEGIN:VEVENT
DTSTART;TZID=America/Chicago:20230803T180000
DTEND;TZID=America/Chicago:20230803T193000
DTSTAMP:20260420T131017
CREATED:20250131T045936Z
LAST-MODIFIED:20250131T045936Z
UID:10001631-1691085600-1691091000@events.excelsiorcitizen.com
SUMMARY:Community Conversation: Access to Healthy Food
DESCRIPTION:We want to hear from you! Join the Northland Health Alliance for a conversation on how we as a community can create and support an environment where accessing and preparing healthy food is the easy\, affordable choice. All Community Conversation events are open to anyone who lives\, works or plays in the Northland.This event will take place at The Montgomery Event Center in Excelsior Springs.\nFREE childcare and dinner provided. The first 30 attendees will also receive a $25 QuikTrip gift card. If you plan to use childcare – please RSVP by July 12 by emailing info@northlandkchealthalliance.org
URL:https://events.excelsiorcitizen.com/event/community-conversation-access-to-healthy-food/
LOCATION:MO
END:VEVENT
BEGIN:VEVENT
DTSTART;TZID=America/Chicago:20230804T100000
DTEND;TZID=America/Chicago:20230806T190000
DTSTAMP:20260420T131017
CREATED:20250131T050116Z
LAST-MODIFIED:20250131T050116Z
UID:10001664-1691143200-1691348400@events.excelsiorcitizen.com
SUMMARY:Tax-Free Weekend at Wild Bunch
DESCRIPTION:Come shop over 200 vendors on tax free weekend!!!
URL:https://events.excelsiorcitizen.com/event/tax-free-weekend-at-wild-bunch/
LOCATION:MO
END:VEVENT
BEGIN:VEVENT
DTSTART;TZID=America/Chicago:20230804T140000
DTEND;TZID=America/Chicago:20230804T153000
DTSTAMP:20260420T131017
CREATED:20250131T045750Z
LAST-MODIFIED:20250131T045750Z
UID:10001606-1691157600-1691163000@events.excelsiorcitizen.com
SUMMARY:Guided Winery/Wine Cave Tour & Candlelit Tasting with Premium Wines
DESCRIPTION:Enjoy a tour of the winery and wine cave. Learn about Fence Stile’s wines and grape varieties\, the winery’s history\, Brix (testing the sugar level in grapes)\, vineyard management\, and terroir of the estate. Finish with a candlelit tasting in the CELLAR57 club room and the wine caves.Keep the tasting glass and enjoy 10% off bottles of wine purchased after the tour. $48/person. Have a nondrinker in your group? Use nondrinker as a coupon code at checkout for a $10 discount.\nReservations required. RSVP via the ticket link.\nCall 816-500-6465 to schedule a custom tour.
URL:https://events.excelsiorcitizen.com/event/guided-winery-wine-cave-tour-candlelit-tasting-with-premium-wines-31/
LOCATION:MO
END:VEVENT
BEGIN:VEVENT
DTSTART;TZID=America/Chicago:20230804T170000
DTEND;TZID=America/Chicago:20230804T190000
DTSTAMP:20260420T131017
CREATED:20250131T045812Z
LAST-MODIFIED:20250131T045812Z
UID:10001622-1691168400-1691175600@events.excelsiorcitizen.com
SUMMARY:Live Music from Tom Riggs
DESCRIPTION:Join us for a live performance from Excelsior Springs native Tom Riggs from 5pm-7pm.
URL:https://events.excelsiorcitizen.com/event/live-music-from-tom-riggs/
LOCATION:MO
END:VEVENT
BEGIN:VEVENT
DTSTART;TZID=America/Chicago:20230804T173000
DTEND;TZID=America/Chicago:20230804T180000
DTSTAMP:20260420T131017
CREATED:20250131T045936Z
LAST-MODIFIED:20250131T045936Z
UID:10001632-1691170200-1691172000@events.excelsiorcitizen.com
SUMMARY:Kids in the Kitchen
DESCRIPTION:Join us for Kids in the Kitchen! Your child will learn how to make a meal from start to finish while learning kitchen safety and food handling techniques. We will be making waffle iron pizzas!Ages: 6-12 Years\nCost: $20/child\nRegistration deadline: August 1st\nDate: August 4th @ 5:30-7:30PM\nExcelsior Springs community Center Community Rooms\nRegister NOW at the Welcome Desk or online: https://es-prcc.activityreg.com/
URL:https://events.excelsiorcitizen.com/event/kids-in-the-kitchen-7/
LOCATION:MO
END:VEVENT
BEGIN:VEVENT
DTSTART;TZID=America/Chicago:20230804T173000
DTEND;TZID=America/Chicago:20230804T190000
DTSTAMP:20260420T131017
CREATED:20250131T045751Z
LAST-MODIFIED:20250131T045751Z
UID:10001608-1691170200-1691175600@events.excelsiorcitizen.com
SUMMARY:Winery/Wine Cave Tour & Candlelit Tasting with Premium wines
DESCRIPTION:Enjoy a tour of the winery and wine cave. Learn about Fence Stile’s wines and grape varieties\, the winery’s history\, Brix (testing the sugar level in grapes)\, vineyard management\, and terroir of the estate. Finish with a candlelit tasting in the CELLAR57 club room and the wine caves.Keep the tasting glass and enjoy 10% off bottles of wine purchased after the tour. $48/person.\nReservations required. RSVP via the ticket link.\nCall 816-500-6465 to schedule a custom tour.
URL:https://events.excelsiorcitizen.com/event/winery-wine-cave-tour-candlelit-tasting-with-premium-wines-52/
LOCATION:MO
END:VEVENT
BEGIN:VEVENT
DTSTART;TZID=America/Chicago:20230805T140000
DTEND;TZID=America/Chicago:20230805T160000
DTSTAMP:20260420T131017
CREATED:20250131T045757Z
LAST-MODIFIED:20250131T045757Z
UID:10001609-1691244000-1691251200@events.excelsiorcitizen.com
SUMMARY:Live Music – Benjamin Gipson
DESCRIPTION:Enjoy free live music by Benjamin Gipson. Sip on wine\, sangria\, beer\, or a wine cocktail while relaxing on our patio.
URL:https://events.excelsiorcitizen.com/event/live-music-benjamin-gipson/
LOCATION:MO
END:VEVENT
BEGIN:VEVENT
DTSTART;TZID=America/Chicago:20230806T110000
DTEND;TZID=America/Chicago:20230806T120000
DTSTAMP:20260420T131017
CREATED:20250131T045750Z
LAST-MODIFIED:20250131T045750Z
UID:10001605-1691319600-1691323200@events.excelsiorcitizen.com
SUMMARY:Fantastic Auction!
DESCRIPTION:At the Auction BarnMac’s Fantastic Auction \nWe will be selling the following items from 2 different estates:� Antiques\, Household Items\, Tools and More\nAntiques: 12 metal lunch boxes\, high-low flyer wagon\, padlock with keys\, old wood baseball bats\, glass butter churns\, lightning rods\, lanterns\, kerosene lamps\, coffee grinder\, crocks\, iron skillet and dutch oven\, advertising items\, costume jewelry with some sterling and gold\, John Deere wood box\, large selection of antique dolls including Madam Alexandria\, Dolly Parton\, lizzies\, china\, bisque and more\, Milk cans\, Wagner aluminum pans\, Monterrey metal dishes\, watch makers cabinet with watch parts\, falcon cashmere\, nice lot of roseville and wall pottery\, glass baskets\, fluted bowls\, jewel tea pitcher and more\, lamps\, pictures\, Harry Potter books including 1st edition\, small trunk\, brass items\, knifes\, state quarter set\, very nice antique hoosiers oak cabinet.\nInstruments and stereo equip: titan accordion\, violin with case and bows\, drum\, guitar\, miniature fender guitar souvenirs\, comp lighting system for bands or photography\, pioneer audio/video recorder\, pioneer cd player\, pioneer digital signal processor\, Fisher turntable\, Zenith receiver speakers.\nHousehold items: laptop\, tablet\, wet suit\, camping stoves and lanterns\, xmas items\, plastic bubble gum banks\, Hot Wheels\, toys\, snakeskin cowgirl boots\, fish lo-k-tor\, hats\, mirror\, swivel chair\, kitchen hutch\, easel\, NuWave infrared oven\, coffee pot\, wireless bbq thermometer\, Uniden pocket size radar detector\, avon items\, food steamer\, rogers and bros silverware set\, puzzles\, unopened vhs tapes\, pizza oven\, collapsible ladder\, safe\, Troy-Bilt gas weedeater\, dolly\, roll around cart\, 60 inch bumper jack\, power smart tiller\, propane heater\, fan car parts\, new radiator for 2008-2010 for f250-350 6.4 diesel\, Sawzall\, pneumatic air cutter\, air tools\, axes and pick\, gas cans\, bottle jack\, filters\, carpenter wood box\, air drills\, (3) self propelled lawn mowers\, troy built 19hp 42″ cut riding mower (all run) and other assorted tools and kitchen items. still unpacking items. \nHope to see all my auction friends!
URL:https://events.excelsiorcitizen.com/event/fantastic-auction-5/
LOCATION:MO
END:VEVENT
BEGIN:VEVENT
DTSTART;TZID=America/Chicago:20230806T140000
DTEND;TZID=America/Chicago:20230806T153000
DTSTAMP:20260420T131017
CREATED:20250131T045731Z
LAST-MODIFIED:20250131T045731Z
UID:10001594-1691330400-1691335800@events.excelsiorcitizen.com
SUMMARY:Guided Winery/Wine Cave Tour & Candlelit Tasting with Premium Wines
DESCRIPTION:Enjoy a tour of the winery and wine cave. Learn about Fence Stile’s wines and grape varieties\, the winery’s history\, Brix (testing the sugar level in grapes)\, vineyard management\, and terroir of the estate. Finish with a candlelit tasting in the CELLAR57 club room and the wine caves.Keep the tasting glass and enjoy 10% off bottles of wine purchased after the tour. $48/person.\nReservations required. RSVP via the ticket link.\nCall 816-500-6465 to schedule a custom tour.
URL:https://events.excelsiorcitizen.com/event/guided-winery-wine-cave-tour-candlelit-tasting-with-premium-wines-29/
LOCATION:MO
END:VEVENT
BEGIN:VEVENT
DTSTART;TZID=America/Chicago:20230806T153000
DTEND;TZID=America/Chicago:20230806T173000
DTSTAMP:20260420T131017
CREATED:20250131T045811Z
LAST-MODIFIED:20250131T045811Z
UID:10001621-1691335800-1691343000@events.excelsiorcitizen.com
SUMMARY:Live Music from Kari King
DESCRIPTION:Join us for a live performance from Excelsior Springs native Kari King from 3:30pm-5:30pm.
URL:https://events.excelsiorcitizen.com/event/live-music-from-kari-king/
LOCATION:MO
END:VEVENT
BEGIN:VEVENT
DTSTART;TZID=America/Chicago:20230808T083000
DTEND;TZID=America/Chicago:20230808T091500
DTSTAMP:20260420T131017
CREATED:20250131T045711Z
LAST-MODIFIED:20250131T045711Z
UID:10001591-1691483400-1691486100@events.excelsiorcitizen.com
SUMMARY:TABATA w/ MARY KATE
DESCRIPTION:This 45min class is sure to get your heart rate up!! Our timer is set to intervals of 20 seconds work and 10 seconds rest!! You can choose your level of difficulty or ease as it’s YOUR 20seconds of work! ALL fitness levels welcome.FREE to all LIFT Members and $5 for guests!
URL:https://events.excelsiorcitizen.com/event/tabata-w-mary-kate/
LOCATION:MO
END:VEVENT
BEGIN:VEVENT
DTSTART;TZID=America/Chicago:20230808T110000
DTEND;TZID=America/Chicago:20230808T190000
DTSTAMP:20260420T131017
CREATED:20250131T045744Z
LAST-MODIFIED:20250131T045744Z
UID:10001599-1691492400-1691521200@events.excelsiorcitizen.com
SUMMARY:On the Hook Fish and Chips Food Truck
DESCRIPTION:(8/8) We’re in Excelsior Springs\, MO! On Tuesday\, August 8\, come to Tractor Supply Co. (115 Crown Hill Rd Suite 5) from 11:00AM to 7:00PM for the absolute BEST WILD ALASKAN COD FISH & CHIPS in the Midwest!
URL:https://events.excelsiorcitizen.com/event/on-the-hook-fish-and-chips-food-truck-5/
LOCATION:MO
END:VEVENT
BEGIN:VEVENT
DTSTART;TZID=America/Chicago:20230809T113000
DTEND;TZID=America/Chicago:20230809T120000
DTSTAMP:20260420T131017
CREATED:20250131T045759Z
LAST-MODIFIED:20250131T045759Z
UID:10001613-1691580600-1691582400@events.excelsiorcitizen.com
SUMMARY:Excelsior Springs Hospital Trivia
DESCRIPTION:Get ready for Round Two of Trivia with the Excelsior Springs Hospital’s Tina Cook!
URL:https://events.excelsiorcitizen.com/event/excelsior-springs-hospital-trivia/
LOCATION:MO
END:VEVENT
BEGIN:VEVENT
DTSTART;TZID=America/Chicago:20230809T160000
DTEND;TZID=America/Chicago:20230809T170000
DTSTAMP:20260420T131017
CREATED:20250131T045712Z
LAST-MODIFIED:20250131T045712Z
UID:10001592-1691596800-1691600400@events.excelsiorcitizen.com
SUMMARY:A Yellow Box of Magic Balloon Art Demonstrations
DESCRIPTION: Celebrate National Farmers Market Week with us on August 9th! We’re excited to join the nationwide celebration of Farmers Market Week\, and we have some extra special fun planned just for you!\nOne of the highlights of the day will be A Yellow Box of Magic\, who will be mesmerizing us with incredible balloon art demonstrations! \n Let us know if your little ones are planning to be there\, so we can ensure we have enough balloons for everyone to enjoy!  http://rb.gy/exv2c\nIf you don’t have a Google account\, just message the page with names of kids wanting to attend
URL:https://events.excelsiorcitizen.com/event/a-yellow-box-of-magic-balloon-art-demonstrations/
LOCATION:MO
END:VEVENT
BEGIN:VEVENT
DTSTART;TZID=America/Chicago:20230809T173000
DTEND;TZID=America/Chicago:20230809T190000
DTSTAMP:20260420T131017
CREATED:20250131T045806Z
LAST-MODIFIED:20250131T045806Z
UID:10001617-1691602200-1691607600@events.excelsiorcitizen.com
SUMMARY:Happy Camper Social Cookie Decorating Class
DESCRIPTION:Register Online:www.816Bakehouse.com\nThis class is for a fun night out or the person who is curious what cookie decorating is all about! No experience is necessary for this cookie class- it is beginner friendly.\nIf you have limited experiences with decorating cookies or if you’re looking for a fun night out with family or friends\, this class is for you!\nWe will be decorating a “Happy Camper” themed set that tastes amazing and will look even better once you’ve completed your decorating!\nClass will be held Wednesday\, August 9\, 5:30pm-7:00pm at Dubious Claims Brewery located at 451 S. Thompson\, Excelsior Springs\, MO 64024. Parking is free and easy!\nThere will be plenty of time to decorate and ask questions along the way. It’ll be a blast whether you’re coming with a friend\, family member\, or solo!\nYou will receive an email confirmation within 48 business hours of online order at www.816Bakehouse.com.\nI provide EVERYTHING you need (the cookies\, piping bags and icing\, decorations\, take home box\, step-by-step cookie guide\, practice sheets\, parchment paper\, and recipes) all I need is YOU!\nSorry\, no spectators. Space is limited. Each person in attendance must purchase a ticket.\nCome early or stay late to enjoy delicious Dubious Claims food and beer!
URL:https://events.excelsiorcitizen.com/event/happy-camper-social-cookie-decorating-class/
LOCATION:MO
END:VEVENT
BEGIN:VEVENT
DTSTART;TZID=America/Chicago:20230810T183000
DTEND;TZID=America/Chicago:20230810T200000
DTSTAMP:20260420T131017
CREATED:20250131T045733Z
LAST-MODIFIED:20250131T045733Z
UID:10001598-1691692200-1691697600@events.excelsiorcitizen.com
SUMMARY:Music Bingo: Playlist Classic Rock
DESCRIPTION:This game is part “NAME THAT TUNE” + PART “BINGO”. When you hear the song\, mark it off on your bingo cards. Win Prizes! Playlists change each game!\nPlaylist: Classic Rock hits\, Zoo Rock
URL:https://events.excelsiorcitizen.com/event/music-bingo-playlist-classic-rock/
LOCATION:MO
END:VEVENT
BEGIN:VEVENT
DTSTART;TZID=America/Chicago:20230811T083000
DTEND;TZID=America/Chicago:20230811T093000
DTSTAMP:20260420T131017
CREATED:20250131T045712Z
LAST-MODIFIED:20250131T045712Z
UID:10001593-1691742600-1691746200@events.excelsiorcitizen.com
SUMMARY:CORE & MOBILITY w/ Jessica
DESCRIPTION:This workout focuses on strengthening the core with challenging exercises targeting the rectus abdominis\, obliques\, transverse abdominis\, and the lower back. The mobility exercises stretch the entire body. This is a challenging and educational class!
URL:https://events.excelsiorcitizen.com/event/core-mobility-w-jessica/
LOCATION:MO
END:VEVENT
BEGIN:VEVENT
DTSTART;TZID=America/Chicago:20230811T140000
DTEND;TZID=America/Chicago:20230811T153000
DTSTAMP:20260420T131017
CREATED:20250131T045732Z
LAST-MODIFIED:20250131T045732Z
UID:10001595-1691762400-1691767800@events.excelsiorcitizen.com
SUMMARY:Guided Winery/Wine Cave Tour & Candlelit Tasting with Premium Wines
DESCRIPTION:Enjoy a tour of the winery and wine cave. Learn about Fence Stile’s wines and grape varieties\, the winery’s history\, Brix (testing the sugar level in grapes)\, vineyard management\, and terroir of the estate. Finish with a candlelit tasting in the CELLAR57 club room and the wine caves.Keep the tasting glass and enjoy 10% off bottles of wine purchased after the tour. $48/person.\nReservations required. RSVP via the ticket link.\nCall 816-500-6465 to schedule a custom tour.
URL:https://events.excelsiorcitizen.com/event/guided-winery-wine-cave-tour-candlelit-tasting-with-premium-wines-30/
LOCATION:MO
END:VEVENT
BEGIN:VEVENT
DTSTART;TZID=America/Chicago:20230811T180000
DTEND;TZID=America/Chicago:20230811T190000
DTSTAMP:20260420T131017
CREATED:20250131T045805Z
LAST-MODIFIED:20250131T045805Z
UID:10001615-1691776800-1691780400@events.excelsiorcitizen.com
SUMMARY:Youth Water Aerobics
DESCRIPTION:Enjoy this kids exclusive class one day only! Great for ages 5-15 years that can swim on their own comfortably. Child must pass the swim test or wear a life jacket if parent is not present. This class is taught by Trish\, Certified Personal Trainer & Fitness Instructor.This is FREE for all! This slide will be open for free swim after class!\nAugust 11th @ 6:00PM at the Excelsior Springs Community Center Pool.
URL:https://events.excelsiorcitizen.com/event/youth-water-aerobics-6/
LOCATION:MO
END:VEVENT
BEGIN:VEVENT
DTSTART;TZID=America/Chicago:20230811T200000
DTEND;TZID=America/Chicago:20230811T213000
DTSTAMP:20260420T131017
CREATED:20250131T045732Z
LAST-MODIFIED:20250131T045733Z
UID:10001597-1691784000-1691789400@events.excelsiorcitizen.com
SUMMARY:Wine-In Movie Night – Movies on the patio
DESCRIPTION:Winery opens at noon. Spend the afternoon with us and take a winery tour before the movie. Come early and enjoy a bottle of wine.\nJoin the email listing to see what movies are playing. \nThe movie is free for winery guests. (weather permitting). Movies begin around dusk.
URL:https://events.excelsiorcitizen.com/event/wine-in-movie-night-movies-on-the-patio-12/
LOCATION:MO
END:VEVENT
BEGIN:VEVENT
DTSTART;TZID=America/Chicago:20230812T080000
DTEND;TZID=America/Chicago:20230812T110000
DTSTAMP:20260420T131017
CREATED:20250131T050002Z
LAST-MODIFIED:20250131T050002Z
UID:10001634-1691827200-1691838000@events.excelsiorcitizen.com
SUMMARY:Athleisure Swap & Shop
DESCRIPTION:Sell\, Trade and Shop athleisure clothing!Do you want a place to sell your gently used athleisure clothing? Join us on August 12th for a swap and shop event!\nAnyone who wants to sell will need to reserve a table for $10 through the ESCC front desk or online.\nRULES:\nTables are 5’x2.5′ tables. You can reserve more than one. Each table is $10.\nYou set your own prices/swapping rules.\nYou choose your preferred payment methods.\nONLY athletic/workout/athleisure clothing and shoes allowed.\nAll clothing must be in good shape and clean.\nFREE to Shop!
URL:https://events.excelsiorcitizen.com/event/athleisure-swap-shop/
LOCATION:MO
END:VEVENT
BEGIN:VEVENT
DTSTART;TZID=America/Chicago:20230812T080000
DTEND;TZID=America/Chicago:20230812T140000
DTSTAMP:20260420T131017
CREATED:20250131T045705Z
LAST-MODIFIED:20250131T045705Z
UID:10001588-1691827200-1691848800@events.excelsiorcitizen.com
SUMMARY:Wild Bunch – Last Saturday Sale of the Year
DESCRIPTION:Come set up and sell your stuff for just $20! Set up is at 7am\, all items welcome!You can call the shop and reserve a spot or show up that morning…\nCall with questions\n816-629-1052
URL:https://events.excelsiorcitizen.com/event/wild-bunch-last-saturday-sale-of-the-year/
LOCATION:MO
END:VEVENT
BEGIN:VEVENT
DTSTART;TZID=America/Chicago:20230812T090000
DTEND;TZID=America/Chicago:20230812T100000
DTSTAMP:20260420T131017
CREATED:20250131T045711Z
LAST-MODIFIED:20250131T045711Z
UID:10001590-1691830800-1691834400@events.excelsiorcitizen.com
SUMMARY:YIN YANG YOGA w/ Chelsea
DESCRIPTION:Yin Yang Yoga blends two styles of yoga into one practice – bringing together the benefits of passively holding yoga poses with more dynamic sequences and standing postures.FREE for LIFT members $5 for guests
URL:https://events.excelsiorcitizen.com/event/yin-yang-yoga-w-chelsea/
LOCATION:MO
END:VEVENT
BEGIN:VEVENT
DTSTART;TZID=America/Chicago:20230812T100000
DTEND;TZID=America/Chicago:20230812T110000
DTSTAMP:20260420T131017
CREATED:20250131T045805Z
LAST-MODIFIED:20250131T045805Z
UID:10001616-1691834400-1691838000@events.excelsiorcitizen.com
SUMMARY:Family Workout Class
DESCRIPTION:Families are invited to participate in a strength relay race! This class is taught by Darrien & Yolanda\, Certified Personal Trainers & Fitness Instructors.This is FREE for all and perfect for all ages and abilities! \nAugust 12th @ 10:00AM at the Excelsior Springs Community Center Gymnasium.
URL:https://events.excelsiorcitizen.com/event/family-workout-class-8/
LOCATION:MO
END:VEVENT
BEGIN:VEVENT
DTSTART;TZID=America/Chicago:20230812T103000
DTEND;TZID=America/Chicago:20230812T170000
DTSTAMP:20260420T131017
CREATED:20250131T050914Z
LAST-MODIFIED:20250131T050914Z
UID:10001829-1691836200-1691859600@events.excelsiorcitizen.com
SUMMARY:Trolley Wine Tour
DESCRIPTION:Your wine tour includes these four destinations:WILLOW SPRING MERCANTILE- Your adventure begins in this unique downtown Excelsior Springs mercantile established by Jim and Daphne Bowman in 2005. Willow Spring boasts the state’s largest selection of Missouri wines\, craft beers\, and distilled spirits. Enjoy brunch paired with Missouri-made wines in their exquisite wine cellar bistro. Brunch includes made from scratch ham and vegetable quiche\, spinach salad with fresh berries\, and fresh fruit. A chocolate cappuccino brownie is served for dessert.\nFENCE STILE WINERY – Second up\, Fence Stile\, is situated on 55 acres of land and has 8 varieties of grapes making up 10 acres of vineyards. The estate winery focuses on making dry and semi-dry wines and has a couple of sweet wines to offer as well. The state-of-the-art winery is located underground adjacent to the wine caves where the wine barrels are stored. Tours of the winery and wine caves are available which include an extensive tasting of the wines with the winemaker. Fence Stile is also a distillery crafting small-batch spirits branded as Nyx Spirits. Guests can enjoy wine\, beer\, spirits\, cocktails\, mimosas\, and sangrias while they enjoy live music\, movies on the patio\, firepit Fridays\, yoga\, food and wine pairings\, and many more seasonal activities. Indoor and outdoor space is available.\nVAN TILL FAMILY FARM WINERY – Your next destination is an enjoyable 15-minute trolley ride to beautiful and scenic Rayville. Here\, you will visit the Van Till family known for their warm hospitality\, Country garden setting\, great wine\, and wood-fired oven pizza. Order ahead sheets will be on the trolley ready for you to place your orders. (NOT included in ticket price.)\nSHAMROCK HILLS VINEYARD & WINERY – Your last stop is Excelsior’s newest winery venue. Your taste buds will be delighted with the award-winning Four Horses and a Dog wines and the Irish-themed hospitality experience where you are treated as family. Owners Mike and Denise Riley\, along with the entire Shamrock Hills staff\, look forward to continuing the legacy that “Four Horses and a Dog Vineyard and Winery” established back in 2008. The Rileys will be planting their first four acres of vines in the spring of 2023 and look forward to producing wines of their own in the future\nClick for ticket information
URL:https://events.excelsiorcitizen.com/event/trolley-wine-tour-10/
LOCATION:MO
END:VEVENT
BEGIN:VEVENT
DTSTART;TZID=America/Chicago:20230812T160000
DTEND;TZID=America/Chicago:20230812T180000
DTSTAMP:20260420T131017
CREATED:20250131T045811Z
LAST-MODIFIED:20250131T045811Z
UID:10001620-1691856000-1691863200@events.excelsiorcitizen.com
SUMMARY:Live Music from The Huixqui Sisters
DESCRIPTION:Join us for a live performance from the Huixqui Sisters from 4pm-6pm.
URL:https://events.excelsiorcitizen.com/event/live-music-from-the-huixqui-sisters/
LOCATION:MO
END:VEVENT
BEGIN:VEVENT
DTSTART;TZID=America/Chicago:20230812T170000
DTEND;TZID=America/Chicago:20230812T200000
DTSTAMP:20260420T131017
CREATED:20250131T050110Z
LAST-MODIFIED:20250131T050110Z
UID:10001663-1691859600-1691870400@events.excelsiorcitizen.com
SUMMARY:Live Music with Kari King
DESCRIPTION:We are excited to welcome Kari King\, an Excelsior native. Kari has been playing guitar since she was 9 yrs. old\, everything from oldies to today’s hits and everything in between.
URL:https://events.excelsiorcitizen.com/event/live-music-with-kari-king-11/
LOCATION:MO
END:VEVENT
BEGIN:VEVENT
DTSTART;TZID=America/Chicago:20230813T104500
DTEND;TZID=America/Chicago:20230813T140000
DTSTAMP:20260420T131017
CREATED:20250131T045711Z
LAST-MODIFIED:20250131T045711Z
UID:10001589-1691923500-1691935200@events.excelsiorcitizen.com
SUMMARY:Back-to-School Bash
DESCRIPTION:Join us for a special church service with our Youth Group providing music. Stay after for free food\, games\, face paint\, cake walk\, crafts\, and door prizes. We are excited to see you there!
URL:https://events.excelsiorcitizen.com/event/back-to-school-bash-3/
LOCATION:MO
END:VEVENT
END:VCALENDAR