BEGIN:VCALENDAR
VERSION:2.0
PRODID:-// - ECPv6.15.20//NONSGML v1.0//EN
CALSCALE:GREGORIAN
METHOD:PUBLISH
X-ORIGINAL-URL:https://events.excelsiorcitizen.com
X-WR-CALDESC:Events for 
REFRESH-INTERVAL;VALUE=DURATION:PT1H
X-Robots-Tag:noindex
X-PUBLISHED-TTL:PT1H
BEGIN:VTIMEZONE
TZID:America/Chicago
BEGIN:DAYLIGHT
TZOFFSETFROM:-0600
TZOFFSETTO:-0500
TZNAME:CDT
DTSTART:20220313T080000
END:DAYLIGHT
BEGIN:STANDARD
TZOFFSETFROM:-0500
TZOFFSETTO:-0600
TZNAME:CST
DTSTART:20221106T070000
END:STANDARD
BEGIN:DAYLIGHT
TZOFFSETFROM:-0600
TZOFFSETTO:-0500
TZNAME:CDT
DTSTART:20230312T080000
END:DAYLIGHT
BEGIN:STANDARD
TZOFFSETFROM:-0500
TZOFFSETTO:-0600
TZNAME:CST
DTSTART:20231105T070000
END:STANDARD
BEGIN:DAYLIGHT
TZOFFSETFROM:-0600
TZOFFSETTO:-0500
TZNAME:CDT
DTSTART:20240310T080000
END:DAYLIGHT
BEGIN:STANDARD
TZOFFSETFROM:-0500
TZOFFSETTO:-0600
TZNAME:CST
DTSTART:20241103T070000
END:STANDARD
END:VTIMEZONE
BEGIN:VEVENT
DTSTART;TZID=America/Chicago:20230723T120000
DTEND;TZID=America/Chicago:20230723T133000
DTSTAMP:20260420T113644
CREATED:20250131T050037Z
LAST-MODIFIED:20250131T050037Z
UID:10001648-1690113600-1690119000@events.excelsiorcitizen.com
SUMMARY:Noon Winery/Wine Cave Tour & Candlelit Tasting with Premium Wines
DESCRIPTION:Enjoy a tour of the winery and wine cave. Learn about Fence Stile’s wines and grape varieties\, the winery’s history\, Brix (testing the sugar level in grapes)\, vineyard management\, and terroir of the estate. Finish with a candlelit tasting in the CELLAR57 club room and the wine caves.Keep the tasting glass and enjoy 10% off bottles of wine purchased after the tour. $48/person. \nReservations required. RSVP via the ticket link.\nCall 816-500-6465 to schedule a custom tour.
URL:https://events.excelsiorcitizen.com/event/noon-winery-wine-cave-tour-candlelit-tasting-with-premium-wines-4/
LOCATION:MO
END:VEVENT
BEGIN:VEVENT
DTSTART;TZID=America/Chicago:20230723T123000
DTEND;TZID=America/Chicago:20230723T140000
DTSTAMP:20260420T113644
CREATED:20250131T050056Z
LAST-MODIFIED:20250131T050056Z
UID:10001649-1690115400-1690120800@events.excelsiorcitizen.com
SUMMARY:Stretch & Shop
DESCRIPTION:Enjoy Yoga with Hailee Arnold\, Lunch with Willow Springs Mercantile and Shopping with Style by Ry!Must register by July 19th! $20/person (lunch included)\nFAQ:\nWhat are the options for lunch? A boxed lunch will be provided by Willow Springs Mercantile. Participants will be able to choose their meal. Vegetarian options are available.\nWho can participate?\nMembers and non members of the ES Community Center of all ages can participate if registered.\nWhere can I sign up? Sign up online or with the welcome desk at ES Community Center for $20.
URL:https://events.excelsiorcitizen.com/event/stretch-shop/
LOCATION:MO
END:VEVENT
BEGIN:VEVENT
DTSTART;TZID=America/Chicago:20230723T140000
DTEND;TZID=America/Chicago:20230723T153000
DTSTAMP:20260420T113644
CREATED:20250131T050022Z
LAST-MODIFIED:20250131T050022Z
UID:10001641-1690120800-1690126200@events.excelsiorcitizen.com
SUMMARY:Guided Winery/Wine Cave Tour & Candlelit Tasting with Premium Wines
DESCRIPTION:Enjoy a tour of the winery and wine cave. Learn about Fence Stile’s wines and grape varieties\, the winery’s history\, Brix (testing the sugar level in grapes)\, vineyard management\, and the terroir of the estate. Finish with a candlelit tasting in the CELLAR57 club room and the wine caves.Keep the tasting glass and enjoy 10% off bottles of wine purchased after the tour. $48/person. \nReservations required. RSVP via the ticket link.\nCall 816-500-6465 to schedule a custom tour.
URL:https://events.excelsiorcitizen.com/event/guided-winery-wine-cave-tour-candlelit-tasting-with-premium-wines-34/
LOCATION:MO
END:VEVENT
BEGIN:VEVENT
DTSTART;TZID=America/Chicago:20230723T150000
DTEND;TZID=America/Chicago:20230723T170000
DTSTAMP:20260420T113644
CREATED:20250131T050240Z
LAST-MODIFIED:20250131T050240Z
UID:10001693-1690124400-1690131600@events.excelsiorcitizen.com
SUMMARY:John Beddal performs at Shamrock Hills Vineyard and Winery
DESCRIPTION:Come see John Beddal play at Shamrock Hills Vineyard and Winery from 3pm-5pm!
URL:https://events.excelsiorcitizen.com/event/john-beddal-performs-at-shamrock-hills-vineyard-and-winery/
LOCATION:MO
END:VEVENT
BEGIN:VEVENT
DTSTART;TZID=America/Chicago:20230723T160000
DTEND;TZID=America/Chicago:20230723T180000
DTSTAMP:20260420T113644
CREATED:20250131T045819Z
LAST-MODIFIED:20250131T045819Z
UID:10001625-1690128000-1690135200@events.excelsiorcitizen.com
SUMMARY:Bingo for Clean Water!
DESCRIPTION:Join us Sunday\, July 23rd from 4pm-6pm for Bingo for Clean Water!Team World Vision is an organization that brings clean water to those in 3rd world countries that are too far off the geographical spectrum for most organizations to get to them.\nWhat starts with clean water then turns into better food sources\, education not only for children but adults as they learn how to utilize the resources around them to become self sustainable and also brings better health to the community they live in.\nAmanda Florea\, I have the privilege to call a teammate over the last 8 years as we have ran to help raise awareness and funding to Team World Vision. She will be running as part of the Hood to Coast “Suck it Poverty “ relay team as part of Team World Vision and their South Sudan mission.\nWe will be raising money with this Bingo game for her fundraising towards this endeavor and will be leading the Bingo game. $2 per game card and there are some great prizes to be earned!
URL:https://events.excelsiorcitizen.com/event/bingo-for-clean-water/
LOCATION:MO
END:VEVENT
BEGIN:VEVENT
DTSTART;TZID=America/Chicago:20230725T093000
DTEND;TZID=America/Chicago:20230725T103000
DTSTAMP:20260420T113644
CREATED:20250131T050117Z
LAST-MODIFIED:20250131T050117Z
UID:10001667-1690277400-1690281000@events.excelsiorcitizen.com
SUMMARY:Knockout Tournament
DESCRIPTION:Meet us at regent park at 9:30AM for a knockout tournament. All ages invited! We will provide the basketball! Pries for the winner.FREE to all!
URL:https://events.excelsiorcitizen.com/event/knockout-tournament/
LOCATION:MO
END:VEVENT
BEGIN:VEVENT
DTSTART;TZID=America/Chicago:20230725T180000
DTEND;TZID=America/Chicago:20230725T193000
DTSTAMP:20260420T113644
CREATED:20250131T050003Z
LAST-MODIFIED:20250131T050003Z
UID:10001635-1690308000-1690313400@events.excelsiorcitizen.com
SUMMARY:MEETING: AMTRAK Hermann FALL Wine Tour
DESCRIPTION:The Missouri Fall Hermann Wine Tour will be Wed Nov 1st-Friday Nov 3rd. This meeting will cover all the details of the annual Amtrak Missouri Wine Tour. For more questions or additional details contact us if you cannot make the meeting.
URL:https://events.excelsiorcitizen.com/event/meeting-amtrak-hermann-fall-wine-tour/
LOCATION:MO
END:VEVENT
BEGIN:VEVENT
DTSTART;TZID=America/Chicago:20230727T170000
DTEND;TZID=America/Chicago:20230727T183000
DTSTAMP:20260420T113644
CREATED:20250131T050023Z
LAST-MODIFIED:20250131T050023Z
UID:10001642-1690477200-1690482600@events.excelsiorcitizen.com
SUMMARY:Winery/Wine Cave Tour & Candlelit Tasting with Premium Wines
DESCRIPTION:Enjoy a tour of the winery and wine cave. Learn about Fence Stile’s wines and grape varieties\, the winery’s history\, Brix (testing the sugar level in grapes)\, vineyard management\, and terroir of the estate. Finish with a candlelit tasting in the CELLAR57 club room and the wine caves.Keep the tasting glass and enjoy 10% off bottles of wine purchased after the tour. $48/person. \nReservations required. RSVP via the ticket link.\nCall 816-500-6465 to schedule a custom tour.
URL:https://events.excelsiorcitizen.com/event/winery-wine-cave-tour-candlelit-tasting-with-premium-wines-54/
LOCATION:MO
END:VEVENT
BEGIN:VEVENT
DTSTART;TZID=America/Chicago:20230727T173000
DTEND;TZID=America/Chicago:20230727T183000
DTSTAMP:20260420T113644
CREATED:20250131T050204Z
LAST-MODIFIED:20250131T050204Z
UID:10001672-1690479000-1690482600@events.excelsiorcitizen.com
SUMMARY:Goodies with Grandparents
DESCRIPTION:Enjoy snacks and activities with your grandparents! We will begin at 5:30PM at the ES Community Center.FREE to all!
URL:https://events.excelsiorcitizen.com/event/goodies-with-grandparents-2/
LOCATION:MO
END:VEVENT
BEGIN:VEVENT
DTSTART;TZID=America/Chicago:20230727T183000
DTEND;TZID=America/Chicago:20230727T193000
DTSTAMP:20260420T113644
CREATED:20250131T050433Z
LAST-MODIFIED:20250131T050433Z
UID:10001747-1690482600-1690486200@events.excelsiorcitizen.com
SUMMARY:Music Bingo: Playlist TBA
DESCRIPTION:This game is part “NAME THAT TUNE” + PART “BINGO”. When you hear the song\, mark it off on your bingo cards. Win Prizes! Playlists change each game!Playlist: To be announced
URL:https://events.excelsiorcitizen.com/event/music-bingo-playlist-tba-3/
LOCATION:MO
END:VEVENT
BEGIN:VEVENT
DTSTART;TZID=America/Chicago:20230728T140000
DTEND;TZID=America/Chicago:20230728T153000
DTSTAMP:20260420T113644
CREATED:20250131T050003Z
LAST-MODIFIED:20250131T050003Z
UID:10001637-1690552800-1690558200@events.excelsiorcitizen.com
SUMMARY:Winery/Wine Cave Tour & Candlelit Tasting with Premium Wines
DESCRIPTION:Enjoy a tour of the winery and wine cave. Learn about Fence Stile’s wines and grape varieties\, the winery’s history\, Brix (testing the sugar level in grapes)\, vineyard management\, and terroir of the estate. Finish with a candlelit tasting in the CELLAR57 club room and the wine caves.Keep the tasting glass and enjoy 10% off bottles of wine purchased after the tour. $48/person. \nReservations required. RSVP via the ticket link.\nCall 816-500-6465 to schedule a custom tour.
URL:https://events.excelsiorcitizen.com/event/winery-wine-cave-tour-candlelit-tasting-with-premium-wines-53/
LOCATION:MO
END:VEVENT
BEGIN:VEVENT
DTSTART;TZID=America/Chicago:20230728T180000
DTEND;TZID=America/Chicago:20230728T190000
DTSTAMP:20260420T113644
CREATED:20250131T050003Z
LAST-MODIFIED:20250131T050003Z
UID:10001636-1690567200-1690570800@events.excelsiorcitizen.com
SUMMARY:Messy Mania
DESCRIPTION:Let us clean up the mess for you! Join us at Messy Mania where your child can get all in all of the messes but you don’t have to clean! We will take care of that for you and hose them off with the big pumper truck from the ES fire department.Begins at 6:00PM\nFiretruck will spray around 7:00-7:30PM.
URL:https://events.excelsiorcitizen.com/event/messy-mania-2/
LOCATION:MO
END:VEVENT
BEGIN:VEVENT
DTSTART;TZID=America/Chicago:20230729T103000
DTEND;TZID=America/Chicago:20230729T170000
DTSTAMP:20260420T113644
CREATED:20250131T050239Z
LAST-MODIFIED:20250131T050239Z
UID:10001689-1690626600-1690650000@events.excelsiorcitizen.com
SUMMARY:Trolley Wine Tour
DESCRIPTION:Join us for an all-inclusive wine tour experience aboard the Excelsior Springs Chamber Trolley! Your wine tour includes four destinations\, including the Shamrock Hills Vineyard and Winery\, Willow Spring Mercantile\, Fence Stile Winery\, Van Till Family Farm Winery. Each winery stop includes a full tasting experience. Plus\, you’ll receive a souvenir 6-bottle wine tote to fill up with your favorite wines!Click here for more tickets and more info!
URL:https://events.excelsiorcitizen.com/event/trolley-wine-tour/
LOCATION:MO
END:VEVENT
BEGIN:VEVENT
DTSTART;TZID=America/Chicago:20230729T113000
DTEND;TZID=America/Chicago:20230729T130000
DTSTAMP:20260420T113644
CREATED:20250131T050023Z
LAST-MODIFIED:20250131T050023Z
UID:10001643-1690630200-1690635600@events.excelsiorcitizen.com
SUMMARY:Guided Winery/Wine Cave Tour & Candlelit Tasting with Premium Wines
DESCRIPTION:Enjoy a tour of the winery and wine cave. Learn about Fence Stile’s wines and grape varieties\, the winery’s history\, Brix (testing the sugar level in grapes)\, vineyard management\, and terroir of the estate. Finish with a candlelit tasting in the CELLAR57 club room and the wine caves.Keep the tasting glass and enjoy 10% off bottles of wine purchased after the tour. $48/person. \nReservations required. RSVP via the ticket link.\nCall 816-500-6465 to schedule a custom tour.
URL:https://events.excelsiorcitizen.com/event/guided-winery-wine-cave-tour-candlelit-tasting-with-premium-wines-35/
LOCATION:MO
END:VEVENT
BEGIN:VEVENT
DTSTART;TZID=America/Chicago:20230729T130000
DTEND;TZID=America/Chicago:20230729T160000
DTSTAMP:20260420T113644
CREATED:20250131T050213Z
LAST-MODIFIED:20250131T050213Z
UID:10001675-1690635600-1690646400@events.excelsiorcitizen.com
SUMMARY:Frank Rardon at Van Till Family Farm Winery
DESCRIPTION:Frank Rardon will be playing a mix of folk\, pop\, country\, rock and original music from 1-4pm.
URL:https://events.excelsiorcitizen.com/event/frank-rardon-at-van-till-family-farm-winery/
LOCATION:MO
END:VEVENT
BEGIN:VEVENT
DTSTART;TZID=America/Chicago:20230729T150000
DTEND;TZID=America/Chicago:20230729T170000
DTSTAMP:20260420T113644
CREATED:20250131T050240Z
LAST-MODIFIED:20250131T050240Z
UID:10001692-1690642800-1690650000@events.excelsiorcitizen.com
SUMMARY:Marshall Holles performs at Shamrock Hills Vineyard and Winery
DESCRIPTION:Join Shamrock Hills Vineyard and Winery to hear Marshall Holles perform from 3pm-5pm!
URL:https://events.excelsiorcitizen.com/event/marshall-holles-performs-at-shamrock-hills-vineyard-and-winery/
LOCATION:MO
END:VEVENT
BEGIN:VEVENT
DTSTART;TZID=America/Chicago:20230729T150000
DTEND;TZID=America/Chicago:20230729T170000
DTSTAMP:20260420T113644
CREATED:20250131T045818Z
LAST-MODIFIED:20250131T045818Z
UID:10001624-1690642800-1690650000@events.excelsiorcitizen.com
SUMMARY:Marshall Holles
DESCRIPTION:Join us at the winery to hear Marshall Holles perform from 3pm-5pm!
URL:https://events.excelsiorcitizen.com/event/marshall-holles/
LOCATION:MO
END:VEVENT
BEGIN:VEVENT
DTSTART;TZID=America/Chicago:20230729T170000
DTEND;TZID=America/Chicago:20230729T183000
DTSTAMP:20260420T113644
CREATED:20250131T050021Z
LAST-MODIFIED:20250131T050021Z
UID:10001639-1690650000-1690655400@events.excelsiorcitizen.com
SUMMARY:Guided Winery/Wine Cave Tour & Candlelit Tasting with Premium Wines
DESCRIPTION:Enjoy a tour of the winery and wine cave. Learn about Fence Stile’s wines and grape varieties\, the winery’s history\, Brix (testing the sugar level in grapes)\, vineyard management\, and the terroir of the estate. Finish with a candlelit tasting in the CELLAR57 club room and the wine caves.Keep the tasting glass and enjoy 10% off bottles of wine purchased after the tour. $48/person. \nReservations required. RSVP via the ticket link.\nCall 816-500-6465 to schedule a custom tour.
URL:https://events.excelsiorcitizen.com/event/guided-winery-wine-cave-tour-candlelit-tasting-with-premium-wines-32/
LOCATION:MO
END:VEVENT
BEGIN:VEVENT
DTSTART;TZID=America/Chicago:20230729T170000
DTEND;TZID=America/Chicago:20230729T190000
DTSTAMP:20260420T113644
CREATED:20250131T045820Z
LAST-MODIFIED:20250131T045820Z
UID:10001627-1690650000-1690657200@events.excelsiorcitizen.com
SUMMARY:Wiffle Ball Tournament
DESCRIPTION:The Excelsior Springs High School’s Student Council will be holding a Wiffle Ball Tournament on Saturday\, July 29th at 5pm at the Excelsior Springs High School Baseball Fields. All ages are welcome. $10 per player.
URL:https://events.excelsiorcitizen.com/event/wiffle-ball-tournament/
LOCATION:MO
END:VEVENT
BEGIN:VEVENT
DTSTART;TZID=America/Chicago:20230729T170000
DTEND;TZID=America/Chicago:20230729T200000
DTSTAMP:20260420T113644
CREATED:20250131T050117Z
LAST-MODIFIED:20250131T050117Z
UID:10001666-1690650000-1690660800@events.excelsiorcitizen.com
SUMMARY:Music on the Patio with Kari King
DESCRIPTION:Van Till is excited to welcome Kari King\, an Excelsior native. Kari has been playing guitar since she was 9 yrs. old\, everything from oldies to today’s hits and everything in between.
URL:https://events.excelsiorcitizen.com/event/music-on-the-patio-with-kari-king-4/
LOCATION:MO
END:VEVENT
BEGIN:VEVENT
DTSTART;TZID=America/Chicago:20230730T140000
DTEND;TZID=America/Chicago:20230730T153000
DTSTAMP:20260420T113644
CREATED:20250131T050056Z
LAST-MODIFIED:20250131T050056Z
UID:10001650-1690725600-1690731000@events.excelsiorcitizen.com
SUMMARY:Winery/Wine Cave Tour & Candlelit Tasting with Premium Wines
DESCRIPTION:Enjoy a tour of the winery and wine cave. Learn about Fence Stile’s wines and grape varieties\, the winery’s history\, Brix (testing the sugar level in grapes)\, vineyard management\, and terroir of the estate. Finish with a candlelit tasting in the CELLAR57 club room and the wine caves.\nKeep the tasting glass and enjoy 10% off bottles of wine purchased after the tour. $48/person. \nReservations required. RSVP via the ticket link.\nCall 816-500-6465 to schedule a custom tour.
URL:https://events.excelsiorcitizen.com/event/winery-wine-cave-tour-candlelit-tasting-with-premium-wines-55/
LOCATION:MO
END:VEVENT
BEGIN:VEVENT
DTSTART;TZID=America/Chicago:20230730T153000
DTEND;TZID=America/Chicago:20230730T173000
DTSTAMP:20260420T113644
CREATED:20250131T050239Z
LAST-MODIFIED:20250131T050239Z
UID:10001691-1690731000-1690738200@events.excelsiorcitizen.com
SUMMARY:Nicki White performs at Shamrock Hills Vineyard and Winery
DESCRIPTION:Join Shamrock Hills Vineyard and Winery to hear Nicki White perform from 3:30pm-5:30pm.
URL:https://events.excelsiorcitizen.com/event/nicki-white-performs-at-shamrock-hills-vineyard-and-winery/
LOCATION:MO
END:VEVENT
BEGIN:VEVENT
DTSTART;TZID=America/Chicago:20230730T153000
DTEND;TZID=America/Chicago:20230730T173000
DTSTAMP:20260420T113644
CREATED:20250131T045812Z
LAST-MODIFIED:20250131T045812Z
UID:10001623-1690731000-1690738200@events.excelsiorcitizen.com
SUMMARY:Live Performance from Nicki White
DESCRIPTION:Join us to Nicki White perform from 3:30pm-5:30pm.
URL:https://events.excelsiorcitizen.com/event/live-performance-from-nicki-white/
LOCATION:MO
END:VEVENT
BEGIN:VEVENT
DTSTART;TZID=America/Chicago:20230731T103000
DTEND;TZID=America/Chicago:20230731T113000
DTSTAMP:20260420T113644
CREATED:20250131T050037Z
LAST-MODIFIED:20250131T050037Z
UID:10001646-1690799400-1690803000@events.excelsiorcitizen.com
SUMMARY:Crafting with Conscience
DESCRIPTION:Come craft with us at Sunnyside Park using sustainable materials! We will begin at 10:30AM.FREE to all!
URL:https://events.excelsiorcitizen.com/event/crafting-with-conscience/
LOCATION:MO
END:VEVENT
BEGIN:VEVENT
DTSTART;TZID=America/Chicago:20230803T170000
DTEND;TZID=America/Chicago:20230803T183000
DTSTAMP:20260420T113644
CREATED:20250131T045751Z
LAST-MODIFIED:20250131T045751Z
UID:10001607-1691082000-1691087400@events.excelsiorcitizen.com
SUMMARY:Winery/Wine Cave Tour & Candlelit Tasting with Premium wines
DESCRIPTION:Enjoy a tour of the winery and wine cave. Learn about Fence Stile’s wines and grape varieties\, the winery’s history\, Brix (testing the sugar level in grapes)\, vineyard management\, and terroir of the estate. Finish with a candlelit tasting in the CELLAR57 club room and the wine caves.Keep the tasting glass and enjoy 10% off bottles of wine purchased after the tour. $48/person.\nReservations required. RSVP via the ticket link.\nCall 816-500-6465 to schedule a custom tour.
URL:https://events.excelsiorcitizen.com/event/winery-wine-cave-tour-candlelit-tasting-with-premium-wines-51/
LOCATION:MO
END:VEVENT
BEGIN:VEVENT
DTSTART;TZID=America/Chicago:20230803T170000
DTEND;TZID=America/Chicago:20230803T200000
DTSTAMP:20260420T113644
CREATED:20250131T050451Z
LAST-MODIFIED:20250131T050451Z
UID:10001753-1691082000-1691092800@events.excelsiorcitizen.com
SUMMARY:The Elms Spa Back to School Charity Event
DESCRIPTION:Attendees will have access to the grotto and spa sanctuary from 5pm- 8pm. Light refreshments\, spa treatments\, and wellness classes will be available throughout the evening.Click here to register
URL:https://events.excelsiorcitizen.com/event/the-elms-spa-back-to-school-charity-event/
LOCATION:MO
END:VEVENT
BEGIN:VEVENT
DTSTART;TZID=America/Chicago:20230803T180000
DTEND;TZID=America/Chicago:20230803T193000
DTSTAMP:20260420T113644
CREATED:20250131T045936Z
LAST-MODIFIED:20250131T045936Z
UID:10001631-1691085600-1691091000@events.excelsiorcitizen.com
SUMMARY:Community Conversation: Access to Healthy Food
DESCRIPTION:We want to hear from you! Join the Northland Health Alliance for a conversation on how we as a community can create and support an environment where accessing and preparing healthy food is the easy\, affordable choice. All Community Conversation events are open to anyone who lives\, works or plays in the Northland.This event will take place at The Montgomery Event Center in Excelsior Springs.\nFREE childcare and dinner provided. The first 30 attendees will also receive a $25 QuikTrip gift card. If you plan to use childcare – please RSVP by July 12 by emailing info@northlandkchealthalliance.org
URL:https://events.excelsiorcitizen.com/event/community-conversation-access-to-healthy-food/
LOCATION:MO
END:VEVENT
BEGIN:VEVENT
DTSTART;TZID=America/Chicago:20230804T100000
DTEND;TZID=America/Chicago:20230806T190000
DTSTAMP:20260420T113644
CREATED:20250131T050116Z
LAST-MODIFIED:20250131T050116Z
UID:10001664-1691143200-1691348400@events.excelsiorcitizen.com
SUMMARY:Tax-Free Weekend at Wild Bunch
DESCRIPTION:Come shop over 200 vendors on tax free weekend!!!
URL:https://events.excelsiorcitizen.com/event/tax-free-weekend-at-wild-bunch/
LOCATION:MO
END:VEVENT
BEGIN:VEVENT
DTSTART;TZID=America/Chicago:20230804T140000
DTEND;TZID=America/Chicago:20230804T153000
DTSTAMP:20260420T113644
CREATED:20250131T045750Z
LAST-MODIFIED:20250131T045750Z
UID:10001606-1691157600-1691163000@events.excelsiorcitizen.com
SUMMARY:Guided Winery/Wine Cave Tour & Candlelit Tasting with Premium Wines
DESCRIPTION:Enjoy a tour of the winery and wine cave. Learn about Fence Stile’s wines and grape varieties\, the winery’s history\, Brix (testing the sugar level in grapes)\, vineyard management\, and terroir of the estate. Finish with a candlelit tasting in the CELLAR57 club room and the wine caves.Keep the tasting glass and enjoy 10% off bottles of wine purchased after the tour. $48/person. Have a nondrinker in your group? Use nondrinker as a coupon code at checkout for a $10 discount.\nReservations required. RSVP via the ticket link.\nCall 816-500-6465 to schedule a custom tour.
URL:https://events.excelsiorcitizen.com/event/guided-winery-wine-cave-tour-candlelit-tasting-with-premium-wines-31/
LOCATION:MO
END:VEVENT
BEGIN:VEVENT
DTSTART;TZID=America/Chicago:20230804T170000
DTEND;TZID=America/Chicago:20230804T190000
DTSTAMP:20260420T113644
CREATED:20250131T045812Z
LAST-MODIFIED:20250131T045812Z
UID:10001622-1691168400-1691175600@events.excelsiorcitizen.com
SUMMARY:Live Music from Tom Riggs
DESCRIPTION:Join us for a live performance from Excelsior Springs native Tom Riggs from 5pm-7pm.
URL:https://events.excelsiorcitizen.com/event/live-music-from-tom-riggs/
LOCATION:MO
END:VEVENT
END:VCALENDAR