BEGIN:VCALENDAR
VERSION:2.0
PRODID:-// - ECPv6.15.20//NONSGML v1.0//EN
CALSCALE:GREGORIAN
METHOD:PUBLISH
X-ORIGINAL-URL:https://events.excelsiorcitizen.com
X-WR-CALDESC:Events for 
REFRESH-INTERVAL;VALUE=DURATION:PT1H
X-Robots-Tag:noindex
X-PUBLISHED-TTL:PT1H
BEGIN:VTIMEZONE
TZID:America/Chicago
BEGIN:DAYLIGHT
TZOFFSETFROM:-0600
TZOFFSETTO:-0500
TZNAME:CDT
DTSTART:20220313T080000
END:DAYLIGHT
BEGIN:STANDARD
TZOFFSETFROM:-0500
TZOFFSETTO:-0600
TZNAME:CST
DTSTART:20221106T070000
END:STANDARD
BEGIN:DAYLIGHT
TZOFFSETFROM:-0600
TZOFFSETTO:-0500
TZNAME:CDT
DTSTART:20230312T080000
END:DAYLIGHT
BEGIN:STANDARD
TZOFFSETFROM:-0500
TZOFFSETTO:-0600
TZNAME:CST
DTSTART:20231105T070000
END:STANDARD
BEGIN:DAYLIGHT
TZOFFSETFROM:-0600
TZOFFSETTO:-0500
TZNAME:CDT
DTSTART:20240310T080000
END:DAYLIGHT
BEGIN:STANDARD
TZOFFSETFROM:-0500
TZOFFSETTO:-0600
TZNAME:CST
DTSTART:20241103T070000
END:STANDARD
END:VTIMEZONE
BEGIN:VEVENT
DTSTART;TZID=America/Chicago:20230701T200000
DTEND;TZID=America/Chicago:20230701T213000
DTSTAMP:20260420T084846
CREATED:20250131T050224Z
LAST-MODIFIED:20250131T050224Z
UID:10001683-1688241600-1688247000@events.excelsiorcitizen.com
SUMMARY:Wine-In Movie Night – Movies on the patio
DESCRIPTION:Winery opens at 3 pm. Come early and enjoy a bottle of wine.Movie is free for winery guests. (weather permitting). Movies begin around dusk.
URL:https://events.excelsiorcitizen.com/event/wine-in-movie-night-movies-on-the-patio-14/
LOCATION:MO
END:VEVENT
BEGIN:VEVENT
DTSTART;TZID=America/Chicago:20230702T050000
DTEND;TZID=America/Chicago:20230702T200000
DTSTAMP:20260420T084846
CREATED:20250131T050342Z
LAST-MODIFIED:20250131T050342Z
UID:10001724-1688274000-1688328000@events.excelsiorcitizen.com
SUMMARY:Cruise Night at Freedom Fireworks
DESCRIPTION:Join us for a cruise night at Freedom Fireworks. All cars\, trucks\, and motorcycles are welcome!Ziggy and Zaggy’s Food Barn will be set up and selling food. Be sure to come hungry!\nhttps://www.facebook.com/ziggysgeneralstore/
URL:https://events.excelsiorcitizen.com/event/cruise-night-at-freedom-fireworks/
LOCATION:MO
END:VEVENT
BEGIN:VEVENT
DTSTART;TZID=America/Chicago:20230702T153000
DTEND;TZID=America/Chicago:20230702T173000
DTSTAMP:20260420T084846
CREATED:20250131T050246Z
LAST-MODIFIED:20250131T050246Z
UID:10001698-1688311800-1688319000@events.excelsiorcitizen.com
SUMMARY:Nicki White performs at Shamrock Hills Vineyard and Winery
DESCRIPTION:Join Shamrock Hills Vineyard and Winery to hear Nicki White perform from 3:30pm-5:30pm.
URL:https://events.excelsiorcitizen.com/event/nicki-white-performs-at-shamrock-hills-vineyard-and-winery-2/
LOCATION:MO
END:VEVENT
BEGIN:VEVENT
DTSTART;VALUE=DATE:20230704
DTEND;VALUE=DATE:20230706
DTSTAMP:20260420T084846
CREATED:20250131T050116Z
LAST-MODIFIED:20250131T050116Z
UID:10001665-1688436000-1688522399@events.excelsiorcitizen.com
SUMMARY:4th of July Giveaway
DESCRIPTION:Join R-Mac Fireworks on the 4th of July at 1pm at our Wood Heights Location (gas station parking lot!)We will be having multiple giveaways!! Make sure you have your tickets. We will call numbers until the winner is called. Must be present to win. We will also be giving away free kid goody bags!!! See you on the 4th!
URL:https://events.excelsiorcitizen.com/event/4th-of-july-giveaway/
LOCATION:MO
END:VEVENT
BEGIN:VEVENT
DTSTART;TZID=America/Chicago:20230705T190000
DTEND;TZID=America/Chicago:20230705T203000
DTSTAMP:20260420T084846
CREATED:20250131T050320Z
LAST-MODIFIED:20250131T050320Z
UID:10001715-1688583600-1688589000@events.excelsiorcitizen.com
SUMMARY:Arsenals Baseball 12AAA Open Tryouts
DESCRIPTION:Arsenals Baseball will hold their 12AAA open tryouts on June 28th and July 5th from 7:00pm-8:30pm at ESHS Baseball Field\, 612 Tiger Dr.\, Excelsior SpringsAll positions considered. Seeking versatile\, competitive minded\, self motivated athletes that are seeking a change or have outgrown their current situation/level. For interest/information contact Maverick Dean at 816-289-2129.
URL:https://events.excelsiorcitizen.com/event/arsenals-baseball-12aaa-open-tryouts/
LOCATION:MO
END:VEVENT
BEGIN:VEVENT
DTSTART;TZID=America/Chicago:20230706T113000
DTEND;TZID=America/Chicago:20230706T130000
DTSTAMP:20260420T084846
CREATED:20250131T050321Z
LAST-MODIFIED:20250131T050321Z
UID:10001717-1688643000-1688648400@events.excelsiorcitizen.com
SUMMARY:Picnic at the Park
DESCRIPTION:Pack your lunch and join ESPRCC staff at the Picnic in the Park July 6th at 11:30AM. We will meet at the Century Park gazebo and enjoy our lunches together!
URL:https://events.excelsiorcitizen.com/event/picnic-at-the-park/
LOCATION:MO
END:VEVENT
BEGIN:VEVENT
DTSTART;TZID=America/Chicago:20230707T173000
DTEND;TZID=America/Chicago:20230707T183000
DTSTAMP:20260420T084846
CREATED:20250131T050311Z
LAST-MODIFIED:20250131T050311Z
UID:10001711-1688751000-1688754600@events.excelsiorcitizen.com
SUMMARY:Kids in the Kitchen
DESCRIPTION:Join us for Kids in the Kitchen! Your child will learn how to make a meal from start to finish while learning kitchen safety and food handling techniques. We will be making waffle iron pizzas!Ages: 6-12 Years\nCost: $20/child\nRegistration deadline: June 29th\nDate: July 7th @ 5:30-7:30PM\nExcelsior Springs community Center Community Rooms\nRegister NOW at the Welcome Desk or online: https://rb.gy/0yvee
URL:https://events.excelsiorcitizen.com/event/kids-in-the-kitchen-8/
LOCATION:MO
END:VEVENT
BEGIN:VEVENT
DTSTART;TZID=America/Chicago:20230708T103000
DTEND;TZID=America/Chicago:20230708T170000
DTSTAMP:20260420T084846
CREATED:20250131T050914Z
LAST-MODIFIED:20250131T050914Z
UID:10001830-1688812200-1688835600@events.excelsiorcitizen.com
SUMMARY:Trolley Wine Tour
DESCRIPTION:Your wine tour includes these four destinations:WILLOW SPRING MERCANTILE- Your adventure begins in this unique downtown Excelsior Springs mercantile established by Jim and Daphne Bowman in 2005. Willow Spring boasts the state’s largest selection of Missouri wines\, craft beers\, and distilled spirits. Enjoy brunch paired with Missouri-made wines in their exquisite wine cellar bistro. Brunch includes made from scratch ham and vegetable quiche\, spinach salad with fresh berries\, and fresh fruit. A chocolate cappuccino brownie is served for dessert.\nFENCE STILE WINERY – Second up\, Fence Stile\, is situated on 55 acres of land and has 8 varieties of grapes making up 10 acres of vineyards. The estate winery focuses on making dry and semi-dry wines and has a couple of sweet wines to offer as well. The state-of-the-art winery is located underground adjacent to the wine caves where the wine barrels are stored. Tours of the winery and wine caves are available which include an extensive tasting of the wines with the winemaker. Fence Stile is also a distillery crafting small-batch spirits branded as Nyx Spirits. Guests can enjoy wine\, beer\, spirits\, cocktails\, mimosas\, and sangrias while they enjoy live music\, movies on the patio\, firepit Fridays\, yoga\, food and wine pairings\, and many more seasonal activities. Indoor and outdoor space is available.\nVAN TILL FAMILY FARM WINERY – Your next destination is an enjoyable 15-minute trolley ride to beautiful and scenic Rayville. Here\, you will visit the Van Till family known for their warm hospitality\, Country garden setting\, great wine\, and wood-fired oven pizza. Order ahead sheets will be on the trolley ready for you to place your orders. (NOT included in ticket price.)\nSHAMROCK HILLS VINEYARD & WINERY – Your last stop is Excelsior’s newest winery venue. Your taste buds will be delighted with the award-winning Four Horses and a Dog wines and the Irish-themed hospitality experience where you are treated as family. Owners Mike and Denise Riley\, along with the entire Shamrock Hills staff\, look forward to continuing the legacy that “Four Horses and a Dog Vineyard and Winery” established back in 2008. The Rileys will be planting their first four acres of vines in the spring of 2023 and look forward to producing wines of their own in the future\nClick for ticket information
URL:https://events.excelsiorcitizen.com/event/trolley-wine-tour-11/
LOCATION:MO
END:VEVENT
BEGIN:VEVENT
DTSTART;TZID=America/Chicago:20230708T140000
DTEND;TZID=America/Chicago:20230708T160000
DTSTAMP:20260420T084846
CREATED:20250131T050223Z
LAST-MODIFIED:20250131T050223Z
UID:10001682-1688824800-1688832000@events.excelsiorcitizen.com
SUMMARY:Live Music – Jim Thomas – Fence Stile Vineyards
DESCRIPTION:Enjoy free live music by Jim Thomas. Sip on wine\, sangria\, beer\, or a wine cocktail while relaxing on their patio.
URL:https://events.excelsiorcitizen.com/event/live-music-jim-thomas-fence-stile-vineyards/
LOCATION:MO
END:VEVENT
BEGIN:VEVENT
DTSTART;TZID=America/Chicago:20230708T153000
DTEND;TZID=America/Chicago:20230708T173000
DTSTAMP:20260420T084846
CREATED:20250131T050246Z
LAST-MODIFIED:20250131T050246Z
UID:10001697-1688830200-1688837400@events.excelsiorcitizen.com
SUMMARY:Kari King performs at Shamrock Hills Vineyard and Winery
DESCRIPTION:Join Shamrock Hills Vineyard and Winery to hear Excelsior Springs native Kari King who will be singing from 3:30-5:30pm!
URL:https://events.excelsiorcitizen.com/event/kari-king-performs-at-shamrock-hills-vineyard-and-winery/
LOCATION:MO
END:VEVENT
BEGIN:VEVENT
DTSTART;TZID=America/Chicago:20230708T200000
DTEND;TZID=America/Chicago:20230708T213000
DTSTAMP:20260420T084846
CREATED:20250131T050204Z
LAST-MODIFIED:20250131T050204Z
UID:10001671-1688846400-1688851800@events.excelsiorcitizen.com
SUMMARY:Movie in the Park – Superpets
DESCRIPTION:Join us for a Movie in the Park on July 8th @ the Carolyn Schutte Pocket Park. We will be showing “Superpets” at dusk. This is FREE for anyone!
URL:https://events.excelsiorcitizen.com/event/movie-in-the-park-superpets/
LOCATION:MO
END:VEVENT
BEGIN:VEVENT
DTSTART;TZID=America/Chicago:20230709T140000
DTEND;TZID=America/Chicago:20230709T160000
DTSTAMP:20260420T084846
CREATED:20250131T050246Z
LAST-MODIFIED:20250131T050246Z
UID:10001696-1688911200-1688918400@events.excelsiorcitizen.com
SUMMARY:Jennifer George performs at Shamrock Hills Vineyard and Winery
DESCRIPTION:Join Shamrock Hills Vineyard and Winery to hear Jennifer George perform from 2pm-4pm!
URL:https://events.excelsiorcitizen.com/event/jennifer-george-performs-at-shamrock-hills-vineyard-and-winery/
LOCATION:MO
END:VEVENT
BEGIN:VEVENT
DTSTART;TZID=America/Chicago:20230712T133000
DTEND;TZID=America/Chicago:20230712T143000
DTSTAMP:20260420T084846
CREATED:20250131T050304Z
LAST-MODIFIED:20250131T050304Z
UID:10001705-1689168600-1689172200@events.excelsiorcitizen.com
SUMMARY:Onsite Hospital Resource Sharing Day
DESCRIPTION:Join the Excelsior Springs Hospital at the Good Samaritan Center for an Onsite Hospital Resource Sharing Day. This is meant to provide citizens with direct access to the care and help that they need in Excelsior Springs.
URL:https://events.excelsiorcitizen.com/event/onsite-hospital-resource-sharing-day/
LOCATION:MO
END:VEVENT
BEGIN:VEVENT
DTSTART;TZID=America/Chicago:20230712T173000
DTEND;TZID=America/Chicago:20230712T190000
DTSTAMP:20260420T084846
CREATED:20250131T050223Z
LAST-MODIFIED:20250131T050223Z
UID:10001681-1689183000-1689188400@events.excelsiorcitizen.com
SUMMARY:Christmas in July Social Cookie Decorating Class
DESCRIPTION:Register Online:www.816Bakehouse.com\nThis class is for a fun night out or the person who is curious what cookie decorating is all about! No experience is necessary for this cookie class- it is beginner friendly.\nIf you have limited experiences with decorating cookies or if you’re looking for a fun night out with family or friends\, this class is for you!\nWe will be decorating a “Christmas in July” themed set that tastes amazing and will look even better once you’ve completed your decorating!\nClass will be held Wednesday\, July 12\, 5:30pm-7:00pm at Dubious Claims Brewery located at 451 S. Thompson\, Excelsior Springs\, MO 64024. Parking is free and easy!\nThere will be plenty of time to decorate and ask questions along the way. It’ll be a blast whether you’re coming with a friend\, family member\, or solo!\nYou will receive an email confirmation within 48 business hours of online order at www.816Bakehouse.com.\nI provide EVERYTHING you need (the cookies\, piping bags and icing\, decorations\, take home box\, step-by-step cookie guide\, practice sheets\, parchment paper\, and recipes) all I need is YOU!\nSorry\, no spectators. Space is limited. Each person in attendance must purchase a ticket.\nCome early or stay late to enjoy delicious Dubious Claims food and beer!
URL:https://events.excelsiorcitizen.com/event/christmas-in-july-social-cookie-decorating-class/
LOCATION:MO
END:VEVENT
BEGIN:VEVENT
DTSTART;TZID=America/Chicago:20230712T180000
DTEND;TZID=America/Chicago:20230712T200000
DTSTAMP:20260420T084846
CREATED:20250131T050109Z
LAST-MODIFIED:20250131T050109Z
UID:10001659-1689184800-1689192000@events.excelsiorcitizen.com
SUMMARY:ESHS Tiger Football Youth Camp
DESCRIPTION:ESHS Tiger Football has shared the information for their upcoming youth Football Camp!July 12-13th from 6-8 pm At Tiger Stadium.\nThe Cost is $25\, and must be paid in Cash or Check on July 12th when checking in for Camp. Checks must be made out to ESHS.\nRSVP with this link by June 26th to receive a free shirt!\nhttps://forms.gle/BYcbT63UsTnZXw3h9\nIf you do not RSVP with the above link\, your participant will not receive a T-shirt at Camp.\nAll proceeds and registration fees directly benefit the ESHS Tiger Football Program.
URL:https://events.excelsiorcitizen.com/event/eshs-tiger-football-youth-camp/
LOCATION:MO
END:VEVENT
BEGIN:VEVENT
DTSTART;TZID=America/Chicago:20230713T170000
DTEND;TZID=America/Chicago:20230713T183000
DTSTAMP:20260420T084847
CREATED:20250131T050036Z
LAST-MODIFIED:20250131T050036Z
UID:10001645-1689267600-1689273000@events.excelsiorcitizen.com
SUMMARY:Guided Winery/Wine Cave Tour & Candlelit Tasting with Premium Wines
DESCRIPTION:Enjoy a tour of the winery and wine cave. Learn about Fence Stile’s wines and grape varieties\, the winery’s history\, Brix (testing the sugar level in grapes)\, vineyard management\, and terroir of the estate. Finish with a candlelit tasting in the CELLAR57 club room and the wine caves.Keep the tasting glass and enjoy 10% off bottles of wine purchased after the tour. $48/person. \nReservations required. RSVP via the ticket link.\nCall 816-500-6465 to schedule a custom tour.
URL:https://events.excelsiorcitizen.com/event/guided-winery-wine-cave-tour-candlelit-tasting-with-premium-wines-36/
LOCATION:MO
END:VEVENT
BEGIN:VEVENT
DTSTART;TZID=America/Chicago:20230713T180000
DTEND;TZID=America/Chicago:20230713T190000
DTSTAMP:20260420T084847
CREATED:20250131T050110Z
LAST-MODIFIED:20250131T050110Z
UID:10001662-1689271200-1689274800@events.excelsiorcitizen.com
SUMMARY:Family Nerf Wars
DESCRIPTION:Nerf Wars anyone? Grab your nerf guns and join us at the community center where obstacles will be placed throughout the gymnasium. We encourage you to join as family units but you can come alone as well!Wars begin at 6:00PM.\nFREE to all!
URL:https://events.excelsiorcitizen.com/event/family-nerf-wars-2/
LOCATION:MO
END:VEVENT
BEGIN:VEVENT
DTSTART;TZID=America/Chicago:20230713T183000
DTEND;TZID=America/Chicago:20230713T200000
DTSTAMP:20260420T084847
CREATED:20250131T050223Z
LAST-MODIFIED:20250131T050223Z
UID:10001680-1689273000-1689278400@events.excelsiorcitizen.com
SUMMARY:Music Bingo: Playlist TBA
DESCRIPTION:This game is part “NAME THAT TUNE” + PART “BINGO”. When you hear the song\, mark it off on your bingo cards. Win Prizes! Playlists change each game!Playlist: To be announced
URL:https://events.excelsiorcitizen.com/event/music-bingo-playlist-tba/
LOCATION:MO
END:VEVENT
BEGIN:VEVENT
DTSTART;TZID=America/Chicago:20230714T100000
DTEND;TZID=America/Chicago:20230714T110000
DTSTAMP:20260420T084847
CREATED:20250131T050204Z
LAST-MODIFIED:20250131T050204Z
UID:10001673-1689328800-1689332400@events.excelsiorcitizen.com
SUMMARY:Storybook Trail
DESCRIPTION:Join Excelsior Springs Community Center and Parks and Recreation at Century Park for Storybook Trail! Walk through the park and read along the way! We will head right into Storytime at the Park with the Mid-Continent Library right after! FREE to all!
URL:https://events.excelsiorcitizen.com/event/storybook-trail/
LOCATION:MO
END:VEVENT
BEGIN:VEVENT
DTSTART;TZID=America/Chicago:20230714T113000
DTEND;TZID=America/Chicago:20230714T123000
DTSTAMP:20260420T084847
CREATED:20250131T050303Z
LAST-MODIFIED:20250131T050303Z
UID:10001704-1689334200-1689337800@events.excelsiorcitizen.com
SUMMARY:Perioperative Services
DESCRIPTION:Join the Excelsior Springs Hospital at the Excelsior Springs Community Center to learn more about the hospital’s Perioperative Services.
URL:https://events.excelsiorcitizen.com/event/perioperative-services/
LOCATION:MO
END:VEVENT
BEGIN:VEVENT
DTSTART;TZID=America/Chicago:20230714T180000
DTEND;TZID=America/Chicago:20230714T200000
DTSTAMP:20260420T084847
CREATED:20250131T050245Z
LAST-MODIFIED:20250131T050245Z
UID:10001695-1689357600-1689364800@events.excelsiorcitizen.com
SUMMARY:The Huixqui Sisters perform at Shamrock Hills Vineyard and Winery
DESCRIPTION:Join Shamrock Hills Vineyard and Winery to hear The Huixqui Sisters who will be performing from 6pm-8pm.
URL:https://events.excelsiorcitizen.com/event/the-huixqui-sisters-perform-at-shamrock-hills-vineyard-and-winery/
LOCATION:MO
END:VEVENT
BEGIN:VEVENT
DTSTART;TZID=America/Chicago:20230714T200000
DTEND;TZID=America/Chicago:20230714T213000
DTSTAMP:20260420T084847
CREATED:20250131T050222Z
LAST-MODIFIED:20250131T050222Z
UID:10001679-1689364800-1689370200@events.excelsiorcitizen.com
SUMMARY:Wine-In Movie Night – Movies on the patio – Fence Stile
DESCRIPTION:Winery opens at 3 pm. Come early and enjoy a bottle of wine.Movie is free for winery guests. (weather permitting). Movies begin around dusk.
URL:https://events.excelsiorcitizen.com/event/wine-in-movie-night-movies-on-the-patio-fence-stile/
LOCATION:MO
END:VEVENT
BEGIN:VEVENT
DTSTART;TZID=America/Chicago:20230715T100000
DTEND;TZID=America/Chicago:20230715T110000
DTSTAMP:20260420T084847
CREATED:20250131T050203Z
LAST-MODIFIED:20250131T050203Z
UID:10001670-1689415200-1689418800@events.excelsiorcitizen.com
SUMMARY:Family Olympics
DESCRIPTION:Grab your family for minute to win it games at the ES Community Center Gymnasium. All games and supplies provided! We will begin at 10:00AM.FREE to all!
URL:https://events.excelsiorcitizen.com/event/family-olympics-2/
LOCATION:MO
END:VEVENT
BEGIN:VEVENT
DTSTART;TZID=America/Chicago:20230715T120000
DTEND;TZID=America/Chicago:20230715T160000
DTSTAMP:20260420T084847
CREATED:20250131T050310Z
LAST-MODIFIED:20250131T050310Z
UID:10001709-1689422400-1689436800@events.excelsiorcitizen.com
SUMMARY:Second Annual Tat2 You Car\, Truck\, and Bike Show
DESCRIPTION:On July 15th join in the fun of the Second Annual Tat2 You Car\, Truck\, and Bike Show. Registration begins at 9:00am\, $10 registration fee. Noon-4pm at 1097 Italian Way\, Excelsior Springs.Awards:\nBest in Show\nNew and Late Model Truck\nNew and Late Model\nMetric Motorcycle\nAmerican Motorcycle\nCash\, Trophy\, and Gift Card Prizes\nSponsored by:\nThe Atlas Saloon\nCampbell Wood Designs\nAnd Hair We Are Full Service Salon\nDykes Construction\nRay’s Diner\nRob’s Guaranteed Used Tires
URL:https://events.excelsiorcitizen.com/event/second-annual-tat2-you-car-truck-and-bike-show/
LOCATION:MO
END:VEVENT
BEGIN:VEVENT
DTSTART;TZID=America/Chicago:20230715T120000
DTEND;TZID=America/Chicago:20230715T210000
DTSTAMP:20260420T084847
CREATED:20250131T050328Z
LAST-MODIFIED:20250131T050328Z
UID:10001719-1689422400-1689454800@events.excelsiorcitizen.com
SUMMARY:Deviant Tattoo Tat2You Car\, Truck\, and Bike Show
DESCRIPTION:Classes will be:Best in Show\nLate Model Truck\nNew Model Truck\nMetric Motorcycle\nAmerican Motorcycle\nNew Model Car\nLate Model Car\nEntry’s between 8am-Noon\, $10 entry all entry’s go back to winning pot.
URL:https://events.excelsiorcitizen.com/event/deviant-tattoo-tat2you-car-truck-and-bike-show/
LOCATION:MO
END:VEVENT
BEGIN:VEVENT
DTSTART;TZID=America/Chicago:20230715T200000
DTEND;TZID=America/Chicago:20230715T213000
DTSTAMP:20260420T084847
CREATED:20250131T050214Z
LAST-MODIFIED:20250131T050214Z
UID:10001678-1689451200-1689456600@events.excelsiorcitizen.com
SUMMARY:Wine-In Movie Night – Movies on the patio
DESCRIPTION:Winery opens at 3 pm. Come early and enjoy a bottle of wine.Movie is free for winery guests. (weather permitting). Movies begin around dusk.
URL:https://events.excelsiorcitizen.com/event/wine-in-movie-night-movies-on-the-patio-13/
LOCATION:MO
END:VEVENT
BEGIN:VEVENT
DTSTART;TZID=America/Chicago:20230716T100000
DTEND;TZID=America/Chicago:20230716T140000
DTSTAMP:20260420T084847
CREATED:20250131T050214Z
LAST-MODIFIED:20250131T050214Z
UID:10001677-1689501600-1689516000@events.excelsiorcitizen.com
SUMMARY:Truck\, Bike\, and Rat Rod Show!
DESCRIPTION:THIS IS A FREE EVENT!All bikes\, rat rods and trucks welcome! Raffles\, 50/50 drawing\, trophies\, food and more!!!\nRegistration begins at 8am
URL:https://events.excelsiorcitizen.com/event/truck-bike-and-rat-rod-show/
LOCATION:MO
END:VEVENT
BEGIN:VEVENT
DTSTART;TZID=America/Chicago:20230716T110000
DTEND;TZID=America/Chicago:20230716T123000
DTSTAMP:20260420T084847
CREATED:20250131T050004Z
LAST-MODIFIED:20250131T050004Z
UID:10001638-1689505200-1689510600@events.excelsiorcitizen.com
SUMMARY:Great Sale – Lots of Tools!
DESCRIPTION:Mac’s Auction ServiceSunday\, July 16 • 11am\nMac’s Auction Barn\n14531 Y Hwy\, Excelsior Springs\nFANTASTIC AUCTION \nDue to downsizing\, we will be selling the following for the Briggs Family:\n(9) 1 Troy Ounce Mickey Mouse commemorative coins\, slate quater set\, (15) proof sets\, Crossman pellet pistol\, ammo boxes\, pocket knives\, U.S. sheath knife\, sad iron\, lamps\, Garmin GPS system\, camera\, Hallmark Kiddie Car Classics\, diecast cars\, tractors\, planes\, reprod. Sky chief gas globe\, games\, postal bank\, books\, Norman Rockwell figures\, floor mats\, motorcycle helmet\, Hi-Sense 65” television (works!)\, artificial tree\, gloves\, porch glider (new in box)\, Indian pictures\, large tent\, glassware and more. TOOLS: Craftsman 150 psi\, 1.5 h.p. 20 gal. Air compressor (new in box)\, Bostich pancake air compressor (new in box)\, Cobalt 1.5 20 gal air compressor\, Troybilt. XP Series 7000 watt gas generator\, Champion 3500 watt gas generator\, Generac GP 3000 3500 watt gas generator (all working great!)\, (3) older Craftsman roll-off toolboxes\, Simpson 2700 psi pressure washer\, delta 10” bench saw\, DeWalt DW733 planer\, 2 chain saws\, Thunderbay gas post hold digger with 2 augers\, Kobalt 3 in 1 flooring nailer (new)\, tool shop 3.5” framing nailer (new)\, Paslode impulse nail gun (new)\, tap and die set\, Craftsman work table\, Lincoln elec. welder\, DeWalt cordless drills\, trickle chargers\, GMC 15 amp slide compound mitre saw\, log chains\, lg. Vice\, garden tools\, jack stands\, hand tools inc. large selection of wrenches\, sockets\, measuring tapes\, levels\, air tools\, and more\, moving blankets\, dremel\, grinders\, gas cans\, bolts and screws\, nails\, etc\, 15 heavy duty totes\, laser level with tripod and case\, testers\, small toolboxes\, extension cords\, welding masks\, step ladders\, industrial shelving and more. 5×8 trailer\, tools needing work: (3) 50’ electric sewer cleanup machines\, Bluebird 900 Series gas seeder\, Bluebird 424 gas aerator\, Bluebird 900 Series mower\, Honda FC 600 gas tiller. Go to www.MacsAuction.com for pictures of this great selection of tools with lots of new items still in original box!
URL:https://events.excelsiorcitizen.com/event/great-sale-lots-of-tools/
LOCATION:MO
END:VEVENT
BEGIN:VEVENT
DTSTART;TZID=America/Chicago:20230717T090000
DTEND;TZID=America/Chicago:20230717T100000
DTSTAMP:20260420T084847
CREATED:20250131T050110Z
LAST-MODIFIED:20250131T050110Z
UID:10001661-1689584400-1689588000@events.excelsiorcitizen.com
SUMMARY:Board Games with Seniors
DESCRIPTION:Come play some board games with the senior center! We will supply the games.We will kick off at 9:00AM.\nAll are welcome!
URL:https://events.excelsiorcitizen.com/event/board-games-with-seniors/
LOCATION:MO
END:VEVENT
BEGIN:VEVENT
DTSTART;TZID=America/Chicago:20230717T093000
DTEND;TZID=America/Chicago:20230717T120000
DTSTAMP:20260420T084847
CREATED:20250131T045935Z
LAST-MODIFIED:20250131T045935Z
UID:10001630-1689586200-1689595200@events.excelsiorcitizen.com
SUMMARY:Vacation Bible School
DESCRIPTION:Doug Twaddell will lead our “Faith Lab” Vacation Bible School this year. We have classes for all ages including adults.John Lee will be teaching the adult class on Ezekiel.\nMonday-Friday 9:30AM-11:30AM
URL:https://events.excelsiorcitizen.com/event/vacation-bible-school/
LOCATION:MO
END:VEVENT
END:VCALENDAR