BEGIN:VCALENDAR
VERSION:2.0
PRODID:-// - ECPv6.15.20//NONSGML v1.0//EN
CALSCALE:GREGORIAN
METHOD:PUBLISH
X-ORIGINAL-URL:https://events.excelsiorcitizen.com
X-WR-CALDESC:Events for 
REFRESH-INTERVAL;VALUE=DURATION:PT1H
X-Robots-Tag:noindex
X-PUBLISHED-TTL:PT1H
BEGIN:VTIMEZONE
TZID:America/Chicago
BEGIN:DAYLIGHT
TZOFFSETFROM:-0600
TZOFFSETTO:-0500
TZNAME:CDT
DTSTART:20250309T080000
END:DAYLIGHT
BEGIN:STANDARD
TZOFFSETFROM:-0500
TZOFFSETTO:-0600
TZNAME:CST
DTSTART:20251102T070000
END:STANDARD
BEGIN:DAYLIGHT
TZOFFSETFROM:-0600
TZOFFSETTO:-0500
TZNAME:CDT
DTSTART:20260308T080000
END:DAYLIGHT
BEGIN:STANDARD
TZOFFSETFROM:-0500
TZOFFSETTO:-0600
TZNAME:CST
DTSTART:20261101T070000
END:STANDARD
BEGIN:DAYLIGHT
TZOFFSETFROM:-0600
TZOFFSETTO:-0500
TZNAME:CDT
DTSTART:20270314T080000
END:DAYLIGHT
BEGIN:STANDARD
TZOFFSETFROM:-0500
TZOFFSETTO:-0600
TZNAME:CST
DTSTART:20271107T070000
END:STANDARD
END:VTIMEZONE
BEGIN:VTIMEZONE
TZID:UTC
BEGIN:STANDARD
TZOFFSETFROM:+0000
TZOFFSETTO:+0000
TZNAME:UTC
DTSTART:20250101T000000
END:STANDARD
END:VTIMEZONE
BEGIN:VEVENT
DTSTART;TZID=America/Chicago:20260409T100000
DTEND;TZID=America/Chicago:20260409T170000
DTSTAMP:20260420T000553
CREATED:20260406T015346Z
LAST-MODIFIED:20260406T015346Z
UID:10004670-1775728800-1775754000@events.excelsiorcitizen.com
SUMMARY:Thursday Treats & Lemonade
DESCRIPTION:Flavored Lemonade & treats every Thursday now through the summer with your Thompson Avenue Shops. 6 Shops & a 7th to join us soon in May!
URL:https://events.excelsiorcitizen.com/event/thursday-treats-lemonade/
LOCATION:Downtown Excelsior Springs\, Excelsior Springs\, MO\, 64024\, United States
ATTACH;FMTTYPE=image/jpeg:https://events.excelsiorcitizen.com/wp-content/uploads/2026/04/659198058_122192611574382642_6044374300405172468_n.jpg
END:VEVENT
BEGIN:VEVENT
DTSTART;TZID=America/Chicago:20260409T114500
DTEND;TZID=America/Chicago:20260409T130000
DTSTAMP:20260420T000553
CREATED:20260223T061638Z
LAST-MODIFIED:20260223T061638Z
UID:10004550-1775735100-1775739600@events.excelsiorcitizen.com
SUMMARY:Lunch and Learn | Top Five Marketing and Communications Tips You Need to Know
DESCRIPTION:Join us for a casual lunch & learn session where we discuss top marketing and communications tip in a supportive community setting.
URL:https://events.excelsiorcitizen.com/event/lunch-and-learn-top-five-marketing-and-communications-tips-you-need-to-know/
LOCATION:First United Methodist Church of Excelsior Springs
ATTACH;FMTTYPE=image/jpeg:https://events.excelsiorcitizen.com/wp-content/uploads/2026/02/637631898_1414658230703685_3770770410498129438_n-1.jpg
ORGANIZER;CN="The CO-OP Coworking &amp%3B Event Spaces":MAILTO:noreply@facebookmail.com
END:VEVENT
BEGIN:VEVENT
DTSTART;TZID=America/Chicago:20260409T144500
DTEND;TZID=America/Chicago:20260409T161500
DTSTAMP:20260420T000553
CREATED:20260322T192039Z
LAST-MODIFIED:20260322T192039Z
UID:10004633-1775745900-1775751300@events.excelsiorcitizen.com
SUMMARY:ESMS Walking Club
DESCRIPTION:Lace up your sneakers and join us for some campus walks after school. If it’s raining\, we will walk inside the middle school. \nStarts at 2:45pm and ends at 4:15pm. You will need your own transportation on Wednesdays. On Thursdays\, you can ride the activity bus if you sign up for tutoring after. \nContact Ms. Smith with any questions. \nDates: 3/25\, 3/26\, 4/8\, 4/9\, 4/15\, 4/22\, 4/23
URL:https://events.excelsiorcitizen.com/event/esms-walking-club/2026-04-09/
LOCATION:Excelsior Springs Middle School – Commons
ATTACH;FMTTYPE=image/jpeg:https://events.excelsiorcitizen.com/wp-content/uploads/2026/03/654424215_1554772193312877_3983473893440786525_n-1.jpg
END:VEVENT
BEGIN:VEVENT
DTSTART;TZID=UTC:20260409T160000
DTEND;TZID=UTC:20260409T180000
DTSTAMP:20260420T000553
CREATED:20260103T022425Z
LAST-MODIFIED:20260406T042210Z
UID:10002659-1775750400-1775757600@events.excelsiorcitizen.com
SUMMARY:Track: Excelsior Springs Middle School vs.  Belton Middle School (Away)
DESCRIPTION:Type: Quad Opponent: Excelsior Springs Middle School vs. Belton Middle School
URL:https://events.excelsiorcitizen.com/event/track-ms-ms-vs-excelsior-springs-middle-school-vs-belton-middle-school-away/
LOCATION:Belton High School
ATTACH;FMTTYPE=image/jpeg:https://events.excelsiorcitizen.com/wp-content/uploads/2023/03/bonuchi-field.jpg
END:VEVENT
BEGIN:VEVENT
DTSTART;TZID=UTC:20260409T160000
DTEND;TZID=UTC:20260409T180000
DTSTAMP:20260420T000553
CREATED:20260114T041916Z
LAST-MODIFIED:20260406T041703Z
UID:10003811-1775750400-1775757600@events.excelsiorcitizen.com
SUMMARY:Baseball: C Gold  vs. Liberty North C Navy (Away)
DESCRIPTION:Type: Game Opponent: Liberty North C Navy
URL:https://events.excelsiorcitizen.com/event/baseball-c-gold-vs-liberty-north-c-navy-away/
LOCATION:Liberty North High School
ATTACH;FMTTYPE=image/jpeg:https://events.excelsiorcitizen.com/wp-content/uploads/2023/06/tigers-baseball-defense.jpeg
END:VEVENT
BEGIN:VEVENT
DTSTART;TZID=America/Chicago:20260409T163000
DTEND;TZID=America/Chicago:20260409T183000
DTSTAMP:20260420T000553
CREATED:20260407T043909Z
LAST-MODIFIED:20260407T043909Z
UID:10004677-1775752200-1775759400@events.excelsiorcitizen.com
SUMMARY:Open House
DESCRIPTION:There will be an Open House at 35932 Highway 10\, Rayville\, MO 64084 \nMLS# 2601793
URL:https://events.excelsiorcitizen.com/event/open-house/2026-04-09/
LOCATION:MO
ATTACH;FMTTYPE=image/jpeg:https://events.excelsiorcitizen.com/wp-content/uploads/2026/04/open-house-1.jpg
END:VEVENT
BEGIN:VEVENT
DTSTART;TZID=America/Chicago:20260409T164500
DTEND;TZID=America/Chicago:20260409T173000
DTSTAMP:20260420T000553
CREATED:20260118T234416Z
LAST-MODIFIED:20260406T041846Z
UID:10003853-1775753100-1775755800@events.excelsiorcitizen.com
SUMMARY:Cornerstone PTO April Monthly Meeting
DESCRIPTION:Please join us for our monthly PTO meeting! All parents/guardians of Cornerstone students are welcome.
URL:https://events.excelsiorcitizen.com/event/cornerstone-pto-april-monthly-meeting/
LOCATION:Cornerstone Elementary – Cornerstone Elementary
ATTACH;FMTTYPE=image/jpeg:https://events.excelsiorcitizen.com/wp-content/uploads/2026/03/Cornerstone.jpg
END:VEVENT
BEGIN:VEVENT
DTSTART;TZID=UTC:20260409T170000
DTEND;TZID=UTC:20260409T180000
DTSTAMP:20260420T000553
CREATED:20260103T022426Z
LAST-MODIFIED:20260406T044658Z
UID:10002661-1775754000-1775757600@events.excelsiorcitizen.com
SUMMARY:Cornerstone Game Night
DESCRIPTION:Comments: Game night in the library
URL:https://events.excelsiorcitizen.com/event/elementary-special-events-home-21/
LOCATION:Cornerstone Elementary – Cornerstone Elementary
ATTACH;FMTTYPE=image/jpeg:https://events.excelsiorcitizen.com/wp-content/uploads/2022/05/IMG_9205-1-scaled.jpg
END:VEVENT
BEGIN:VEVENT
DTSTART;TZID=America/Chicago:20260409T173000
DTEND;TZID=America/Chicago:20260409T193000
DTSTAMP:20260420T000553
CREATED:20260316T063229Z
LAST-MODIFIED:20260316T063229Z
UID:10004608-1775755800-1775763000@events.excelsiorcitizen.com
SUMMARY:Discover Your Jewelry Style
DESCRIPTION:Join us for an interactive evening designed to help you discover your personal jewelry style and build a timeless collection.\n\nOur Sturm Bros’ jewelry experts will guide you through five hands-on style stations\, where you’ll learn how to style earrings\, layer necklaces\, stack rings\, choose bracelets\, and find the perfect fit. Enjoy light refreshments while you explore and try on beautiful pieces in a fun\, relaxed setting.\nBonus: The first 20 ladies to check in will receive a complimentary jewelry travel case!
URL:https://events.excelsiorcitizen.com/event/discover-your-jewelry-style/
LOCATION:Sturm Bros.\, 111 E Broadway\, Excelsior Springs\, MO\, 64024\, United States
ATTACH;FMTTYPE=image/jpeg:https://events.excelsiorcitizen.com/wp-content/uploads/2026/03/650721788_1338024861681145_1640907295002807713_n.jpg
END:VEVENT
BEGIN:VEVENT
DTSTART;TZID=UTC:20260409T183000
DTEND;TZID=UTC:20260410T203000
DTSTAMP:20260420T000553
CREATED:20260103T022424Z
LAST-MODIFIED:20260406T042534Z
UID:10002658-1775759400-1775853000@events.excelsiorcitizen.com
SUMMARY:Soccer: Girls Varsity and JV vs. Raytown South (Away)
DESCRIPTION:Type: Game Opponent: Raytown South
URL:https://events.excelsiorcitizen.com/event/soccer-girls-varsity-vs-raytown-south-away/
LOCATION:Raytown South High School
ATTACH;FMTTYPE=image/jpeg:https://events.excelsiorcitizen.com/wp-content/uploads/2024/08/soccer-feat-090924.jpg
END:VEVENT
BEGIN:VEVENT
DTSTART;TZID=UTC:20260410T123000
DTEND;TZID=UTC:20260410T163000
DTSTAMP:20260420T000553
CREATED:20260103T022427Z
LAST-MODIFIED:20260406T042829Z
UID:10002665-1775824200-1775838600@events.excelsiorcitizen.com
SUMMARY:Teacher In-Service - Half Day of School
DESCRIPTION:Comments: 1/2 Day of School. Teacher In-Service
URL:https://events.excelsiorcitizen.com/event/special-events-eshs-home-51/
LOCATION:MO
ATTACH;FMTTYPE=image/png:https://events.excelsiorcitizen.com/wp-content/uploads/2026/02/essd-logo-1.png
END:VEVENT
BEGIN:VEVENT
DTSTART;TZID=UTC:20260410T160000
DTEND;TZID=UTC:20260410T180000
DTSTAMP:20260420T000553
CREATED:20260103T022446Z
LAST-MODIFIED:20260406T043201Z
UID:10002668-1775836800-1775844000@events.excelsiorcitizen.com
SUMMARY:Baseball: Varsity  vs. St. Joseph Central (Away)
DESCRIPTION:Type: Game Opponent: St. Joseph Central
URL:https://events.excelsiorcitizen.com/event/baseball-varsity-vs-st-joseph-central-away/
LOCATION:Phil Welch Stadium
ATTACH;FMTTYPE=image/jpeg:https://events.excelsiorcitizen.com/wp-content/uploads/2023/06/tigers-baseball-offense.jpeg
END:VEVENT
BEGIN:VEVENT
DTSTART;TZID=UTC:20260410T160000
DTEND;TZID=UTC:20260410T180000
DTSTAMP:20260420T000553
CREATED:20260103T022447Z
LAST-MODIFIED:20260406T043324Z
UID:10002670-1775836800-1775844000@events.excelsiorcitizen.com
SUMMARY:Track: Varsity vs. Kearney (Away)
DESCRIPTION:Type: Invitational Opponent: Kearney
URL:https://events.excelsiorcitizen.com/event/track-varsity-vs-kearney-away/
LOCATION:Kearney High School
END:VEVENT
BEGIN:VEVENT
DTSTART;TZID=UTC:20260410T160000
DTEND;TZID=UTC:20260410T200000
DTSTAMP:20260420T000553
CREATED:20260103T022446Z
LAST-MODIFIED:20260406T043120Z
UID:10002667-1775836800-1775851200@events.excelsiorcitizen.com
SUMMARY:Tennis: Boys Varsity and JV vs. Winnetonka (Home)
DESCRIPTION:Type: Match Opponent: Winnetonka
URL:https://events.excelsiorcitizen.com/event/tennis-boys-varsity-vs-winnetonka-home/
LOCATION:Excelsior Springs Middle School  Tennis Courts
ATTACH;FMTTYPE=image/jpeg:https://events.excelsiorcitizen.com/wp-content/uploads/2024/05/eshs-mens-tennis-conf-champs.jpg
END:VEVENT
BEGIN:VEVENT
DTSTART;TZID=America/Chicago:20260410T170000
DTEND;TZID=America/Chicago:20260410T200000
DTSTAMP:20260420T000553
CREATED:20260223T063117Z
LAST-MODIFIED:20260223T063117Z
UID:10004555-1775840400-1775851200@events.excelsiorcitizen.com
SUMMARY:Murder at the Masquerade - Billionaires' Club Annual Ball
DESCRIPTION:Step into a glamorous masquerade where secrets swirl and a murderer lurks. Unmask the culprit in this immersive mystery at The Elms.\n\nJoin us at The Elms Hotel & Spa for Murder at the Masquerade – Billionaires’ Club Annual Ball\, an immersive evening where elegance meets intrigue. Guests will enjoy a seasonally inspired dinner\, crafted by our culinary team to highlight the flavors of spring\, before stepping into a glamorous world of silks\, feathers\, and concealed identities. When a shocking death disrupts the opulent festivities\, every masked guest becomes a suspect.\n\nThroughout the night\, attendees will gather clues\, trade information\, and unravel secrets hidden behind ornate Venetian masks as they work to unmask the killer. Sophisticated attire sets the tone for a night filled with mystery\, high-society theatrics\, and interactive fun—an unforgettable experience where every conversation could change the course of the investigation.
URL:https://events.excelsiorcitizen.com/event/murder-at-the-masquerade-billionaires-club-annual-ball/
LOCATION:The Elms Hotel and Spa\, 401 Regent St\, Excelsior Springs\, MO\, 64024\, United States
ATTACH;FMTTYPE=image/jpeg:https://events.excelsiorcitizen.com/wp-content/uploads/2026/02/638165856_1326073026220056_3035291537812476933_n-1.jpg
END:VEVENT
BEGIN:VEVENT
DTSTART;TZID=America/Chicago:20260410T173000
DTEND;TZID=America/Chicago:20260410T183000
DTSTAMP:20260420T000554
CREATED:20260316T063908Z
LAST-MODIFIED:20260316T063908Z
UID:10004612-1775842200-1775845800@events.excelsiorcitizen.com
SUMMARY:Dog Bone Candle Class
DESCRIPTION:Make your own cute dog bone candle! Bring your favorite girlfriends and make this cutie! You’ll get to mix your scent\, pour your candle\, top it with some dried florals\, meet new friends\, enjoy refreshments and shop at Solana Boutique with a discount! The candles take about an hour to cool after pouring. Go explore/have dinner and come back to take your candle home or return another day to pick up your candle. I can also deliver!! Candle making direction by Savanna Nave in Solana Event Space. BYOB!
URL:https://events.excelsiorcitizen.com/event/dog-bone-candle-class/
LOCATION:Solana On Broadway
ATTACH;FMTTYPE=image/jpeg:https://events.excelsiorcitizen.com/wp-content/uploads/2026/03/649135686_929322272806369_3956014565773846950_n.jpg
END:VEVENT
BEGIN:VEVENT
DTSTART;TZID=America/Chicago:20260410T190000
DTEND;TZID=America/Chicago:20260410T210000
DTSTAMP:20260420T000554
CREATED:20260316T070045Z
LAST-MODIFIED:20260316T070045Z
UID:10004621-1775847600-1775854800@events.excelsiorcitizen.com
SUMMARY:Peter Pan & Wendy | ES PAC
DESCRIPTION:ESHS Performing Arts Players\nApril 10-11 at 7:00pm\n\n\nSunday April 12 at 2pm
URL:https://events.excelsiorcitizen.com/event/peter-pan-wendy-es-pac/2026-04-10/
LOCATION:Excelsior Springs Performing Arts Center
ATTACH;FMTTYPE=image/jpeg:https://events.excelsiorcitizen.com/wp-content/uploads/2026/03/649822143_25910172705320895_7173013930759643882_n.jpg
END:VEVENT
BEGIN:VEVENT
DTSTART;TZID=America/Chicago:20260410T193000
DTEND;TZID=America/Chicago:20260410T203000
DTSTAMP:20260420T000554
CREATED:20260407T044614Z
LAST-MODIFIED:20260407T044614Z
UID:10004680-1775849400-1775853000@events.excelsiorcitizen.com
SUMMARY:Cornhole Tournament Benefit
DESCRIPTION:Supporting Kevin Gaines and Family\nJoin us for a night of fun\, competition\, and community—all for a great cause!\n—\n APRIL 10\, 2026 7:30 PM Excelsior Springs Elks Lodge\n—\n###  TOURNAMENT DETAILS$50 per Team• 2 Game Guarantee (Sets Brackets)• Followed by Elimination Bracket Play• Payouts to Top 3 Teams\n—\n###  EVENT FEATURES• 50/50 Raffle• Drinks Available• Family-Friendly Atmosphere\n—\n All proceeds benefit Kevin Gaines and family\n—\n###  SIGN UP / QUESTIONSTJ Curry816-812-2540\n—\n Come throw some bags and support a great family in their time of need! \nA WHFPD firefighter’s father was vacationing out of country when he was found unresponsive. After what has felt like forever (several days in hospitals out of the country)\, he’s now back stateside and just got out of ICU but is still in the hospital. Let’s show up and give our support to this family
URL:https://events.excelsiorcitizen.com/event/cornhole-tournament-benefit/
LOCATION:Elks Lodge\, 421 S Titus Ave\, Excelsior Springs\, MO\, 64024\, United States
ATTACH;FMTTYPE=image/png:https://events.excelsiorcitizen.com/wp-content/uploads/2026/04/Screenshot-2026-04-06-at-10.51.48-PM.png
END:VEVENT
BEGIN:VEVENT
DTSTART;TZID=UTC:20260411T083000
DTEND;TZID=UTC:20260411T120000
DTSTAMP:20260420T000554
CREATED:20260103T022448Z
LAST-MODIFIED:20260406T043814Z
UID:10002671-1775896200-1775908800@events.excelsiorcitizen.com
SUMMARY:Soccer: Girls Varsity  vs. Multiple Schools
DESCRIPTION:Type: Tournament Opponent: North Kansas City\, Oak Park\, Odessa\, Savannah\, St. Joseph\, Benton\, St. Joseph\,  Lafayette – Multiple Schools
URL:https://events.excelsiorcitizen.com/event/soccer-girls-varsity-vs-north-kansas-cityoak-parkodessasavannahst-joseph-bentonst-joseph-lafayettemultiple-schools-home/
LOCATION:Excelsior Springs High School  Tiger Stadium
ATTACH;FMTTYPE=image/jpeg:https://events.excelsiorcitizen.com/wp-content/uploads/2024/07/tiger-stadium-tiger.jpg
END:VEVENT
BEGIN:VEVENT
DTSTART;TZID=America/Chicago:20260411T090000
DTEND;TZID=America/Chicago:20260411T090000
DTSTAMP:20260420T000554
CREATED:20260112T051554Z
LAST-MODIFIED:20260406T044222Z
UID:10002818-1775898000-1775898000@events.excelsiorcitizen.com
SUMMARY:Beekeeping Fundamentals Workshop with Live Bees
DESCRIPTION:Discover the buzz about beekeeping in this hands-on workshop! Acquire the necessary skills for hive care\, honey production\, and bee health. This interactive session includes hive inspections with live bees. Come prepared to suit up and dive into the fascinating world of bees! \nCost: $75/person – $140 for two \nPrice includes hands-on learning\, printed materials\, morning doughnuts\, and water bottles \nBring a sack lunch\, drink of choice\, note taking supplies and a bee suit/veil\, if you have one. \nShould weather be an issue\, event will be rescheduled for Saturday\, April 18th \nLimited to 25 spots! Register by calling Dawn Summers – hitchhivehoney@gmail.com • 816-716-7395
URL:https://events.excelsiorcitizen.com/event/beekeeping-fundamentals-workshop-with-live-bees/
LOCATION:MO
ATTACH;FMTTYPE=image/jpeg:https://events.excelsiorcitizen.com/wp-content/uploads/2026/02/beekeeping-1.jpg
END:VEVENT
BEGIN:VEVENT
DTSTART;TZID=America/Chicago:20260411T103000
DTEND;TZID=America/Chicago:20260411T153000
DTSTAMP:20260420T000554
CREATED:20260124T235718Z
LAST-MODIFIED:20260125T000250Z
UID:10003898-1775903400-1775921400@events.excelsiorcitizen.com
SUMMARY:Second Saturday Wine Tour
DESCRIPTION:Join us for an all-inclusive Trolley Wine Tour experience.\nYour wine tour includes these three destinations:\n​ \n\nWillow Spring Mercantile-  Your adventure begins in the charming downtown of Excelsior Springs. Opened in 2005 by Jim and Daphne Bowman\, Willow Spring Mercantile is a beloved local gem. It proudly offers the largest selection of Missouri wines in the state\, along with an impressive lineup of craft beers and distilled spirits.  Settle into their beautiful wine cellar bistro and enjoy a relaxed brunch thoughtfully paired with Missouri-made wines. The brunch features a made-from-scratch pork (ham/bacon) vegetable quiche\, a fresh salad with seasonal toppings\, and a selection of fresh fruit. To finish on a sweet note\, guests are treated to a rich chocolate cappuccino brownie for dessert\, paired with the finale wine.\n\n  \n\nShamrock Hills Vineyard & Winery is second up. Nestled in the beautiful Missouri River Valley\, Shamrock Hills Vineyard and Winery is a hidden gem on a 323-acre farm. Mike & Denise Riley opened their doors in April 2023\, creating a welcoming space for visitors to enjoy great Missouri wines\, stunning views\, and the warmth of camaraderie. In 2023\, Shamrock planted 3\,000 vines across 5 acres\, adding an additional acre and 600 vines in 2024. While the estate vineyard grows and develops\, Shamrock Hills has partnered with Mid-Missouri Vineyards to provide grapes and produce their first couple of vintages. We are excited for you to try our wines and savor the beauty of the land that surrounds the tasting room.\n\n  \n\nVan Till Family Farm Winery\, your final destination is a scenic 20-minute Trolley ride to Van Till Family Farm Winery in Rayville\, where warm hospitality and handcrafted wines await. Relax in their picturesque garden setting and explore a variety of wines made from locally grown grapes. Don’t forget to place your order for their renowned wood-fired oven pizza- order sheets will be available on the trolley. (Food not included in ticket price)\n\nThis is a 21+ event only. ID required.
URL:https://events.excelsiorcitizen.com/event/second-saturday-wine-tour/2026-04-11/
LOCATION:Willow Spring Mercantile\, 249 E Broadway\, Excelsior Springs\, MO\, 64024\, United States
ATTACH;FMTTYPE=image/jpeg:https://events.excelsiorcitizen.com/wp-content/uploads/2025/11/trolley-other-trails-102525.jpg
END:VEVENT
BEGIN:VEVENT
DTSTART;TZID=America/Chicago:20260411T110000
DTEND;TZID=America/Chicago:20260411T130000
DTSTAMP:20260420T000554
CREATED:20260407T043909Z
LAST-MODIFIED:20260407T043909Z
UID:10004678-1775905200-1775912400@events.excelsiorcitizen.com
SUMMARY:Open House
DESCRIPTION:There will be an Open House at 35932 Highway 10\, Rayville\, MO 64084 \nMLS# 2601793
URL:https://events.excelsiorcitizen.com/event/open-house/2026-04-11/
LOCATION:MO
ATTACH;FMTTYPE=image/jpeg:https://events.excelsiorcitizen.com/wp-content/uploads/2026/04/open-house-1.jpg
END:VEVENT
BEGIN:VEVENT
DTSTART;TZID=America/Chicago:20260411T110000
DTEND;TZID=America/Chicago:20260411T200000
DTSTAMP:20260420T000554
CREATED:20260316T065755Z
LAST-MODIFIED:20260316T065755Z
UID:10004620-1775905200-1775937600@events.excelsiorcitizen.com
SUMMARY:Fence Stile Wine Run 5K
DESCRIPTION:🌿🍷🏃‍♀️ Saturday\, April 11 = Fence Stile’s 17th Anniversary Celebration! \nWe’re celebrating 17 years of being open — and turning the day into an easy\, family-friendly spring outing with live music\, makers\, and our Wine Run/Walk 5K. \nWe’re open 11 AM – 8 PM\nCome for an hour or make it an afternoon — either way\, we’d love to raise a glass with you. 🥂\n🎶 Live Music (two sets!)\n1–3 PM: Bob Morrison\n3–5 PM: JenKees \n💛 Two ways to support great causes\n✅ Wine Run/Walk 5K fundraiser: Gladstone Parks\, Recreation & Cultural Arts — Recreation Connection Scholarship Program\n✅ Herb plant fundraiser: The LAUGHH Foundation\n🏃‍♀️ Wine Run/Walk 5K (family-friendly + fun)\n5K packet pickup 4 PM\nStart times: 5:00 PM (Heat 1) + 6:30 PM (Heat 2) \nWhether you run\, jog\, walk\, or cheer on — it’s fresh air\, vineyard views\, and a great cause.\nFundraiser for Gladstone Parks\, Recreation & Cultural Arts — Recreation Connection Scholarship Program \nBring the kids\, bring the neighbors\, bring your walking buddy\, bring your dog— and come soak up a real spring day in the country. 🌸 \n👉 5K registration link: https://runsignup.com/…/ExcelsiorSprings/TopekaWineRun5k (price goes up on 3/14) \n(If you’re already signed up\, comment “IN!” so we can cheer you on!) \n#fencestilevineyardswineryanddistillery #ExcelsiorSprings #MissouriWine #WineRun #5K #RunWalk #LiveMusic #SpringWeekend #FamilyFriendly #CommunitySupport #GetOutside #ShopLocal
URL:https://events.excelsiorcitizen.com/event/fence-stile-wine-run-5k/
LOCATION:Fence Stile Vineyards and Winery\, 31010 W 124th St\, Excelsior Springs\, MO\, 64024\, United States
ATTACH;FMTTYPE=image/jpeg:https://events.excelsiorcitizen.com/wp-content/uploads/2026/03/649328057_1518969323567740_5848784735008079353_n.jpg
END:VEVENT
BEGIN:VEVENT
DTSTART;TZID=America/Chicago:20260411T130000
DTEND;TZID=America/Chicago:20260411T150000
DTSTAMP:20260420T000554
CREATED:20260316T064841Z
LAST-MODIFIED:20260316T064841Z
UID:10004616-1775912400-1775919600@events.excelsiorcitizen.com
SUMMARY:Live Music - Bob Morrison
DESCRIPTION:Enjoy free live music by Bob Morrison.
URL:https://events.excelsiorcitizen.com/event/live-music-bob-morrison-7/
LOCATION:Fence Stile Vineyards and Winery\, 31010 W 124th St\, Excelsior Springs\, MO\, 64024\, United States
ATTACH;FMTTYPE=image/jpeg:https://events.excelsiorcitizen.com/wp-content/uploads/2026/03/649429969_1518953563569316_218427679070139434_n.jpg
END:VEVENT
BEGIN:VEVENT
DTSTART;TZID=America/Chicago:20260411T130000
DTEND;TZID=America/Chicago:20260411T160000
DTSTAMP:20260420T000554
CREATED:20260208T200357Z
LAST-MODIFIED:20260208T200518Z
UID:10004092-1775912400-1775923200@events.excelsiorcitizen.com
SUMMARY:Frank at Van Till Family Farm Winery
DESCRIPTION:Frank Rardon will be performing a mix of original music and favorites from the 60s\, 70s\, 80s\, and 90s\,
URL:https://events.excelsiorcitizen.com/event/frank-at-van-till-family-farm-winery-12/2026-04-11/
LOCATION:Van Till Family Farm Winery\, 36575 W 140th St\, Rayville\, MO\, 64024\, United States
ATTACH;FMTTYPE=image/jpeg:https://events.excelsiorcitizen.com/wp-content/uploads/2026/02/frank-vantill-1.jpg
END:VEVENT
BEGIN:VEVENT
DTSTART;TZID=America/Chicago:20260411T140000
DTEND;TZID=America/Chicago:20260411T173000
DTSTAMP:20260420T000554
CREATED:20260112T055038Z
LAST-MODIFIED:20260407T052529Z
UID:10003531-1775916000-1775928600@events.excelsiorcitizen.com
SUMMARY:Prom Closet
DESCRIPTION:Excelsior Springs High School Student Council is hosting a Prom event for area students to shop our prom closet for FREE prom attire. The Prom closet will be open on Saturday\, April 11th\, from 2:00 to 5:30 pm at the ESHS Commons. In order to make this event AWESOME for our students\, we are in need of donations! \nPlease check your closets for items that could help a student go to prom. \nDonations will be accepted at the High School main entrance any day school is open from 7:00 am to 3:00 pm. We are in need of dresses\, shirts/ties/pants\, and accessories.
URL:https://events.excelsiorcitizen.com/event/prom-closet/
LOCATION:Excelsior Springs High School\, 612 Tiger Drive\, Excelsior Springs\, MO\, 64024\, United States
END:VEVENT
BEGIN:VEVENT
DTSTART;TZID=America/Chicago:20260411T150000
DTEND;TZID=America/Chicago:20260411T170000
DTSTAMP:20260420T000554
CREATED:20260316T063339Z
LAST-MODIFIED:20260316T063339Z
UID:10004609-1775919600-1775926800@events.excelsiorcitizen.com
SUMMARY:Live Music - JenKees
DESCRIPTION:Enjoy free live music!! A variety of wine\, spirits\, beer\, non alcoholic options and nibbles to choose from!
URL:https://events.excelsiorcitizen.com/event/live-music-jenkees-3/
LOCATION:Fence Stile Vineyards and Winery\, 31010 W 124th St\, Excelsior Springs\, MO\, 64024\, United States
ATTACH;FMTTYPE=image/jpeg:https://events.excelsiorcitizen.com/wp-content/uploads/2026/03/650107539_1518950736902932_3984768697377771688_n.jpg
END:VEVENT
BEGIN:VEVENT
DTSTART;TZID=America/Chicago:20260411T150000
DTEND;TZID=America/Chicago:20260411T170000
DTSTAMP:20260420T000554
CREATED:20260322T210607Z
LAST-MODIFIED:20260322T210607Z
UID:10004656-1775919600-1775926800@events.excelsiorcitizen.com
SUMMARY:Live Music with Butter & Honey at Shamrock Hills
DESCRIPTION:Butter & Honey make their winery debut on Saturday\, April 11\, performing live from 3–5 p.m. This Kansas City duo blends soulful vocals\, creative guitar work\, and an intimate acoustic vibe that pairs perfectly with award-winning wine and a relaxed afternoon among the vineyards
URL:https://events.excelsiorcitizen.com/event/live-music-with-butter-honey-at-shamrock-hills/
LOCATION:Shamrock Hills Vineyard and Winery\, 12300 Shoemaker Rd.\, Excelsior Springs\, MO\, 64024\, United States
ATTACH;FMTTYPE=image/jpeg:https://events.excelsiorcitizen.com/wp-content/uploads/2026/03/654669762_957757030535553_1143228254772061498_n-1.jpg
END:VEVENT
BEGIN:VEVENT
DTSTART;TZID=America/Chicago:20260411T190000
DTEND;TZID=America/Chicago:20260411T210000
DTSTAMP:20260420T000554
CREATED:20260316T070045Z
LAST-MODIFIED:20260316T070045Z
UID:10004622-1775934000-1775941200@events.excelsiorcitizen.com
SUMMARY:Peter Pan & Wendy | ES PAC
DESCRIPTION:ESHS Performing Arts Players\nApril 10-11 at 7:00pm\n\n\nSunday April 12 at 2pm
URL:https://events.excelsiorcitizen.com/event/peter-pan-wendy-es-pac/2026-04-11/
LOCATION:Excelsior Springs Performing Arts Center
ATTACH;FMTTYPE=image/jpeg:https://events.excelsiorcitizen.com/wp-content/uploads/2026/03/649822143_25910172705320895_7173013930759643882_n.jpg
END:VEVENT
BEGIN:VEVENT
DTSTART;TZID=America/Chicago:20260411T200000
DTEND;TZID=America/Chicago:20260411T230000
DTSTAMP:20260420T000554
CREATED:20260407T045339Z
LAST-MODIFIED:20260407T045339Z
UID:10004681-1775937600-1775948400@events.excelsiorcitizen.com
SUMMARY:Cruise Into Sonic for a Cause
DESCRIPTION:Cruise into Sonic for a cause this April!\n\n\nOn Saturdays from 8 p.m. to close\, the Excelsior Springs Sonic will donate 10% of sales to support two great local causes.\n\n\n\nApril 4 – Meals & a Visit\nApril 11 – Excelsior Springs Farmers Market\nApril 18 – Meals & a Visit\nApril 25 – Excelsior Springs Farmers Market\n\n\n\nIt is an easy and delicious way to support programs that make a difference right here in our community. Grab your favorite Sonic treats\, spread the word\, and help give back close to home.
URL:https://events.excelsiorcitizen.com/event/cruise-into-sonic-for-a-cause/
LOCATION:Sonic Drive-Thru\, 1715 W Jesse James Rd\, Excelsior Springs\, MO\, 64024\, United States
ATTACH;FMTTYPE=image/jpeg:https://events.excelsiorcitizen.com/wp-content/uploads/2026/04/662204502_921849103947579_8283984696993560289_n.jpg
END:VEVENT
END:VCALENDAR