BEGIN:VCALENDAR
VERSION:2.0
PRODID:-// - ECPv6.15.20//NONSGML v1.0//EN
CALSCALE:GREGORIAN
METHOD:PUBLISH
X-ORIGINAL-URL:https://events.excelsiorcitizen.com
X-WR-CALDESC:Events for 
REFRESH-INTERVAL;VALUE=DURATION:PT1H
X-Robots-Tag:noindex
X-PUBLISHED-TTL:PT1H
BEGIN:VTIMEZONE
TZID:UTC
BEGIN:STANDARD
TZOFFSETFROM:+0000
TZOFFSETTO:+0000
TZNAME:UTC
DTSTART:20250101T000000
END:STANDARD
END:VTIMEZONE
BEGIN:VTIMEZONE
TZID:America/Chicago
BEGIN:DAYLIGHT
TZOFFSETFROM:-0600
TZOFFSETTO:-0500
TZNAME:CDT
DTSTART:20250309T080000
END:DAYLIGHT
BEGIN:STANDARD
TZOFFSETFROM:-0500
TZOFFSETTO:-0600
TZNAME:CST
DTSTART:20251102T070000
END:STANDARD
BEGIN:DAYLIGHT
TZOFFSETFROM:-0600
TZOFFSETTO:-0500
TZNAME:CDT
DTSTART:20260308T080000
END:DAYLIGHT
BEGIN:STANDARD
TZOFFSETFROM:-0500
TZOFFSETTO:-0600
TZNAME:CST
DTSTART:20261101T070000
END:STANDARD
BEGIN:DAYLIGHT
TZOFFSETFROM:-0600
TZOFFSETTO:-0500
TZNAME:CDT
DTSTART:20270314T080000
END:DAYLIGHT
BEGIN:STANDARD
TZOFFSETFROM:-0500
TZOFFSETTO:-0600
TZNAME:CST
DTSTART:20271107T070000
END:STANDARD
END:VTIMEZONE
BEGIN:VEVENT
DTSTART;TZID=UTC:20260327T160000
DTEND;TZID=UTC:20260327T180000
DTSTAMP:20260420T014212
CREATED:20260103T022240Z
LAST-MODIFIED:20260323T034246Z
UID:10002615-1774627200-1774634400@events.excelsiorcitizen.com
SUMMARY:Track: Varsity vs. Smithville (Away)
DESCRIPTION:Type: Invitational Opponent: Smithville
URL:https://events.excelsiorcitizen.com/event/track-varsity-vs-smithville-away/
LOCATION:Smithville High School
ATTACH;FMTTYPE=image/jpeg:https://events.excelsiorcitizen.com/wp-content/uploads/2026/03/ESHS-Activities.jpg
END:VEVENT
BEGIN:VEVENT
DTSTART;TZID=America/Chicago:20260327T163000
DTEND;TZID=America/Chicago:20260327T193000
DTSTAMP:20260420T014212
CREATED:20260216T223942Z
LAST-MODIFIED:20260216T224058Z
UID:10004106-1774629000-1774639800@events.excelsiorcitizen.com
SUMMARY:Fish Fridays
DESCRIPTION:Three Fish Tacos with a crunchy cabbage slaw and fresh fixings\, with Spanish Rice and Beans and Chips and Salsa – $15 \nTwo slices of cheese pizza – $5 \nBring the whole family! Dine-In or Takeout\, Cash or Credit accepted \nBoth include a soda\, water\, or tea
URL:https://events.excelsiorcitizen.com/event/fish-fridays/2026-03-27/
LOCATION:St Ann Catholic Church\, 1503 Tracy Ave\, Excelsior Springs\, MO\, 64024\, United States
ATTACH;FMTTYPE=image/jpeg:https://events.excelsiorcitizen.com/wp-content/uploads/2026/02/634735504_122099229417267435_8569208397950544531_n-1.jpg
END:VEVENT
BEGIN:VEVENT
DTSTART;TZID=America/Chicago:20260327T180000
DTEND;TZID=America/Chicago:20260327T190000
DTSTAMP:20260420T014212
CREATED:20260205T171626Z
LAST-MODIFIED:20260323T035129Z
UID:10004002-1774634400-1774638000@events.excelsiorcitizen.com
SUMMARY:Aqua Kids
DESCRIPTION:Free for all to participate\nGeared to ages 2-10 years old
URL:https://events.excelsiorcitizen.com/event/aqua-kids-5/
LOCATION:Excelsior Springs Community Center\, 500 Tiger Dr\, Excelsior Springs\, MO\, United States
ATTACH;FMTTYPE=image/jpeg:https://events.excelsiorcitizen.com/wp-content/uploads/2026/02/649565583_1603592234631074_3309623514868405970_n-2.jpg
GEO:39.349002;-94.244358
X-APPLE-STRUCTURED-LOCATION;VALUE=URI;X-ADDRESS=Excelsior Springs Community Center 500 Tiger Dr Excelsior Springs MO United States;X-APPLE-RADIUS=500;X-TITLE=500 Tiger Dr:geo:-94.244358,39.349002
END:VEVENT
BEGIN:VEVENT
DTSTART;TZID=America/Chicago:20260327T190000
DTEND;TZID=America/Chicago:20260327T210000
DTSTAMP:20260420T014212
CREATED:20260112T225544Z
LAST-MODIFIED:20260323T033948Z
UID:10003751-1774638000-1774645200@events.excelsiorcitizen.com
SUMMARY:Four Course Wine Dinner with Musket Cellars
DESCRIPTION:A wonderful dinner with winemaker Kim Musket from Musket Cellars. This event in an intimate wine cellar is served European style where food and wine are shared slowly over the course of the night. Learn how food and wine compliment one another and hear all about one of Missouri’s newest wineries. Reservations required. Menu to be released soon
URL:https://events.excelsiorcitizen.com/event/four-course-wine-dinner-with-musket-cellars/
LOCATION:Willow Spring Mercantile\, 249 E Broadway\, Excelsior Springs\, MO\, 64024\, United States
ATTACH;FMTTYPE=image/jpeg:https://events.excelsiorcitizen.com/wp-content/uploads/2026/02/613133490_1327223849423087_7031135478094728064_n-1.jpg
END:VEVENT
BEGIN:VEVENT
DTSTART;TZID=America/Chicago:20260327T190000
DTEND;TZID=America/Chicago:20260327T210000
DTSTAMP:20260420T014212
CREATED:20260310T033942Z
LAST-MODIFIED:20260310T033942Z
UID:10004582-1774638000-1774645200@events.excelsiorcitizen.com
SUMMARY:Second Psychic Friday Gallery Event with Erin Wray
DESCRIPTION:Psychic Medium Erin Wray will be doing a special Gallery Reading on March 27th at 7:00pm. Buy your tickets now to reserve your spot.
URL:https://events.excelsiorcitizen.com/event/second-psychic-friday-gallery-event-with-erin-wray/
LOCATION:Casa Di Vite International Wine Cafe\, 216 Spring St.\, Excelsior Springs\, MO\, 64024\, United States
ATTACH;FMTTYPE=image/jpeg:https://events.excelsiorcitizen.com/wp-content/uploads/2026/03/647208315_1440318988105186_3141281074031759451_n.jpg
END:VEVENT
BEGIN:VEVENT
DTSTART;TZID=America/Chicago:20260328T093000
DTEND;TZID=America/Chicago:20260328T103000
DTSTAMP:20260420T014212
CREATED:20260310T063848Z
LAST-MODIFIED:20260310T063848Z
UID:10004600-1774690200-1774693800@events.excelsiorcitizen.com
SUMMARY:Easter Egg Hunt
DESCRIPTION:Grab your baskets and come out for some egg hunting fun! Kids can search for eggs and enjoy a fun morning celebrating Easter with the community. Saturday\, March 28th 9:30 AM Grass fields behind the ESCC (next to the tennis courts) FREE Event Ages 0–15Sponsored by Family WealthCare Center !Don’t forget to bring a basket or bag to collect your eggs. Bring the family and we’ll see you there!
URL:https://events.excelsiorcitizen.com/event/easter-egg-hunt-2/
LOCATION:Excelsior Springs Community Center\, 500 Tiger Dr\, Excelsior Springs\, MO\, United States
ATTACH;FMTTYPE=image/jpeg:https://events.excelsiorcitizen.com/wp-content/uploads/2026/03/649082235_1438889631611927_3112169881443930258_n.jpg
GEO:39.349002;-94.244358
X-APPLE-STRUCTURED-LOCATION;VALUE=URI;X-ADDRESS=Excelsior Springs Community Center 500 Tiger Dr Excelsior Springs MO United States;X-APPLE-RADIUS=500;X-TITLE=500 Tiger Dr:geo:-94.244358,39.349002
END:VEVENT
BEGIN:VEVENT
DTSTART;TZID=UTC:20260328T100000
DTEND;TZID=UTC:20260328T140000
DTSTAMP:20260420T014212
CREATED:20260108T224817Z
LAST-MODIFIED:20260323T034535Z
UID:10002766-1774692000-1774706400@events.excelsiorcitizen.com
SUMMARY:Baseball: Varsity vs. St. Joseph Benton (Home)
DESCRIPTION:Type: Game Opponent: St. Joseph Benton
URL:https://events.excelsiorcitizen.com/event/baseball-varsity-vs-st-joseph-benton-home-2/
LOCATION:Excelsior Springs High School  Baseball Field 3 (turf)
ATTACH;FMTTYPE=image/jpeg:https://events.excelsiorcitizen.com/wp-content/uploads/2026/03/ESHS-Activities.jpg
END:VEVENT
BEGIN:VEVENT
DTSTART;TZID=America/Chicago:20260328T103000
DTEND;TZID=America/Chicago:20260328T153000
DTSTAMP:20260420T014212
CREATED:20260125T005209Z
LAST-MODIFIED:20260125T005209Z
UID:10003916-1774693800-1774711800@events.excelsiorcitizen.com
SUMMARY:Fourth Saturday Wine Tour
DESCRIPTION:Join us for an all-inclusive Trolley Wine Tour experience.\nYour wine tour includes these three destinations:\n​ \n\nWillow Spring Mercantile-  Your adventure begins in the charming downtown of Excelsior Springs. Opened in 2005 by Jim and Daphne Bowman\, Willow Spring Mercantile is a beloved local gem. It proudly offers the largest selection of Missouri wines in the state\, along with an impressive lineup of craft beers and distilled spirits.  Settle into their beautiful wine cellar bistro and enjoy a relaxed brunch thoughtfully paired with Missouri-made wines. The brunch features a made-from-scratch pork (ham/bacon) vegetable quiche\, a fresh salad with seasonal toppings\, and a selection of fresh fruit. To finish on a sweet note\, guests are treated to a rich chocolate cappuccino brownie for dessert\, paired with the finale wine.\n\n  \n\nFence Stile Vineyards\, Winery &  Distillery– Situated on 55 acres of beautiful land\, Fence Stile offers eight varieties of grapes\, making up 10 acres of vineyards. The estate winery focuses on making dry and semi-dry wines. Fence Stile is also a distillery crafting small-batch spirits branded as “Nyx Spirits”. Guests may enjoy wine\, beer\, spirits\, cocktails\, mimosas and sangrias while they enjoy live music\, movies on the patio\, Firepit Fridays\, yoga\, food\, wine pairings and many more seasonal activities. Check out their web!\n\n  \n\nVan Till Family Farm Winery\, your final destination is a scenic 20-minute Trolley ride to Van Till Family Farm Winery in Rayville\, where warm hospitality and handcrafted wines await. Relax in their picturesque garden setting and explore a variety of wines made from locally grown grapes. Don’t forget to place your order for their renowned wood-fired oven pizza- order sheets will be available on the trolley. (Food not included in ticket price)\n\n        This is a 21+ event only. ID required.
URL:https://events.excelsiorcitizen.com/event/fourth-saturday-wine-tour/2026-03-28/
LOCATION:Willow Spring Mercantile\, 249 E Broadway\, Excelsior Springs\, MO\, 64024\, United States
ATTACH;FMTTYPE=image/jpeg:https://events.excelsiorcitizen.com/wp-content/uploads/2024/03/new-trolley-033124.jpg
END:VEVENT
BEGIN:VEVENT
DTSTART;TZID=America/Chicago:20260328T110000
DTEND;TZID=America/Chicago:20260328T140000
DTSTAMP:20260420T014212
CREATED:20260322T203637Z
LAST-MODIFIED:20260322T203637Z
UID:10004643-1774695600-1774706400@events.excelsiorcitizen.com
SUMMARY:Easter Bunny Visit
DESCRIPTION:Come grab some pictures with the Easter Bunny! Kids and/or Pets welcome! Goodies will be handed out while supplies last!
URL:https://events.excelsiorcitizen.com/event/easter-bunny-visit/
LOCATION:Inside Out Escape Entertainment\, 137 Crown Hill Rd\, Excelsior Springs\, MO\, 64024\, United States
ATTACH;FMTTYPE=image/jpeg:https://events.excelsiorcitizen.com/wp-content/uploads/2026/03/655960347_1372582215068188_5172206392039538089_n-1.jpg
END:VEVENT
BEGIN:VEVENT
DTSTART;TZID=America/Chicago:20260328T120000
DTEND;TZID=America/Chicago:20260328T170000
DTSTAMP:20260420T014212
CREATED:20260112T051424Z
LAST-MODIFIED:20260323T035236Z
UID:10002788-1774699200-1774717200@events.excelsiorcitizen.com
SUMMARY:Sippin’ Into Springtime
DESCRIPTION:Shake off the winter blues and welcome spring with a day of wine tastings\, shopping and fun in Historic Downtown Excelsior Springs! With over 20 participating locations\, including boutiques\, galleries\, shops\, eateries and drinkeries\, this event is a perfect way to explore everything our downtown has to offer while enjoying a variety of wine samples. \nHow It WorksPurchase your ticket to receive access to all participating locations. Each stop offers a unique wine sample\, giving you a chance to sip and savor as you explore downtown. Bring your friends and make a day of it – there’s something for everyone to enjoy! \nTickets IncludeAccess to wine tastings at 20+ locationsA souvenir wine glass. Access to ride the trolley \nWhat to ExpectNew spring releases and hopping deals and discounts. Delicious bites and snacks available for purchaseAn atmosphere filled with music and fun \nGet Ready to Sip & Stroll!\nGather your friends\, grab your tickets\, and prepare for a day filled with great wine\, fantastic shopping and plenty of springtime vibes! This event is perfect for wine lovers and anyone looking to experience the charm of Downtown Excelsior Springs! \nTickets have not yet gone on sale for this event
URL:https://events.excelsiorcitizen.com/event/sippin-into-springtime-2/
LOCATION:Downtown Excelsior Springs\, Excelsior Springs\, MO\, 64024\, United States
ATTACH;FMTTYPE=image/jpeg:https://events.excelsiorcitizen.com/wp-content/uploads/2026/01/639940298_1496102819184295_6738212930964766145_n-1.jpg
END:VEVENT
BEGIN:VEVENT
DTSTART;TZID=UTC:20260328T140000
DTEND;TZID=UTC:20260328T150000
DTSTAMP:20260420T014212
CREATED:20260223T004535Z
LAST-MODIFIED:20260323T035801Z
UID:10004443-1774706400-1774710000@events.excelsiorcitizen.com
SUMMARY:WHFPD Auxiliary's Annual Easter Egg Hunt
DESCRIPTION:Come out to the station for games\, photo opportunities with the Easter Bunny and an Easter egg hunt! This is a free event to the public. Make sure you bring your Easter basket for the egg hunt!\nhttps://www.facebook.com/events/1593012688403747/
URL:https://events.excelsiorcitizen.com/event/whfpd-auxiliarys-annual-easter-egg-hunt-2/
LOCATION:5998 E State Route 10\, 10580 Mo O Hwy\, Excelsior Springs\, MO\, United States
ATTACH;FMTTYPE=image/jpeg:https://events.excelsiorcitizen.com/wp-content/uploads/2026/02/625125165_1346274184164213_2228569329555414183_n-1-1.jpg
ORGANIZER;CN="Wood Heights Fire Protection District - New":MAILTO:noreply@facebookmail.com
GEO:39.287005;-94.174309
X-APPLE-STRUCTURED-LOCATION;VALUE=URI;X-ADDRESS=5998 E State Route 10 10580 Mo O Hwy Excelsior Springs MO United States;X-APPLE-RADIUS=500;X-TITLE=10580 Mo O Hwy:geo:-94.174309,39.287005
END:VEVENT
BEGIN:VEVENT
DTSTART;TZID=America/Chicago:20260328T153000
DTEND;TZID=America/Chicago:20260328T173000
DTSTAMP:20260420T014212
CREATED:20260125T181539Z
LAST-MODIFIED:20260323T040329Z
UID:10003946-1774711800-1774719000@events.excelsiorcitizen.com
SUMMARY:Live Music with Mike Murphy
DESCRIPTION:Mike Murphy returns to the winery on Saturday\, March 28\, performing live from 3:30–5:30p.m. Enjoy an easygoing afternoon of acoustic rock\, pop\, and country favorites paired with award-winning wine\, great food\, and vineyard views.
URL:https://events.excelsiorcitizen.com/event/live-music-with-mike-murphy-8/
LOCATION:Shamrock Hills Vineyard and Winery\, 12300 Shoemaker Rd.\, Excelsior Springs\, MO\, 64024\, United States
ATTACH;FMTTYPE=image/jpeg:https://events.excelsiorcitizen.com/wp-content/uploads/2026/01/650600843_955047914139798_6355562615162712800_n-2.jpg
END:VEVENT
BEGIN:VEVENT
DTSTART;TZID=America/Chicago:20260328T180000
DTEND;TZID=America/Chicago:20260328T200000
DTSTAMP:20260420T014212
CREATED:20260310T041044Z
LAST-MODIFIED:20260310T041044Z
UID:10004592-1774720800-1774728000@events.excelsiorcitizen.com
SUMMARY:Blacklight Beatdown - Fitness Kickboxing Class and BJJ Open Mat
DESCRIPTION:Blacklight Beatdown\nStride Martial Arts & Fitness March 28\, 2026 |  6:00 PM – 8:00 PM\nFREE event – just RSVP to save your spot (limited space – don’t wait!)\n\n 6:00–7:00 PM: Fitness Kickboxing ClassHigh-energy workout with loud music\, lights way down low\, and tons of party effects: colored lasers\, strobes\, spots\, and blacklight vibes.\nCombos\, cardio\, and sweat – built for all skill & fitness levels.Ages: 15+\n\n 7:00–8:00 PM: BJJ Open MatRight to the mats for open rolling. Youth and Adult\, Gi or no-gi – all welcome.Ages: 6+ \n\nRoom will be dark + packed with party lighting\, lasers\, and energy. Music loud.\nRSVP now to lock in your spot!Tag a training partner you want to see there
URL:https://events.excelsiorcitizen.com/event/blacklight-beatdown-fitness-kickboxing-class-and-bjj-open-mat/
LOCATION:Stride Martial Arts and Fitness\, 2365 Vintage Drive\, Excelsior Springs\, MO 64024\, MO\, 64024\, United States
ATTACH;FMTTYPE=image/jpeg:https://events.excelsiorcitizen.com/wp-content/uploads/2026/03/646699755_769914272852288_4645210678705521678_n.jpg
END:VEVENT
BEGIN:VEVENT
DTSTART;TZID=America/Chicago:20260328T183000
DTEND;TZID=America/Chicago:20260328T203000
DTSTAMP:20260420T014212
CREATED:20260322T204209Z
LAST-MODIFIED:20260322T204209Z
UID:10004645-1774722600-1774729800@events.excelsiorcitizen.com
SUMMARY:Live Music: Mike Murphy
DESCRIPTION: Close out the day at Warbird Whiskey with some live acoustic tunes from all eras of rock/pop/country! Grab a whiskey\, make some requests\, and sing along to all your favorites! 
URL:https://events.excelsiorcitizen.com/event/live-music-mike-murphy/
LOCATION:Warbird Whiskey
ATTACH;FMTTYPE=image/jpeg:https://events.excelsiorcitizen.com/wp-content/uploads/2026/03/651707955_1504800671376120_3145340768501681076_n-1.jpg
END:VEVENT
BEGIN:VEVENT
DTSTART;TZID=America/Chicago:20260328T190000
DTEND;TZID=America/Chicago:20260328T220000
DTSTAMP:20260420T014212
CREATED:20260119T005534Z
LAST-MODIFIED:20260323T040703Z
UID:10003881-1774724400-1774735200@events.excelsiorcitizen.com
SUMMARY:Practice Party - One Step at a Time Ballroom Dance
DESCRIPTION:
URL:https://events.excelsiorcitizen.com/event/practice-party-one-step-at-a-time-ballroom-dance-3/2026-03-28/
LOCATION:One Step at a Time Ballroom Dance\, 423 S Thompson Ave\, Excelsior Springs\, MO\, 64024\, United States
ATTACH;FMTTYPE=image/jpeg:https://events.excelsiorcitizen.com/wp-content/uploads/2026/02/628682006_1480984227366682_2557224232100571505_n-2.jpg
END:VEVENT
BEGIN:VEVENT
DTSTART;TZID=America/Chicago:20260329T110000
DTEND;TZID=America/Chicago:20260329T150000
DTSTAMP:20260420T014212
CREATED:20260322T203336Z
LAST-MODIFIED:20260322T203336Z
UID:10004642-1774782000-1774796400@events.excelsiorcitizen.com
SUMMARY:Virginia Howard Estate
DESCRIPTION:Mac’s Auction ServiceSunday\, March 2911 a.m.Y Hwy\, Excelsior Springs\, MO\n\nVirginia Howard Estate\n\nDue to the family getting the home ready to sell\, they’ve brought the whole house into our building! Fantastic auction!\n\nGlassware: nice selection of blue willow pieces\, flow blue platter\, large vases & planters\, crystal glass\, water sets\, colored glass\, fluted pieces and lots more. Misc: handicap mobile scooter with battery & charger\, handicap iron loading ramp\, hand ramps\, sewing items\, disc music box\, marbles\, old glasses\, game calls\, small collectibles\, pictures\, stained glass\, fancy clocks\, large selection of kitchen items inc. corning ware\, pyrex\, stainless steel pots\, small appliances\, pots\, pans\, silverware\, cutlery sets\, microwave and more\, iron skillet\, 1940s Lionel train\, books and cookbooks\, box lots\, fold up dolly\, sets of lamps\, mirror\, antique metal table with two chairs\, several large boxes of Christmas items\, linens\, pillows\, throw rugs\, doilies\, sewing machine\, cool roll-around popcorn cart\, perfume set\, designer purses\, vintage fur coat (coyote) really nice shape\, copper boiler\, Furniture: children’s ice cream table w/4 chairs (nice)\, 2 occasional chairs\, set of 6 oak pressed wood table chairs\, end tables\, plant stand\, camelback trunk\, ornate parlor table\, rocking chairs\, 2 desk tables\, stackable tables\, card table & chairs\, laptop computer\, glass lamp shades\, dresser\, 3pc luggage\, much more!\n\nGo to www.macsauction.com or our facebook page for pictures of this fantastic sale. Everything is in excellent condition.\n\nThe handicap scooter is like new and runs good. Still unpacking boxes!\n\nWe accept cash or check with valid ID
URL:https://events.excelsiorcitizen.com/event/virginia-howard-estate/
LOCATION:Mac’s Auction\, Y Highway\, 1002 Prentiss Ave\, Excelsior Springs\, MO\, 64024\, United States
ATTACH;FMTTYPE=image/jpeg:https://events.excelsiorcitizen.com/wp-content/uploads/2026/03/654592628_1640597560925665_7178361219655693930_n-1.jpg
END:VEVENT
BEGIN:VEVENT
DTSTART;TZID=America/Chicago:20260329T140000
DTEND;TZID=America/Chicago:20260329T150000
DTSTAMP:20260420T014212
CREATED:20260303T051103Z
LAST-MODIFIED:20260303T051103Z
UID:10004576-1774792800-1774796400@events.excelsiorcitizen.com
SUMMARY:Easter Egg Hunt at Wild Bunch
DESCRIPTION:We have the official date for the Easter Bunny and Egg Hunt this year. Can’t wait to see all the kiddos!
URL:https://events.excelsiorcitizen.com/event/easter-egg-hunt-at-wild-bunch/
LOCATION:Wild Bunch Flea Market\, 1218 Jesse James Rd\, Excelsior Springs\, MO\, 64024\, United States
ATTACH;FMTTYPE=image/jpeg:https://events.excelsiorcitizen.com/wp-content/uploads/2026/03/641553874_927774126335280_9150137086221299404_n-1.jpg
END:VEVENT
BEGIN:VEVENT
DTSTART;TZID=UTC:20260329T150000
DTEND;TZID=UTC:20260329T170000
DTSTAMP:20260420T014212
CREATED:20260205T171639Z
LAST-MODIFIED:20260323T214604Z
UID:10004027-1774796400-1774803600@events.excelsiorcitizen.com
SUMMARY:Live Music with Marshall Holles
DESCRIPTION:Marshall Holles brings heartfelt country music to the winery on Sunday\, March 29\, performing live from 3:00–5:00 p.m. With influences ranging from classic to modern country\, his easygoing style makes for a perfect afternoon of live music\, award-winning wine\, and vineyard views. \nhttps://www.facebook.com/events/2093330687874199/
URL:https://events.excelsiorcitizen.com/event/live-music-with-marshall-holles-11/
LOCATION:Shamrock Hills Vineyard and Winery\, 12300 Shoemaker Rd.\, Excelsior Springs\, MO\, 64024\, United States
ATTACH;FMTTYPE=image/jpeg:https://events.excelsiorcitizen.com/wp-content/uploads/2026/02/651453703_955047470806509_8234448839159238813_n-1.jpg
END:VEVENT
BEGIN:VEVENT
DTSTART;TZID=America/Chicago:20260329T160000
DTEND;TZID=America/Chicago:20260329T170000
DTSTAMP:20260420T014212
CREATED:20260119T004801Z
LAST-MODIFIED:20260323T040616Z
UID:10003876-1774800000-1774803600@events.excelsiorcitizen.com
SUMMARY:Rumba - One Step at a Time Ballroom Dance
DESCRIPTION:
URL:https://events.excelsiorcitizen.com/event/rumba-one-step-at-a-time-ballroom-dance/2026-03-29/
LOCATION:One Step at a Time Ballroom Dance\, 423 S Thompson Ave\, Excelsior Springs\, MO\, 64024\, United States
ATTACH;FMTTYPE=image/jpeg:https://events.excelsiorcitizen.com/wp-content/uploads/2026/02/628682006_1480984227366682_2557224232100571505_n-2.jpg
END:VEVENT
BEGIN:VEVENT
DTSTART;TZID=America/Chicago:20260330T100000
DTEND;TZID=America/Chicago:20260330T120000
DTSTAMP:20260420T014212
CREATED:20260316T070459Z
LAST-MODIFIED:20260316T070459Z
UID:10004625-1774864800-1774872000@events.excelsiorcitizen.com
SUMMARY:ES Community Center Lifeguard Prep Course
DESCRIPTION:Ever thought about becoming a lifeguard?We are hosting a FREE Lifeguard Prep Course for anyone interested in learning what lifeguarding is all about!This is the perfect opportunity for teens who: Love the water Want a meaningful summer job Are curious about lifeguarding but not sure where to startDuring this hands-on prep course\, you’ll get to:Learn basic lifeguard prerequisite skills Try lifeguard rescue techniques Practice CPR/AED & First Aid basics Ask questions and see if lifeguarding is right for you March 30 & April 1 10 AM – Noon Excelsior Springs Community Center FREE | Ages 14+(Participants must be 15+ to apply for a lifeguard position) Like the course? You can apply and interview on the spot! Register by March 29 online or in person.https://es-prcc.activityreg.com/selectactivity_t2.wcs…Questions? alexandriaarnold@es-prcc.com 816-656-2500Tag someone who would make a great lifeguard! 
URL:https://events.excelsiorcitizen.com/event/es-community-center-lifeguard-prep-course/2026-03-30/
LOCATION:Excelsior Springs Community Center\, 500 Tiger Dr\, Excelsior Springs\, MO\, United States
ATTACH;FMTTYPE=image/jpeg:https://events.excelsiorcitizen.com/wp-content/uploads/2026/03/648786650_1602679148055716_5737932697894538864_n.jpg
GEO:39.349002;-94.244358
X-APPLE-STRUCTURED-LOCATION;VALUE=URI;X-ADDRESS=Excelsior Springs Community Center 500 Tiger Dr Excelsior Springs MO United States;X-APPLE-RADIUS=500;X-TITLE=500 Tiger Dr:geo:-94.244358,39.349002
END:VEVENT
BEGIN:VEVENT
DTSTART;TZID=UTC:20260330T123000
DTEND;TZID=UTC:20260330T193000
DTSTAMP:20260420T014212
CREATED:20260103T022257Z
LAST-MODIFIED:20260223T010221Z
UID:10002617-1774873800-1774899000@events.excelsiorcitizen.com
SUMMARY:Special Events-ESHS  (Home)
DESCRIPTION:Comments: No School. Spring Break
URL:https://events.excelsiorcitizen.com/event/special-events-eshs-home-46/
LOCATION:MO
END:VEVENT
BEGIN:VEVENT
DTSTART;TZID=UTC:20260330T210000
DTEND;TZID=UTC:20260330T210000
DTSTAMP:20260420T014212
CREATED:20260103T022258Z
LAST-MODIFIED:20260223T010222Z
UID:10002618-1774904400-1774904400@events.excelsiorcitizen.com
SUMMARY:Baseball: JV  vs. North Kansas City (Away)
DESCRIPTION:Type: Game  Opponent: North Kansas City
URL:https://events.excelsiorcitizen.com/event/baseball-jv-vs-north-kansas-city-away/
LOCATION:Macken Park
END:VEVENT
BEGIN:VEVENT
DTSTART;TZID=UTC:20260330T210000
DTEND;TZID=UTC:20260330T210000
DTSTAMP:20260420T014212
CREATED:20260103T022258Z
LAST-MODIFIED:20260223T010222Z
UID:10002619-1774904400-1774904400@events.excelsiorcitizen.com
SUMMARY:Baseball: Varsity  vs. North Kansas City (Home)
DESCRIPTION:Type: Game  Opponent: North Kansas City
URL:https://events.excelsiorcitizen.com/event/baseball-varsity-vs-north-kansas-city-home/
LOCATION:Excelsior Springs High School  Baseball Field 3 (turf)
END:VEVENT
BEGIN:VEVENT
DTSTART;TZID=UTC:20260330T220000
DTEND;TZID=UTC:20260330T233000
DTSTAMP:20260420T014212
CREATED:20260103T022258Z
LAST-MODIFIED:20260223T010222Z
UID:10002621-1774908000-1774913400@events.excelsiorcitizen.com
SUMMARY:Soccer: Girls JV  vs. Van Horn (Home)
DESCRIPTION:Type: Game  Opponent: Van Horn
URL:https://events.excelsiorcitizen.com/event/soccer-girls-jv-vs-van-horn-home/
LOCATION:Excelsior Springs High School  Tiger Stadium
END:VEVENT
BEGIN:VEVENT
DTSTART;TZID=UTC:20260330T233000
DTEND;TZID=UTC:20260331T010000
DTSTAMP:20260420T014212
CREATED:20260103T022258Z
LAST-MODIFIED:20260223T010222Z
UID:10002620-1774913400-1774918800@events.excelsiorcitizen.com
SUMMARY:Soccer: Girls Varsity  vs. Van Horn (Home)
DESCRIPTION:Type: Game  Opponent: Van Horn
URL:https://events.excelsiorcitizen.com/event/soccer-girls-varsity-vs-van-horn-home/
LOCATION:Excelsior Springs High School  Tiger Stadium
END:VEVENT
BEGIN:VEVENT
DTSTART;TZID=UTC:20260331T123000
DTEND;TZID=UTC:20260331T193000
DTSTAMP:20260420T014212
CREATED:20260103T022259Z
LAST-MODIFIED:20260223T010222Z
UID:10002622-1774960200-1774985400@events.excelsiorcitizen.com
SUMMARY:Special Events-ESHS  (Home)
DESCRIPTION:Comments: No School. Spring Break
URL:https://events.excelsiorcitizen.com/event/special-events-eshs-home-47/
LOCATION:MO
END:VEVENT
BEGIN:VEVENT
DTSTART;TZID=America/Chicago:20260331T183000
DTEND;TZID=America/Chicago:20260331T193000
DTSTAMP:20260420T014212
CREATED:20260217T002652Z
LAST-MODIFIED:20260217T002652Z
UID:10004114-1774981800-1774985400@events.excelsiorcitizen.com
SUMMARY:Financial Peace University
DESCRIPTION:Take a step toward financial confidence and peace of mind.Oasis Outreach Ministries is hosting Financial Peace University\, a practical\, step-by-step course to help you take control of your money and plan for your future.Tuesday eveningsMarch 3 – April 286:30 p.m.Oasis Outreach Ministries\, 108 W. Broadway\, Excelsior SpringsSeating is limited\, so register early at OasisOutreachMO.org and start winning with money.
URL:https://events.excelsiorcitizen.com/event/financial-peace-university/2026-03-31/
LOCATION:Oasis Outreach Ministry\, 108 W Broadway Ave\, Excelsior Springs\, MO\, 64024\, United States
ATTACH;FMTTYPE=image/jpeg:https://events.excelsiorcitizen.com/wp-content/uploads/2026/02/629847948_1407153758120799_4226016857652137779_n-1.jpg
END:VEVENT
BEGIN:VEVENT
DTSTART;TZID=America/Chicago:20260331T190000
DTEND;TZID=America/Chicago:20260331T200000
DTSTAMP:20260420T014212
CREATED:20260217T023150Z
LAST-MODIFIED:20260217T023150Z
UID:10004180-1774983600-1774987200@events.excelsiorcitizen.com
SUMMARY:New Freedom Recovery Program
DESCRIPTION:Join New Freedom Recovery Program on Tuesdays at 7:00pm at Crescent Lake Christian Center\, 1250 St Louis Ave\, Excelsior Springs\, as we journey through “Hope”. Rather than seeking hope within ourself\, find peace in trusting God\, who loves and accepts us unconditionally\, despite our imperfections. Lead me; instruct me; for You are the God who grants me salvation. My hope is solely in You. Psalm 25:5 \nAddictions\, Alcoholism\, Hang-ups\, Depression\, Substance Abuse \nFor more information\, call Steve Waymen 816-377-7226 \n 
URL:https://events.excelsiorcitizen.com/event/new-freedom-recovery-program-3/2026-03-31/
LOCATION:Crescent Lake Christian Center\, 1250 St Louis Ave\, Excelsior Springs\, MO\, 64024\, United States
ATTACH;FMTTYPE=image/jpeg:https://events.excelsiorcitizen.com/wp-content/uploads/2026/02/631611260_10236263434379618_5041821824909759256_n-1.jpg
END:VEVENT
BEGIN:VEVENT
DTSTART;TZID=UTC:20260331T220000
DTEND;TZID=UTC:20260331T233000
DTSTAMP:20260420T014212
CREATED:20260103T022259Z
LAST-MODIFIED:20260223T010222Z
UID:10002623-1774994400-1774999800@events.excelsiorcitizen.com
SUMMARY:Soccer: Girls JV  (Location Changed) vs. Kearney (Away)
DESCRIPTION:Type: Game  Opponent: Kearney
URL:https://events.excelsiorcitizen.com/event/soccer-girls-jv-vs-kearney-home/
LOCATION:Kearney High School
END:VEVENT
BEGIN:VEVENT
DTSTART;TZID=UTC:20260331T233000
DTEND;TZID=UTC:20260401T010000
DTSTAMP:20260420T014212
CREATED:20260103T022300Z
LAST-MODIFIED:20260223T010222Z
UID:10002626-1774999800-1775005200@events.excelsiorcitizen.com
SUMMARY:Soccer: Girls Varsity  (Location Changed) vs. Kearney (Away)
DESCRIPTION:Type: Game  Opponent: Kearney
URL:https://events.excelsiorcitizen.com/event/soccer-girls-varsity-vs-kearney-home/
LOCATION:Kearney High School
END:VEVENT
END:VCALENDAR