BEGIN:VCALENDAR
VERSION:2.0
PRODID:-// - ECPv6.15.20//NONSGML v1.0//EN
CALSCALE:GREGORIAN
METHOD:PUBLISH
X-ORIGINAL-URL:https://events.excelsiorcitizen.com
X-WR-CALDESC:Events for 
REFRESH-INTERVAL;VALUE=DURATION:PT1H
X-Robots-Tag:noindex
X-PUBLISHED-TTL:PT1H
BEGIN:VTIMEZONE
TZID:UTC
BEGIN:STANDARD
TZOFFSETFROM:+0000
TZOFFSETTO:+0000
TZNAME:UTC
DTSTART:20240101T000000
END:STANDARD
END:VTIMEZONE
BEGIN:VTIMEZONE
TZID:America/Chicago
BEGIN:DAYLIGHT
TZOFFSETFROM:-0600
TZOFFSETTO:-0500
TZNAME:CDT
DTSTART:20240310T080000
END:DAYLIGHT
BEGIN:STANDARD
TZOFFSETFROM:-0500
TZOFFSETTO:-0600
TZNAME:CST
DTSTART:20241103T070000
END:STANDARD
BEGIN:DAYLIGHT
TZOFFSETFROM:-0600
TZOFFSETTO:-0500
TZNAME:CDT
DTSTART:20250309T080000
END:DAYLIGHT
BEGIN:STANDARD
TZOFFSETFROM:-0500
TZOFFSETTO:-0600
TZNAME:CST
DTSTART:20251102T070000
END:STANDARD
BEGIN:DAYLIGHT
TZOFFSETFROM:-0600
TZOFFSETTO:-0500
TZNAME:CDT
DTSTART:20260308T080000
END:DAYLIGHT
BEGIN:STANDARD
TZOFFSETFROM:-0500
TZOFFSETTO:-0600
TZNAME:CST
DTSTART:20261101T070000
END:STANDARD
END:VTIMEZONE
BEGIN:VEVENT
DTSTART;TZID=UTC:20251213T140000
DTEND;TZID=UTC:20251213T220000
DTSTAMP:20260420T014126
CREATED:20251120T184311Z
LAST-MODIFIED:20251205T233147Z
UID:10002268-1765634400-1765663200@events.excelsiorcitizen.com
SUMMARY:Scholar Bowl: Varsity  vs. William Chrisman (Away)
DESCRIPTION:Type: Tournament  Opponent: William Chrisman
URL:https://events.excelsiorcitizen.com/event/scholar-bowl-varsity-vs-william-chrisman-away/
LOCATION:William Chrisman High School
END:VEVENT
BEGIN:VEVENT
DTSTART;TZID=UTC:20251213T150000
DTEND;TZID=UTC:20251213T170000
DTSTAMP:20260420T014126
CREATED:20251120T184245Z
LAST-MODIFIED:20251205T234635Z
UID:10002245-1765638000-1765645200@events.excelsiorcitizen.com
SUMMARY:Community Cookie Decorating Class: Christmas Theme
DESCRIPTION:Christmas themed community cookie decorating class.\nThis class is for the person who is curious what cookie decorating is all about! No experience is necessary for this cookie class- it is beginner friendly.\nIf you’re looking for a fun outing with family or friends\, this class is for you!\nWe will be decorating a Christmas themed set that tastes amazing and will look even better once you’ve completed your decorating!\nClass will be held Saturday\, Dec. 13\, 9-11a at Excelsior Springs Area Career Center (ESACC) located at 614 Tiger Drive\, Excelsior Springs\, MO\, 64024.\nThere will be plenty of time to decorate and ask questions along the way. It’ll be a blast whether you’re coming with a friend\, family member\, or solo!\nSecure your registration through ESACC Adult and Community Education. https://excelsiorspringsadulted.weebly.com/\nI provide EVERYTHING you need (the cookies\, piping bags and icing\, decorations\, take home box\, step-by-step cookie guide\, practice sheets\, parchment paper\, and recipes) all I need is YOU!\nSorry\, no spectators. Space is limited. Each person in attendance must purchase a ticket.\nhttps://www.facebook.com/events/664515346626627/
URL:https://events.excelsiorcitizen.com/event/community-cookie-decorating-class-christmas-theme/
LOCATION:614 Tiger Dr\, Excelsior Springs\, MO\, United States
ORGANIZER;CN="816 Bakehouse":MAILTO:noreply@facebookmail.com
GEO:39.332601;-94.274632
END:VEVENT
BEGIN:VEVENT
DTSTART;TZID=UTC:20251213T150000
DTEND;TZID=UTC:20251213T220000
DTSTAMP:20260420T014126
CREATED:20251120T184310Z
LAST-MODIFIED:20251205T233131Z
UID:10002266-1765638000-1765663200@events.excelsiorcitizen.com
SUMMARY:Wrestling: Boys JV  vs. Basehor-LinwoodBlue SpringsCameronChillicothe High SchoolKearneyLathropLibertyLiberty NorthMarshallNorth Kansas CityOak ParkPark HillPark Hill SouthRichmondSmith-CottonSt. Joseph BentonSt. Michael the Archangel CatholicSt. Pius XWinnetonka'>Multiple Schools (Home)
DESCRIPTION:Type: Tournament  Opponent: Basehor-LinwoodBlue SpringsCameronChillicothe High SchoolKearneyLathropLibertyLiberty NorthMarshallNorth Kansas CityOak ParkPark HillPark Hill SouthRichmondSmith-CottonSt. Joseph BentonSt. Michael the Archangel CatholicSt. Pius XWinnetonka’>Multiple Schools
URL:https://events.excelsiorcitizen.com/event/wrestling-boys-jv-vs-basehor-linwoodblue-springscameronchillicothe-high-schoolkearneylathroplibertyliberty-northmarshallnorth-kansas-cityoak-parkpark-hillpark-hill-southrichmondsmith-cottonst-jose/
LOCATION:Excelsior Springs High School  Gym
END:VEVENT
BEGIN:VEVENT
DTSTART;TZID=UTC:20251213T150000
DTEND;TZID=UTC:20251213T220000
DTSTAMP:20260420T014126
CREATED:20251120T184311Z
LAST-MODIFIED:20251205T233130Z
UID:10002267-1765638000-1765663200@events.excelsiorcitizen.com
SUMMARY:Wrestling MS: MS  vs.  Excelsior Springs Middle School vs.  Smithville Middle (Away)
DESCRIPTION:Type: Tournament  Opponent:  Excelsior Springs Middle School vs.  Smithville Middle
URL:https://events.excelsiorcitizen.com/event/wrestling-ms-ms-vs-excelsior-springs-middle-school-vs-smithville-middle-away/
LOCATION:Smithville High School
END:VEVENT
BEGIN:VEVENT
DTSTART;TZID=America/Chicago:20251213T180000
DTEND;TZID=America/Chicago:20251213T190000
DTSTAMP:20260420T014126
CREATED:20260112T051623Z
LAST-MODIFIED:20260112T051623Z
UID:10002827-1765648800-1765652400@events.excelsiorcitizen.com
SUMMARY:Petals and Peppermint
DESCRIPTION:Build a festive bouquet for you or to gift to someone!Please call 816-637-4120 to register!The workshop is $50
URL:https://events.excelsiorcitizen.com/event/petals-and-peppermint/
LOCATION:MO
END:VEVENT
BEGIN:VEVENT
DTSTART;TZID=UTC:20251213T180000
DTEND;TZID=UTC:20251213T210000
DTSTAMP:20260420T014126
CREATED:20251130T224559Z
LAST-MODIFIED:20251205T234637Z
UID:10002547-1765648800-1765659600@events.excelsiorcitizen.com
SUMMARY:Christmas Tea & Cookie Exchange
DESCRIPTION:Get ready to sleigh the season at Infinitea Magik’s Christmas Tea & Cookie Exchange!\nJoin us for a jolly good time as we sip tea (or decadent hot chocolate)\, play merry games\, belt out our favorite carols\, and swap the most scrumptious cookies of the season.\nBring at least one dozen cookies to share—bring more if you want to show off your baking superpowers!\nJust $10 per attendee.\nhttps://www.facebook.com/events/744895421959346/
URL:https://events.excelsiorcitizen.com/event/christmas-tea-cookie-exchange/
LOCATION:129 Crown Hill Rd\, 10580 Mo O Hwy\, Excelsior Springs\, MO\, United States
ORGANIZER;CN="Infinitea Magik":MAILTO:noreply@facebookmail.com
GEO:39.287005;-94.174309
X-APPLE-STRUCTURED-LOCATION;VALUE=URI;X-ADDRESS=129 Crown Hill Rd 10580 Mo O Hwy Excelsior Springs MO United States;X-APPLE-RADIUS=500;X-TITLE=10580 Mo O Hwy:geo:-94.174309,39.287005
END:VEVENT
BEGIN:VEVENT
DTSTART;TZID=UTC:20251213T180000
DTEND;TZID=UTC:20251213T230000
DTSTAMP:20260420T014126
CREATED:20251120T184246Z
LAST-MODIFIED:20251205T234636Z
UID:10002246-1765648800-1765666800@events.excelsiorcitizen.com
SUMMARY:Cocktails & Candy Canes Participant
DESCRIPTION:Cocktails & Candy Canes\nSATURDAY\, DECEMBER 13 | NOON – 5 PM\nWe are a participating location on the progressive Cocktails & Candy Canes event. We will have handmade holiday ornaments for participants. And make and takes for those who are not participating.\nThis fun holiday event is a tradition in Excelsior. Link for tickets will be added here when it’s available! But don’t let tickets stop you from stopping by!\nhttps://www.facebook.com/events/805633485719960/
URL:https://events.excelsiorcitizen.com/event/cocktails-candy-canes-participant/
LOCATION:216 S Marietta St\, 10580 Mo O Hwy\, Excelsior Springs\, MO\, United States
ORGANIZER;CN="Heartland Quilt Supply Co.":MAILTO:noreply@facebookmail.com
GEO:39.287005;-94.174309
X-APPLE-STRUCTURED-LOCATION;VALUE=URI;X-ADDRESS=216 S Marietta St 10580 Mo O Hwy Excelsior Springs MO United States;X-APPLE-RADIUS=500;X-TITLE=10580 Mo O Hwy:geo:-94.174309,39.287005
END:VEVENT
BEGIN:VEVENT
DTSTART;TZID=UTC:20251213T180000
DTEND;TZID=UTC:20251213T230000
DTSTAMP:20260420T014126
CREATED:20251124T203133Z
LAST-MODIFIED:20251205T234637Z
UID:10002524-1765648800-1765666800@events.excelsiorcitizen.com
SUMMARY:Cocktails & Candy Canes
DESCRIPTION:Get into the holiday spirit with a fun and festive day in Downtown Excelsior Springs! Join us for Cocktails & Candy Canes\, where participating businesses will offer a unique holiday experience. Sip on seasonal cocktails at select stops\, savor delicious snacks at others\, and even receive special gifts at a few along the way!\nStroll through our beautifully decorated downtown\, enjoy the warm hospitality of local merchants\, and indulge in holiday cheer with friends and family. Whether you’re a cocktail connoisseur\, a foodie\, or just looking for a day of festive fun\, this event has something for everyone.\nCocktail Stops: Delight in holiday-themed drinks crafted by local favorites.\nSnack Stops: Enjoy tasty treats to fuel your evening of fun.\nGift Stops: Take home a little holiday surprise from participating businesses.\nThis is the perfect opportunity to explore the magic of Excelsior Springs\, shop local\, and make lasting memories. Grab your tickets today and get ready for a merry day out!\nhttps://www.facebook.com/events/877129134648287/
URL:https://events.excelsiorcitizen.com/event/cocktails-candy-canes-3/
LOCATION:Downtown Excelsior Springs\, Missouri
ORGANIZER;CN="Excelsior Springs Christmas":MAILTO:noreply@facebookmail.com
END:VEVENT
BEGIN:VEVENT
DTSTART;TZID=America/Chicago:20251214T110000
DTEND;TZID=America/Chicago:20251214T160000
DTSTAMP:20260420T014126
CREATED:20260112T051654Z
LAST-MODIFIED:20260112T051654Z
UID:10002839-1765710000-1765728000@events.excelsiorcitizen.com
SUMMARY:Goodtimes Reunion
DESCRIPTION:Hygiene and Food Drive at Excelsior Springs VFW with donations benefiting Excelsior familiesSunday\, Dec 14th • 11am-4pm\nDonate and stay to watch the Chiefs take on the Chargers!
URL:https://events.excelsiorcitizen.com/event/goodtimes-reunion/
LOCATION:MO
END:VEVENT
BEGIN:VEVENT
DTSTART;TZID=UTC:20251215T000000
DTEND;TZID=UTC:20251215T013000
DTSTAMP:20260420T014126
CREATED:20251120T184311Z
LAST-MODIFIED:20251205T233148Z
UID:10002269-1765756800-1765762200@events.excelsiorcitizen.com
SUMMARY:Special Events-ESHS  (Home)
DESCRIPTION:Comments: Boys Soccer Banquet
URL:https://events.excelsiorcitizen.com/event/special-events-eshs-home-12/
LOCATION:Excelsior Springs High School – HS Commons
END:VEVENT
BEGIN:VEVENT
DTSTART;TZID=UTC:20251215T220000
DTEND;TZID=UTC:20251216T000000
DTSTAMP:20260420T014126
CREATED:20251120T184312Z
LAST-MODIFIED:20251205T233148Z
UID:10002272-1765836000-1765843200@events.excelsiorcitizen.com
SUMMARY:Basketball MS: Girls MS  vs. Lawson Middle (Home)
DESCRIPTION:Type: Game  Opponent: Lawson Middle
URL:https://events.excelsiorcitizen.com/event/basketball-ms-girls-ms-vs-lawson-middle-home/
LOCATION:Excelsior Springs Middle School  Gym
END:VEVENT
BEGIN:VEVENT
DTSTART;TZID=UTC:20251215T220000
DTEND;TZID=UTC:20251216T010000
DTSTAMP:20260420T014126
CREATED:20251120T184313Z
LAST-MODIFIED:20251205T233148Z
UID:10002275-1765836000-1765846800@events.excelsiorcitizen.com
SUMMARY:Wrestling MS: MS  vs.  Excelsior Springs Middle School vs.  Moreland Ridge Middle Raytown South Middle School">Multiple Schools (Away)
DESCRIPTION:Type: Quad  Opponent:  Excelsior Springs Middle School vs.  Moreland Ridge Middle Raytown South Middle School”>Multiple Schools
URL:https://events.excelsiorcitizen.com/event/wrestling-ms-ms-vs-excelsior-springs-middle-school-vs-moreland-ridge-middle-raytown-south-middle-schoolmultiple-schools-away/
LOCATION:Blue Springs South High School
END:VEVENT
BEGIN:VEVENT
DTSTART;TZID=UTC:20251215T223000
DTEND;TZID=UTC:20251215T223000
DTSTAMP:20260420T014126
CREATED:20251120T184312Z
LAST-MODIFIED:20251205T233149Z
UID:10002270-1765837800-1765837800@events.excelsiorcitizen.com
SUMMARY:Basketball MS: Boys MS  vs.  Excelsior Springs Middle School vs.  Lawson Middle (Away)
DESCRIPTION:Type: Game  Opponent:  Excelsior Springs Middle School vs.  Lawson Middle
URL:https://events.excelsiorcitizen.com/event/basketball-ms-boys-ms-vs-excelsior-springs-middle-school-vs-lawson-middle-away/
LOCATION:Lawson Middle School
END:VEVENT
BEGIN:VEVENT
DTSTART;TZID=UTC:20251215T230000
DTEND;TZID=UTC:20251216T000000
DTSTAMP:20260420T014126
CREATED:20251120T184312Z
LAST-MODIFIED:20251205T233149Z
UID:10002271-1765839600-1765843200@events.excelsiorcitizen.com
SUMMARY:Basketball: Boys C Gold  vs. William Chrisman (Home)
DESCRIPTION:Type: Game  Opponent: William Chrisman
URL:https://events.excelsiorcitizen.com/event/basketball-boys-c-gold-vs-william-chrisman-home/
LOCATION:Excelsior Springs Middle School  Gym
END:VEVENT
BEGIN:VEVENT
DTSTART;TZID=UTC:20251215T233000
DTEND;TZID=UTC:20251216T010000
DTSTAMP:20260420T014126
CREATED:20251120T184331Z
LAST-MODIFIED:20251205T233206Z
UID:10002278-1765841400-1765846800@events.excelsiorcitizen.com
SUMMARY:Basketball: Girls Varsity  (Time Changed) vs. Northeast (Home)
DESCRIPTION:Type: Game  Opponent: Northeast
URL:https://events.excelsiorcitizen.com/event/basketball-girls-varsity-time-changed-vs-northeast-home/
LOCATION:Excelsior Springs High School  Gym
END:VEVENT
BEGIN:VEVENT
DTSTART;TZID=UTC:20251216T001500
DTEND;TZID=UTC:20251216T001500
DTSTAMP:20260420T014126
CREATED:20251120T184331Z
LAST-MODIFIED:20251205T233150Z
UID:10002276-1765844100-1765844100@events.excelsiorcitizen.com
SUMMARY:Basketball: Boys C Silver  (Postponed) vs. William Chrisman (Away)
DESCRIPTION:Type: Game  Opponent: William Chrisman
URL:https://events.excelsiorcitizen.com/event/basketball-boys-c-silver-postponed-vs-william-chrisman-away/
LOCATION:Excelsior Springs High School  Gym
END:VEVENT
BEGIN:VEVENT
DTSTART;TZID=UTC:20251216T003000
DTEND;TZID=UTC:20251216T013000
DTSTAMP:20260420T014126
CREATED:20251120T184331Z
LAST-MODIFIED:20251205T233151Z
UID:10002277-1765845000-1765848600@events.excelsiorcitizen.com
SUMMARY:Middle School Special Events  (Home)
DESCRIPTION:Comments: Middle School Choir Concert
URL:https://events.excelsiorcitizen.com/event/middle-school-special-events-home-3/
LOCATION:Excelsior Springs High School – Performing Arts Center
END:VEVENT
BEGIN:VEVENT
DTSTART;TZID=America/Chicago:20251216T124500
DTEND;TZID=America/Chicago:20251216T140000
DTSTAMP:20260420T014126
CREATED:20251204T001532Z
LAST-MODIFIED:20251206T003036Z
UID:10002575-1765889100-1765893600@events.excelsiorcitizen.com
SUMMARY:Winter Sowing Made Simple
DESCRIPTION:Learn how to prep your seeds for the Spring using simple techniques and recycled items.\nFree for all to participate\nLocated in the Community Rooms.
URL:https://events.excelsiorcitizen.com/event/winter-sowing-made-simple/
LOCATION:Excelsior Springs Community Center\, 500 Tiger Dr\, Excelsior Springs\, MO\, United States
GEO:39.349002;-94.244358
X-APPLE-STRUCTURED-LOCATION;VALUE=URI;X-ADDRESS=Excelsior Springs Community Center 500 Tiger Dr Excelsior Springs MO United States;X-APPLE-RADIUS=500;X-TITLE=500 Tiger Dr:geo:-94.244358,39.349002
END:VEVENT
BEGIN:VEVENT
DTSTART;TZID=America/Chicago:20251216T180000
DTEND;TZID=America/Chicago:20251216T200000
DTSTAMP:20260420T014126
CREATED:20260112T051553Z
LAST-MODIFIED:20260112T051553Z
UID:10002817-1765908000-1765915200@events.excelsiorcitizen.com
SUMMARY:Elementary Christmas Party
DESCRIPTION:Join ESHS Student Council for an Elementary Christmas Party on December 16th from 6:00pm-8:00pmESHS Commons and Gym\nCraft making\, interactive games\, holiday snacks\, and hot chocolate.
URL:https://events.excelsiorcitizen.com/event/elementary-christmas-party/
LOCATION:Excelsior Springs High School\, 612 Tiger Drive\, Excelsior Springs\, MO\, 64024\, United States
END:VEVENT
BEGIN:VEVENT
DTSTART;TZID=UTC:20251216T220000
DTEND;TZID=UTC:20251216T224500
DTSTAMP:20260420T014126
CREATED:20251120T184332Z
LAST-MODIFIED:20251205T233207Z
UID:10002279-1765922400-1765925100@events.excelsiorcitizen.com
SUMMARY:Elementary Special Events  (Home)
DESCRIPTION:Comments: Speed & Agility
URL:https://events.excelsiorcitizen.com/event/elementary-special-events-home-10/
LOCATION:Cornerstone Elementary – Cornerstone Elementary Gym
END:VEVENT
BEGIN:VEVENT
DTSTART;TZID=UTC:20251216T220000
DTEND;TZID=UTC:20251217T000000
DTSTAMP:20260420T014126
CREATED:20251120T184332Z
LAST-MODIFIED:20251205T233208Z
UID:10002280-1765922400-1765929600@events.excelsiorcitizen.com
SUMMARY:Basketball MS: Girls MS  vs. Excelsior Springs Middle School vs. Plaza Middle (Home)
DESCRIPTION:Type: Game  Opponent: Excelsior Springs Middle School vs. Plaza Middle
URL:https://events.excelsiorcitizen.com/event/basketball-ms-girls-ms-vs-excelsior-springs-middle-school-vs-plaza-middle-home/
LOCATION:Excelsior Springs Middle School  Gym
END:VEVENT
BEGIN:VEVENT
DTSTART;TZID=UTC:20251216T220000
DTEND;TZID=UTC:20251217T000000
DTSTAMP:20260420T014126
CREATED:20251120T184352Z
LAST-MODIFIED:20251205T233208Z
UID:10002287-1765922400-1765929600@events.excelsiorcitizen.com
SUMMARY:Basketball MS: Boys MS  vs.  Excelsior Springs Middle School vs.  Plaza Middle (Away)
DESCRIPTION:Type: Game  Opponent:  Excelsior Springs Middle School vs.  Plaza Middle
URL:https://events.excelsiorcitizen.com/event/basketball-ms-boys-ms-vs-excelsior-springs-middle-school-vs-plaza-middle-away/
LOCATION:Plaza Middle School
END:VEVENT
BEGIN:VEVENT
DTSTART;TZID=UTC:20251216T233000
DTEND;TZID=UTC:20251217T020000
DTSTAMP:20260420T014126
CREATED:20251120T184333Z
LAST-MODIFIED:20251205T233208Z
UID:10002282-1765927800-1765936800@events.excelsiorcitizen.com
SUMMARY:Basketball: Boys JV  vs. Truman (Away)
DESCRIPTION:Type: Game  Opponent: Truman
URL:https://events.excelsiorcitizen.com/event/basketball-boys-jv-vs-truman-away/
LOCATION:Truman High School
END:VEVENT
BEGIN:VEVENT
DTSTART;TZID=UTC:20251217T000000
DTEND;TZID=UTC:20251217T020000
DTSTAMP:20260420T014126
CREATED:20251120T184332Z
LAST-MODIFIED:20251205T233207Z
UID:10002281-1765929600-1765936800@events.excelsiorcitizen.com
SUMMARY:Wrestling: Boys Varsity  (Rescheduled to 01-15-26) vs. William Chrisman (Away)
DESCRIPTION:Type: Dual  Opponent: William Chrisman
URL:https://events.excelsiorcitizen.com/event/wrestling-boys-varsity-rescheduled-to-01-15-26-vs-william-chrisman-away/
LOCATION:Excelsior Springs High School  Gym
END:VEVENT
BEGIN:VEVENT
DTSTART;TZID=UTC:20251217T000000
DTEND;TZID=UTC:20251217T020000
DTSTAMP:20260420T014126
CREATED:20251120T184333Z
LAST-MODIFIED:20251205T233209Z
UID:10002283-1765929600-1765936800@events.excelsiorcitizen.com
SUMMARY:Wrestling: Boys JV  (Rescheduled to 01-15-26) vs. William Chrisman (Away)
DESCRIPTION:Type: Dual  Opponent: William Chrisman
URL:https://events.excelsiorcitizen.com/event/wrestling-boys-jv-rescheduled-to-01-15-26-vs-william-chrisman-away/
LOCATION:Excelsior Springs High School  Gym
END:VEVENT
BEGIN:VEVENT
DTSTART;TZID=UTC:20251217T000000
DTEND;TZID=UTC:20251217T020000
DTSTAMP:20260420T014126
CREATED:20251120T184334Z
LAST-MODIFIED:20251205T233209Z
UID:10002285-1765929600-1765936800@events.excelsiorcitizen.com
SUMMARY:Special Events-ESHS  (Home)
DESCRIPTION:Comments: STUCO hosting an Elementary Christmas Party  crafts\, games\, hot chocolate/snacks
URL:https://events.excelsiorcitizen.com/event/special-events-eshs-home-14/
LOCATION:Excelsior Springs High School – HS Commons\, Excelsior Springs High School – Gym
END:VEVENT
BEGIN:VEVENT
DTSTART;TZID=UTC:20251217T000000
DTEND;TZID=UTC:20251217T020000
DTSTAMP:20260420T014126
CREATED:20251120T184352Z
LAST-MODIFIED:20251205T233225Z
UID:10002286-1765929600-1765936800@events.excelsiorcitizen.com
SUMMARY:Wrestling: Girls Varsity  (Rescheduled to 01-15-26) vs. William Chrisman (Away)
DESCRIPTION:Type: Dual  Opponent: William Chrisman
URL:https://events.excelsiorcitizen.com/event/wrestling-girls-varsity-rescheduled-to-01-15-26-vs-william-chrisman-away/
LOCATION:Excelsior Springs High School  Gym
END:VEVENT
BEGIN:VEVENT
DTSTART;TZID=UTC:20251217T010000
DTEND;TZID=UTC:20251217T023000
DTSTAMP:20260420T014126
CREATED:20251120T184333Z
LAST-MODIFIED:20251205T233207Z
UID:10002284-1765933200-1765938600@events.excelsiorcitizen.com
SUMMARY:Special Events-ESHS  (Home)
DESCRIPTION:Comments: Jazz Band Concert
URL:https://events.excelsiorcitizen.com/event/special-events-eshs-home-13/
LOCATION:Excelsior Springs High School – Performing Arts Center
END:VEVENT
BEGIN:VEVENT
DTSTART;TZID=UTC:20251217T010000
DTEND;TZID=UTC:20251217T033000
DTSTAMP:20260420T014126
CREATED:20251120T184352Z
LAST-MODIFIED:20251205T233209Z
UID:10002288-1765933200-1765942200@events.excelsiorcitizen.com
SUMMARY:Basketball: Boys Varsity  vs. Truman (Away)
DESCRIPTION:Type: Game  Opponent: Truman
URL:https://events.excelsiorcitizen.com/event/basketball-boys-varsity-vs-truman-away/
LOCATION:Truman High School
END:VEVENT
BEGIN:VEVENT
DTSTART;TZID=America/Chicago:20251217T130000
DTEND;TZID=America/Chicago:20251217T140000
DTSTAMP:20260420T014126
CREATED:20251120T224744Z
LAST-MODIFIED:20251206T003036Z
UID:10002504-1765976400-1765980000@events.excelsiorcitizen.com
SUMMARY:Armchair Travelers: Holidays Around the World
DESCRIPTION:FREE for everyone 60 years or older\, registration required to save your spot\, and so there is enough food for everyoneReserve your spot here: https://es-prcc.activityreg.com/selectactivity_t2.wcs?leaguesid=398In the Community Rooms
URL:https://events.excelsiorcitizen.com/event/armchair-travelers-holidays-around-the-world/
LOCATION:MO
END:VEVENT
END:VCALENDAR