BEGIN:VCALENDAR
VERSION:2.0
PRODID:-// - ECPv6.15.20//NONSGML v1.0//EN
CALSCALE:GREGORIAN
METHOD:PUBLISH
X-ORIGINAL-URL:https://events.excelsiorcitizen.com
X-WR-CALDESC:Events for 
REFRESH-INTERVAL;VALUE=DURATION:PT1H
X-Robots-Tag:noindex
X-PUBLISHED-TTL:PT1H
BEGIN:VTIMEZONE
TZID:America/Chicago
BEGIN:DAYLIGHT
TZOFFSETFROM:-0600
TZOFFSETTO:-0500
TZNAME:CDT
DTSTART:20240310T080000
END:DAYLIGHT
BEGIN:STANDARD
TZOFFSETFROM:-0500
TZOFFSETTO:-0600
TZNAME:CST
DTSTART:20241103T070000
END:STANDARD
BEGIN:DAYLIGHT
TZOFFSETFROM:-0600
TZOFFSETTO:-0500
TZNAME:CDT
DTSTART:20250309T080000
END:DAYLIGHT
BEGIN:STANDARD
TZOFFSETFROM:-0500
TZOFFSETTO:-0600
TZNAME:CST
DTSTART:20251102T070000
END:STANDARD
BEGIN:DAYLIGHT
TZOFFSETFROM:-0600
TZOFFSETTO:-0500
TZNAME:CDT
DTSTART:20260308T080000
END:DAYLIGHT
BEGIN:STANDARD
TZOFFSETFROM:-0500
TZOFFSETTO:-0600
TZNAME:CST
DTSTART:20261101T070000
END:STANDARD
END:VTIMEZONE
BEGIN:VEVENT
DTSTART;TZID=America/Chicago:20250620T173000
DTEND;TZID=America/Chicago:20250620T193000
DTSTAMP:20260423T133039
CREATED:20260112T054723Z
LAST-MODIFIED:20260112T054724Z
UID:10003466-1750440600-1750447800@events.excelsiorcitizen.com
SUMMARY:Live Music with Sam Wehner
DESCRIPTION:Sam Wehner will be performing live\, showcasing his incredible talent and entertaining the crowd with his amazing music. Don’t miss out on this opportunity to relax and unwind in a beautiful vineyard setting while enjoying some fantastic tunes!
URL:https://events.excelsiorcitizen.com/event/live-music-with-sam-wehner/
LOCATION:MO
END:VEVENT
BEGIN:VEVENT
DTSTART;TZID=America/Chicago:20250620T120000
DTEND;TZID=America/Chicago:20250620T170000
DTSTAMP:20260423T133039
CREATED:20260112T054024Z
LAST-MODIFIED:20260112T054024Z
UID:10003307-1750420800-1750438800@events.excelsiorcitizen.com
SUMMARY:Swinging Fore a Cause Golf Tournament
DESCRIPTION:Join us on June 20th for a beautiful day of golfing at the RPOR.org Golf Tournament! Not only will you get to enjoy a round of golf\, but you’ll also be swinging fore a cause. Get a team together and come out to support a great event. Don’t miss out on the fun\, register now!Relentless Pursuit Outreach and Recovery
URL:https://events.excelsiorcitizen.com/event/swinging-fore-a-cause-golf-tournament/
LOCATION:Excelsior Springs Golf Course
END:VEVENT
BEGIN:VEVENT
DTSTART;TZID=America/Chicago:20250620T120000
DTEND;TZID=America/Chicago:20250620T160000
DTSTAMP:20260423T133039
CREATED:20260112T054500Z
LAST-MODIFIED:20260112T054500Z
UID:10003417-1750420800-1750435200@events.excelsiorcitizen.com
SUMMARY:Swinging Fore a Cause Golf Tournament
DESCRIPTION:Join us on June 20th for a beautiful day of golfing at the RPOR.org Golf Tournament! Not only will you get to enjoy a round of golf\, but you’ll also be swinging fore a cause. Get a team together and come out to support a great event. Don’t miss out on the fun\, register now!
URL:https://events.excelsiorcitizen.com/event/swinging-fore-a-cause-golf-tournament-2/
LOCATION:Excelsior Springs Golf Course
END:VEVENT
BEGIN:VEVENT
DTSTART;TZID=America/Chicago:20250620T110000
DTEND;TZID=America/Chicago:20250620T160000
DTSTAMP:20260423T133039
CREATED:20260112T054339Z
LAST-MODIFIED:20260112T054339Z
UID:10003372-1750417200-1750435200@events.excelsiorcitizen.com
SUMMARY:Community Blood Drive
DESCRIPTION:Community Blood Drive at Flack Memorial Church\, 1300 Tracy Ave.\, Excelsior Springs11:00am-4:00pm\nSign up at savealifenow.org Group Code KC3G or call 877-468-6844
URL:https://events.excelsiorcitizen.com/event/community-blood-drive-5/
LOCATION:MO
END:VEVENT
BEGIN:VEVENT
DTSTART;TZID=America/Chicago:20250620T080000
DTEND;TZID=America/Chicago:20250620T140000
DTSTAMP:20260423T133039
CREATED:20260112T054238Z
LAST-MODIFIED:20260112T054238Z
UID:10003350-1750406400-1750428000@events.excelsiorcitizen.com
SUMMARY:Scott Morris Tournament | ES Golf Course
DESCRIPTION:Course closed until 2:00pm
URL:https://events.excelsiorcitizen.com/event/scott-morris-tournament-es-golf-course/
LOCATION:Excelsior Springs Golf Course
END:VEVENT
BEGIN:VEVENT
DTSTART;TZID=America/Chicago:20250619T180000
DTEND;TZID=America/Chicago:20250619T190000
DTSTAMP:20260423T133039
CREATED:20260112T054252Z
LAST-MODIFIED:20260112T054252Z
UID:10003353-1750356000-1750359600@events.excelsiorcitizen.com
SUMMARY:Men’s/Ladies Club | ES Golf Course
DESCRIPTION:F9 closes at 4:30pm
URL:https://events.excelsiorcitizen.com/event/mens-ladies-club-es-golf-course/
LOCATION:Excelsior Springs Golf Course
END:VEVENT
BEGIN:VEVENT
DTSTART;TZID=America/Chicago:20250619T163000
DTEND;TZID=America/Chicago:20250619T193000
DTSTAMP:20260423T133039
CREATED:20260112T054038Z
LAST-MODIFIED:20260112T054038Z
UID:10003309-1750350600-1750361400@events.excelsiorcitizen.com
SUMMARY:Baltimore Bend Wine Tasting | Willow Spring Mercantile
DESCRIPTION:It’s another great night with SHOP LOCAL LATE in downtown Excelsior Springs. A wine tasting with our friends from Waverley. Sample Sangria\, and an array of reds and whites. Did we mention they just released a new ARROWHEAD WHITE? come be the first to try it! A wonderful try before you buy event.
URL:https://events.excelsiorcitizen.com/event/baltimore-bend-wine-tasting-willow-spring-mercantile/
LOCATION:Willow Spring Mercantile\, 249 E Broadway\, Excelsior Springs\, MO\, 64024\, United States
END:VEVENT
BEGIN:VEVENT
DTSTART;TZID=America/Chicago:20250618T160000
DTEND;TZID=America/Chicago:20250618T190000
DTSTAMP:20260423T133039
CREATED:20260112T054224Z
LAST-MODIFIED:20260112T054224Z
UID:10003346-1750262400-1750273200@events.excelsiorcitizen.com
SUMMARY:Excelsior Springs Evening Farmers Market
DESCRIPTION:Downtown Block Party
URL:https://events.excelsiorcitizen.com/event/excelsior-springs-evening-farmers-market-9/
LOCATION:MO
END:VEVENT
BEGIN:VEVENT
DTSTART;TZID=America/Chicago:20250618T140000
DTEND;TZID=America/Chicago:20250618T150000
DTSTAMP:20260423T133039
CREATED:20260112T054354Z
LAST-MODIFIED:20260112T054354Z
UID:10003377-1750255200-1750258800@events.excelsiorcitizen.com
SUMMARY:Housing Choice Voucher Program Info Meeting | Landlords
DESCRIPTION:Attention Landlords & Property Owners!The Excelsior Springs Housing Authority (ESHA) cordially invites you to an informational meeting about the Housing Choice Voucher (HCV) Program\, also known as Section 8. This is an excellent opportunity to learn how you can partner with us to provide safe\, affordable housing in our community.\nWhether you are a current HCV landlord or are considering becoming one\, we encourage you to attend.\nWednesday\, June 18th at 2:00pm at 320 W Excelsior Street\, Ruey Anne Building\nTopics to be Covered:\nDuring the meeting we will cover the following topics:\n• Program Overview\n• Becoming an HCV Landlord: Requirements and Application Process\n• Benefits of Participating in the HCV Program\n• Inspection and Payment Processes\n• Addressing Common Misconceptions about Section 8\n• Question and Answer Session\nRSVP Information\nPlease RSVP by June 13\, 2025\, to ensure we have an accurate headcount. You can RSVP by contacting Marsha at:\nPhone: 816-630-7361\, Ext. 105\nEmail: metcalfemarsha55@gmail.com
URL:https://events.excelsiorcitizen.com/event/housing-choice-voucher-program-info-meeting-landlords/
LOCATION:MO
END:VEVENT
BEGIN:VEVENT
DTSTART;TZID=America/Chicago:20250618T080000
DTEND;TZID=America/Chicago:20250618T160000
DTSTAMP:20260423T133039
CREATED:20260112T054253Z
LAST-MODIFIED:20260112T054253Z
UID:10003354-1750233600-1750262400@events.excelsiorcitizen.com
SUMMARY:Central Links Jr Tournament | ES Golf Course
DESCRIPTION:Course Closed until 4:00pm
URL:https://events.excelsiorcitizen.com/event/central-links-jr-tournament-es-golf-course/
LOCATION:Excelsior Springs Golf Course
END:VEVENT
BEGIN:VEVENT
DTSTART;TZID=America/Chicago:20250617T163000
DTEND;TZID=America/Chicago:20250617T183000
DTSTAMP:20260423T133039
CREATED:20260112T054124Z
LAST-MODIFIED:20260112T054124Z
UID:10003327-1750177800-1750185000@events.excelsiorcitizen.com
SUMMARY:ESCC Speed and Agility Camp
DESCRIPTION:Summer is the season to level up! Is your child looking to boost their game and sharpen their skills? Our Speed & Agility Camp is the perfect way to build a strong foundation before fall sports begin. Camp runs every Tuesday & Thursday in June at 4:30 PM Open to athletes ages 8-12 Registration closes this Friday!Don’t let summer pass by – train hard now to play hard later. Let’s put in the work!Regiter today: https://es-prcc.activityreg.com/selectactivity_t2.wcs…
URL:https://events.excelsiorcitizen.com/event/escc-speed-and-agility-camp/
LOCATION:Excelsior Springs Community Center\, 500 Tiger Dr\, Excelsior Springs\, MO\, United States
GEO:39.349002;-94.244358
X-APPLE-STRUCTURED-LOCATION;VALUE=URI;X-ADDRESS=Excelsior Springs Community Center 500 Tiger Dr Excelsior Springs MO United States;X-APPLE-RADIUS=500;X-TITLE=500 Tiger Dr:geo:-94.244358,39.349002
END:VEVENT
BEGIN:VEVENT
DTSTART;TZID=America/Chicago:20250617T130000
DTEND;TZID=America/Chicago:20250617T140000
DTSTAMP:20260423T133039
CREATED:20260112T054138Z
LAST-MODIFIED:20260112T054138Z
UID:10003328-1750165200-1750168800@events.excelsiorcitizen.com
SUMMARY:Senior Center Gardeners
DESCRIPTION:
URL:https://events.excelsiorcitizen.com/event/senior-center-gardeners/
LOCATION:Excelsior Springs Community Center\, 500 Tiger Dr\, Excelsior Springs\, MO\, United States
GEO:39.349002;-94.244358
X-APPLE-STRUCTURED-LOCATION;VALUE=URI;X-ADDRESS=Excelsior Springs Community Center 500 Tiger Dr Excelsior Springs MO United States;X-APPLE-RADIUS=500;X-TITLE=500 Tiger Dr:geo:-94.244358,39.349002
END:VEVENT
BEGIN:VEVENT
DTSTART;TZID=America/Chicago:20250616T180000
DTEND;TZID=America/Chicago:20250616T200000
DTSTAMP:20260423T133039
CREATED:20260112T054308Z
LAST-MODIFIED:20260112T054308Z
UID:10003359-1750096800-1750104000@events.excelsiorcitizen.com
SUMMARY:ES Nazarene Vacation Bible School 2025
DESCRIPTION:TO PRE-REGISTER\, fill out the form located here:https://esnazarene.breezechms.com/form/fb8df051
URL:https://events.excelsiorcitizen.com/event/es-nazarene-vacation-bible-school-2025/
LOCATION:MO
END:VEVENT
BEGIN:VEVENT
DTSTART;TZID=America/Chicago:20250616T180000
DTEND;TZID=America/Chicago:20250616T190000
DTSTAMP:20260423T133039
CREATED:20260112T053854Z
LAST-MODIFIED:20260112T053854Z
UID:10003277-1750096800-1750100400@events.excelsiorcitizen.com
SUMMARY:Excelsior Springs City Council Meeting
DESCRIPTION:There will be a City Council meeting Monday evening at 6:00pm at the Hall of Waters Council Chambers on the 2nd floor. \nAgenda for the meeting may be found here: https://cityofesmo.com/agendas/council.pdf\n————————–\nCity Council will read a proclamation to designate July as Parks & Recreation Month; consider board appointments to fill unexpired terms (Laurie Gehrt to Planning & Zoning\, Charlie Booth to Historic Preservation Commission\, & Brad McBee to Vintage Plaza CID); consider resolution of support for ES Job Corps Center; Presentation of ES Park\, Recreation & Community Center Annual Report & ES Hospital Annual Report; May Revenue & Financial Report Review.
URL:https://events.excelsiorcitizen.com/event/excelsior-springs-city-council-meeting/
LOCATION:Hall Of Waters
END:VEVENT
BEGIN:VEVENT
DTSTART;TZID=America/Chicago:20250616T173000
DTEND;TZID=America/Chicago:20250616T203000
DTSTAMP:20260423T133039
CREATED:20260112T053952Z
LAST-MODIFIED:20260112T053952Z
UID:10003293-1750095000-1750105800@events.excelsiorcitizen.com
SUMMARY:Vacation Bible School | Calvary Christian Union
DESCRIPTION:Every night from 5:30pm – 8:30pm we will be taking youth Pre-K to 6th Grade on an adventure to discover and magnify God in their lives!Dinner will be provided nightly and registration for new learners will be handled at the beginning of each night. If you still need to register your kid(s) please arrive early\, between 5:00 & 5:15.\nThere will also be a closing program on Sunday\, June 22 as a part morning Church services.
URL:https://events.excelsiorcitizen.com/event/vacation-bible-school-calvary-christian-union/
LOCATION:MO
END:VEVENT
BEGIN:VEVENT
DTSTART;TZID=America/Chicago:20250615T110000
DTEND;TZID=America/Chicago:20250615T123000
DTSTAMP:20260423T133039
CREATED:20260112T054023Z
LAST-MODIFIED:20260112T054023Z
UID:10003305-1749985200-1749990600@events.excelsiorcitizen.com
SUMMARY:11AM Guided Winery/Wine Cave Tour & Candlelit Tasting
DESCRIPTION:Highlights Enjoy a guided tour through the winery and wine caves to discover the fascinating world of Fence Stile wines Experience a candlelit wine tasting in the CELLAR57 club room and caves—complete with a keepsake glass Learn about vineyard management\, Brix testing\, and the unique terroir of the estateGeneral Info Perks: 10% off bottles of wine purchased after the tour Please arrive a few minutes early for ticket validationDescriptionFence Stile Vineyards\, Winery & Distillery invites you to an unforgettable experience in the heart of Missouri’s scenic Excelsior Springs. Take a guided tour of the winery\, wine caves\, and learn about the unique processes and history behind each wine. From vineyard practices to Brix testing\, discover what makes Fence Stile wines exceptional. Finish with a candlelit tasting in the intimate CELLAR57 club room and the wine caves\, complete with a keepsake glass and a 10% discount on bottles bought post-tour. Don’t miss out—get your tickets for the Fence Stile Winery Tour and Tasting in Excelsior Springs now!\nHave a nondrinker in the group? No worries – use discount code ‘NONDRINKER’ at checkout for $10 off.NOTE: If ticket sales have closed on the day of the tour\, please call 816-500-6465 to check if additional tickets are available or to schedule a custom tour!\nClick here for tickets
URL:https://events.excelsiorcitizen.com/event/11am-guided-winery-wine-cave-tour-candlelit-tasting-8/
LOCATION:Fence Stile Vineyards and Winery\, 31010 W 124th St\, Excelsior Springs\, MO\, 64024\, United States
END:VEVENT
BEGIN:VEVENT
DTSTART;TZID=America/Chicago:20250615T090000
DTEND;TZID=America/Chicago:20250615T130000
DTSTAMP:20260423T133039
CREATED:20260112T054509Z
LAST-MODIFIED:20260112T054509Z
UID:10003421-1749978000-1749992400@events.excelsiorcitizen.com
SUMMARY:Father’s Day Cars & Coffee
DESCRIPTION:Calling all dads…Come hang out and show off your ride at your favorite Italian Deli & Market. No registration\, just bring your ride and enjoy complimentary cup of coffee & biscuits and gravy.
URL:https://events.excelsiorcitizen.com/event/fathers-day-cars-coffee/
LOCATION:MO
END:VEVENT
BEGIN:VEVENT
DTSTART;TZID=America/Chicago:20250614T203000
DTEND;TZID=America/Chicago:20250614T223000
DTSTAMP:20260423T133039
CREATED:20260112T054429Z
LAST-MODIFIED:20260112T054429Z
UID:10003393-1749933000-1749940200@events.excelsiorcitizen.com
SUMMARY:Movie in the Park: How to Train Your Dragon
DESCRIPTION:June 14 – How to Train Your DragonWith the live-action remake on the way\, now’s the time to revisit the animated adventure that started it all! Join us at Carolyn Schutte Pocket Park at dusk for a free showing of How to Train Your Dragon – bring your blanket\, snacks & enjoy this epic summer night.
URL:https://events.excelsiorcitizen.com/event/movie-in-the-park-how-to-train-your-dragon/
LOCATION:MO
END:VEVENT
BEGIN:VEVENT
DTSTART;TZID=America/Chicago:20250614T180000
DTEND;TZID=America/Chicago:20250614T200000
DTSTAMP:20260423T133039
CREATED:20260112T054954Z
LAST-MODIFIED:20260112T054954Z
UID:10003517-1749924000-1749931200@events.excelsiorcitizen.com
SUMMARY:Double Jointed Acoustic Duo Live at Warbird Whiskey!
DESCRIPTION:Double Jointed Acoustic Duo will be appearing at the beautiful Excelsior Springs Whiskey Bar providing two hours of great tunes for the venue’s “Summer Music Series”. So come out and honor heroes\, preserve heritage and help support local veteran organizations on FLAG DAY 2025!!
URL:https://events.excelsiorcitizen.com/event/double-jointed-acoustic-duo-live-at-warbird-whiskey/
LOCATION:Warbird Whiskey
END:VEVENT
BEGIN:VEVENT
DTSTART;TZID=America/Chicago:20250614T180000
DTEND;TZID=America/Chicago:20250614T190000
DTSTAMP:20260423T133039
CREATED:20260112T054038Z
LAST-MODIFIED:20260112T054038Z
UID:10003308-1749924000-1749927600@events.excelsiorcitizen.com
SUMMARY:Live Music Event Featuring “Double Jointed Duo”
DESCRIPTION:Live Music at Warbird Whiskey – Saturday\, June 14 | 6–8PMJoin us for an unforgettable evening of great whiskey and even better vibes as Double Jointed Duo takes the stage from 6–8pm! Whether you’re here for the smooth pours or the soulful tunes\, Warbird Whiskey is the place to be this Saturday night.\nGrab your friends\, find a seat\, and enjoy live music\, handcrafted cocktails\, and the warm Warbird atmosphere that keeps you coming back.\n Doors open at 12PM – come early and stay late!
URL:https://events.excelsiorcitizen.com/event/live-music-event-featuring-double-jointed-duo/
LOCATION:Warbird Whiskey
END:VEVENT
BEGIN:VEVENT
DTSTART;TZID=America/Chicago:20250614T160000
DTEND;TZID=America/Chicago:20250614T180000
DTSTAMP:20260423T133039
CREATED:20260112T054652Z
LAST-MODIFIED:20260112T054652Z
UID:10003453-1749916800-1749924000@events.excelsiorcitizen.com
SUMMARY:Live Music with Mike Murphy
DESCRIPTION:Get ready for an unforgettable evening with Mike Murphy\, an incredibly talented acoustic solo singer/songwriter with over 20 years of experience in the music industry.\nKnown for his soulful voice and masterful guitar skills\, Mike has entertained audiences across various venues\, from large concert halls to intimate winery settings. His extensive repertoire spans rock\, pop\, and country music from all eras\, creating the perfect experience for all.
URL:https://events.excelsiorcitizen.com/event/live-music-with-mike-murphy-6/
LOCATION:MO
END:VEVENT
BEGIN:VEVENT
DTSTART;TZID=America/Chicago:20250614T140000
DTEND;TZID=America/Chicago:20250614T170000
DTSTAMP:20260423T133039
CREATED:20260112T054040Z
LAST-MODIFIED:20260112T054040Z
UID:10003312-1749909600-1749920400@events.excelsiorcitizen.com
SUMMARY:Introduction to Tapping Workshop
DESCRIPTION:I am hosting another Introduction to Tapping Workshop! This time at Infinitea Magik here in Excelsior Springs!Feel like your nervous system is always in overdrive? Are you always stressed? Or feeling stuck? Tapping can help!\nJoin me\, Jess of Serenity Tapping\, for a calming\, beginner-friendly workshop where you’ll learn the basics of Emotional Freedom Techniques (EFT)\, also known as tapping.\n What we’ll cover:What EFT is and how it works with the body + mindThe science behind tapping and why it’s so effective for stress\, anxiety\, and emotional releaseA simple tapping sequence you can use at homeWe’ll end the evening with a gentle guided group tapping session\, designed to help you feel grounded\, safe\, and more at ease in your body.\nThis is a safe\, welcoming space—no experience needed\, just bring yourself! \nDate/Time: Saturday\, June 14th at 2:00pmLocation: Infinitea MagikInvestment: $20/per person\nSpace is limited to keep things cozy—reserve your spot today. Feel free to DM me with any questions or sensitivities. You are welcome here.
URL:https://events.excelsiorcitizen.com/event/introduction-to-tapping-workshop/
LOCATION:MO
END:VEVENT
BEGIN:VEVENT
DTSTART;TZID=America/Chicago:20250614T140000
DTEND;TZID=America/Chicago:20250614T150000
DTSTAMP:20260423T133039
CREATED:20260112T054352Z
LAST-MODIFIED:20260112T054352Z
UID:10003373-1749909600-1749913200@events.excelsiorcitizen.com
SUMMARY:Moses Dickson and the African American Fight for Equality in Gilded Age Missouri
DESCRIPTION:Moses Dickson was among the best-known African Americans in Missouri in the second half of the nineteenth century. He was an abolitionist and minister along with founding one of the largest African American service organizations throughout the South after the Civil War. He was a prominent member of the Missouri Republican Party\, and published articles and delivered speeches on an array of topics. He was\, in short\, among the most compelling characters in Missouri in his lifetime. Jeffery Smith PhD uses the history of Fr. Moses Dickson Cemetery to discuss the relationship between prominent African American figure Moses Dickson (1824-1901) and Black cemeteries in the state.ABOUT THE SPEAKER\nDr. Jeff Smith has been a public historian and professor for more than four decades. Now a specialist in cemeteries and the ways people interact with them\, he is widely published and a popular speaker.\nThis presentation is sponsored by the Missouri Speakers Bureau. The Missouri Speaker Bureau is jointly organized and managed by Missouri Humanities and the State Historical Society of Missouri.
URL:https://events.excelsiorcitizen.com/event/moses-dickson-and-the-african-american-fight-for-equality-in-gilded-age-missouri/
LOCATION:MO
END:VEVENT
BEGIN:VEVENT
DTSTART;TZID=America/Chicago:20250614T130000
DTEND;TZID=America/Chicago:20250614T180000
DTSTAMP:20260423T133039
CREATED:20260112T054237Z
LAST-MODIFIED:20260112T054237Z
UID:10003348-1749906000-1749924000@events.excelsiorcitizen.com
SUMMARY:Elks Lodge Tournament | ES Golf Course
DESCRIPTION:Course Closed All Day
URL:https://events.excelsiorcitizen.com/event/elks-lodge-tournament-es-golf-course/
LOCATION:Excelsior Springs Golf Course
END:VEVENT
BEGIN:VEVENT
DTSTART;TZID=America/Chicago:20250614T100000
DTEND;TZID=America/Chicago:20250614T150000
DTSTAMP:20260423T133039
CREATED:20260112T054254Z
LAST-MODIFIED:20260112T054254Z
UID:10003357-1749895200-1749913200@events.excelsiorcitizen.com
SUMMARY:1st Annual Fundraiser Car and Bike Show
DESCRIPTION:Valley Manor Rehabilitation Center is holding their first annual fundraiser Car and Bike Show. Rain or Shine. Will have Kona Ice – The Rawlings Family and facepainting in attendance. Free will donation. Registration at 9:30am and show from 10am-3pm. For more info text or call Dawn: (c) 816-728-2886 (w) 816-630-1010
URL:https://events.excelsiorcitizen.com/event/1st-annual-fundraiser-car-and-bike-show/
LOCATION:MO
END:VEVENT
BEGIN:VEVENT
DTSTART;TZID=America/Chicago:20250614T100000
DTEND;TZID=America/Chicago:20250614T120000
DTSTAMP:20260423T133039
CREATED:20260112T054052Z
LAST-MODIFIED:20260112T054052Z
UID:10003313-1749895200-1749902400@events.excelsiorcitizen.com
SUMMARY:Ray Cave Auction
DESCRIPTION:RAY CAVE AUCTION1221 N Jesse James Rd\,\, Excelsior Springs\, MO(next to Paul’s Gas Station)Saturday\, June 14\, 202510:00 a.m.\nDue to selling Ray’s properties to another company\, we will be selling all of his equipment\, tools\, scrap\, etc. Everything has to go! NO RESERVES!\nEquipment: 1950s Ford 841 Powermaster tractor with front loader & box blade\, 96-97 Jeep Grand Cherokee 4×4\, 70-71 Chevy 1 ton box truck 350 4 speed dually\, 53 Buick sedan custom build chop top mid 70s frame big block engine\, 18’ Doolittle enclosed trailer\, single axle enclosed trailer\, Troybilt tiller\, Honda 600 custom built chopped top\, (2) post car lifts\, upright air compressor safety clean tank\, lots of industrial shelving\, roll-off toolboxes\, Namco 3 wheel fork lift\, 250 gallon water bins\, Harley items\, large deco rocks\, lots of scrap metal\, car & trailer parts\, hardware\, hand tools\, chainsaws\, sand blast cabinet\, so much more. Everyone knows Ray’s passion of building cars\, trucks and more – lots of great stuff here! \nATTENTION: If bringing trailers or loading equipment\, please park across the street. We will be able to help load on Sunday by scheduling in advance. All items have to be off the lot by Monday at 5 p.m. Anything after that will be carted off as new owners are ready to move in. Sale will be rain or shine. Big items to be sold approx. 12-12:30 p.m. EVERYTHING MUST GO! NO RESERVES! \nVisit www.MacsAuction.com or our facebook page for photos
URL:https://events.excelsiorcitizen.com/event/ray-cave-auction/
LOCATION:MO
END:VEVENT
BEGIN:VEVENT
DTSTART;TZID=America/Chicago:20250614T100000
DTEND;TZID=America/Chicago:20250614T110000
DTSTAMP:20260423T133039
CREATED:20260112T054308Z
LAST-MODIFIED:20260112T054308Z
UID:10003358-1749895200-1749898800@events.excelsiorcitizen.com
SUMMARY:Beads and Bubbly
DESCRIPTION:Beads & Bubbly at Style by Ry Saturday\, June 14th | 10:00 AM – 11:00 AMStyle by Ry – 116 East Broadway\, Excelsior Springs\, MO\nGather your girls and join us for a sparkling good time at Beads & Bubbly — a fun and fabulous morning event in the cozy backroom of Style by Ry!  \nCreate your own bespoke custom bracelet with a curated selection of chic beads\, charms\, and materials — perfect for stacking or gifting. Whether you’re a seasoned DIY-er or just love pretty things\, you’ll leave with a one-of-a-kind piece that reflects your personal style. \nSip on refreshing mimosas as you bead\, laugh\, and connect in a relaxed\, creative atmosphere. This is your chance to mix a little sparkle\, a little bubbly\, and a whole lot of fun.\n$25 per person and includes bracelet making supplies and mimosas! \nSpots are limited\, so grab your besties and reserve your place today. We can’t wait to bead with you!  \nhttps://book.squareup.com/…/GZYXO2C3X2TDU7LXPRTQRMC3
URL:https://events.excelsiorcitizen.com/event/beads-and-bubbly/
LOCATION:MO
END:VEVENT
BEGIN:VEVENT
DTSTART;TZID=America/Chicago:20250614T090000
DTEND;TZID=America/Chicago:20250614T140000
DTSTAMP:20260423T133039
CREATED:20260112T054430Z
LAST-MODIFIED:20260112T054430Z
UID:10003395-1749891600-1749909600@events.excelsiorcitizen.com
SUMMARY:Money for Mission
DESCRIPTION:Taking donations on everything in the sale. Bring a friend to shop our sale. All proceeds go to provide for our Missions work. (Cash or Check)
URL:https://events.excelsiorcitizen.com/event/money-for-mission/
LOCATION:MO
END:VEVENT
BEGIN:VEVENT
DTSTART;TZID=America/Chicago:20250614T080000
DTEND;TZID=America/Chicago:20250614T110000
DTSTAMP:20260423T133039
CREATED:20260112T054338Z
LAST-MODIFIED:20260112T054338Z
UID:10003371-1749888000-1749898800@events.excelsiorcitizen.com
SUMMARY:Cars and Coffee
DESCRIPTION:NAPA Auto Parts will host another Cars and Coffee on June 14th. Bring your car\, truck\, motorcycle\, atv or any vehicle you want to show. People’s Choice trophy will be given. It’s a great time for the entire family and\, as always\, it is totally free. We hope to see you there.
URL:https://events.excelsiorcitizen.com/event/cars-and-coffee/
LOCATION:MO
END:VEVENT
BEGIN:VEVENT
DTSTART;TZID=America/Chicago:20250613T210000
DTEND;TZID=America/Chicago:20250613T220000
DTSTAMP:20260423T133039
CREATED:20260112T054138Z
LAST-MODIFIED:20260112T054138Z
UID:10003330-1749848400-1749852000@events.excelsiorcitizen.com
SUMMARY:Moonlight Yoga Series
DESCRIPTION:Join us for our Moonlight Yoga Summer Series!Breathe\, stretch\, and unwind under the stars at Century Park with instructors Jenn and Kristi on: June 13 (starts at 9 PM) • July 11 • August 8 Just $5 per class or $12 for all 3! Register online now to save your spot!Tag your yoga buddy and make it a monthly summer tradition! Register here: https://es-prcc.activityreg.com/selectactivity_t2.wcs…
URL:https://events.excelsiorcitizen.com/event/moonlight-yoga-series/
LOCATION:Excelsior Springs Community Center\, 500 Tiger Dr\, Excelsior Springs\, MO\, United States
GEO:39.349002;-94.244358
X-APPLE-STRUCTURED-LOCATION;VALUE=URI;X-ADDRESS=Excelsior Springs Community Center 500 Tiger Dr Excelsior Springs MO United States;X-APPLE-RADIUS=500;X-TITLE=500 Tiger Dr:geo:-94.244358,39.349002
END:VEVENT
END:VCALENDAR