BEGIN:VCALENDAR
VERSION:2.0
PRODID:-// - ECPv6.15.20//NONSGML v1.0//EN
CALSCALE:GREGORIAN
METHOD:PUBLISH
X-ORIGINAL-URL:https://events.excelsiorcitizen.com
X-WR-CALDESC:Events for 
REFRESH-INTERVAL;VALUE=DURATION:PT1H
X-Robots-Tag:noindex
X-PUBLISHED-TTL:PT1H
BEGIN:VTIMEZONE
TZID:America/Chicago
BEGIN:DAYLIGHT
TZOFFSETFROM:-0600
TZOFFSETTO:-0500
TZNAME:CDT
DTSTART:20240310T080000
END:DAYLIGHT
BEGIN:STANDARD
TZOFFSETFROM:-0500
TZOFFSETTO:-0600
TZNAME:CST
DTSTART:20241103T070000
END:STANDARD
BEGIN:DAYLIGHT
TZOFFSETFROM:-0600
TZOFFSETTO:-0500
TZNAME:CDT
DTSTART:20250309T080000
END:DAYLIGHT
BEGIN:STANDARD
TZOFFSETFROM:-0500
TZOFFSETTO:-0600
TZNAME:CST
DTSTART:20251102T070000
END:STANDARD
BEGIN:DAYLIGHT
TZOFFSETFROM:-0600
TZOFFSETTO:-0500
TZNAME:CDT
DTSTART:20260308T080000
END:DAYLIGHT
BEGIN:STANDARD
TZOFFSETFROM:-0500
TZOFFSETTO:-0600
TZNAME:CST
DTSTART:20261101T070000
END:STANDARD
END:VTIMEZONE
BEGIN:VEVENT
DTSTART;TZID=America/Chicago:20250628T103000
DTEND;TZID=America/Chicago:20250628T160000
DTSTAMP:20260423T133035
CREATED:20260112T054254Z
LAST-MODIFIED:20260112T054254Z
UID:10003356-1751106600-1751126400@events.excelsiorcitizen.com
SUMMARY:🏁 Jones Custom & Collision Center’s 18th Annual Custom Car\, Hot Rod & Truck Show
DESCRIPTION:📅 June 28\, 2025📍 Hall of Waters Circle – Downtown Excelsior Springs🕥 Registration starts at 10:30 AM💵 $25 Entry Fee🏆 Trophies awarded to Top 20 VehiclesRev your engines and get ready to show off your ride at one of the most exciting automotive events of the year! As part of Waterfest 2025\, this judged show is open to custom cars\, hot rods\, trucks\, and rat rods of all kinds.\n🎉 Award Categories Include:• Best of Show• Best Paint• Best Interior• Best Engine• Best Rat Rod• Best Work in Progress• Most Original• Chamber’s Choice• Plus more!\nEnjoy drawings\, giveaways\, a 50/50 raffle\, and live music while you browse incredible vehicles and connect with car enthusiasts from across the region. It’s fun for the whole family!\nDon’t miss your chance to be part of this legendary show during Waterfest weekend!
URL:https://events.excelsiorcitizen.com/event/%f0%9f%8f%81-jones-custom-collision-centers-18th-annual-custom-car-hot-rod-truck-show/
LOCATION:Hall Of Waters
END:VEVENT
BEGIN:VEVENT
DTSTART;TZID=America/Chicago:20250627T190000
DTEND;TZID=America/Chicago:20250627T230000
DTSTAMP:20260423T133035
CREATED:20260112T054459Z
LAST-MODIFIED:20260112T054459Z
UID:10003414-1751050800-1751065200@events.excelsiorcitizen.com
SUMMARY:JD & The Chasers at Waterfest
DESCRIPTION:Main stage 7pm – 11pm
URL:https://events.excelsiorcitizen.com/event/jd-the-chasers-at-waterfest/
LOCATION:Downtown Excelsior Springs\, Excelsior Springs\, MO\, 64024\, United States
END:VEVENT
BEGIN:VEVENT
DTSTART;TZID=America/Chicago:20250627T173000
DTEND;TZID=America/Chicago:20250627T193000
DTSTAMP:20260423T133035
CREATED:20260112T054723Z
LAST-MODIFIED:20260112T054723Z
UID:10003464-1751045400-1751052600@events.excelsiorcitizen.com
SUMMARY:Live Music with Double Jointed
DESCRIPTION:Join us for a fun-filled evening of great music\, delicious drinks\, and a beautiful vineyard setting. Bring your friends and family for a memorable experience.
URL:https://events.excelsiorcitizen.com/event/live-music-with-double-jointed-5/
LOCATION:MO
END:VEVENT
BEGIN:VEVENT
DTSTART;TZID=America/Chicago:20250627T090000
DTEND;TZID=America/Chicago:20250627T130000
DTSTAMP:20260423T133035
CREATED:20260112T054708Z
LAST-MODIFIED:20260112T054708Z
UID:10003461-1751014800-1751029200@events.excelsiorcitizen.com
SUMMARY:Kaleidoscope Field Trip with ESCC
DESCRIPTION:Give your kids a fun day out – and yourself a break! Sign your 5-9 year old up for ESCC’s Kaleidoscope Field Trip! Drop them off at 9 AM\, and we’ll take them to Kaleidoscope for a day of creativity & fun!  Lunch is included\, and pickup is at 1 PM – all for just $20 per child.Spots are limited\, so sign up soon: https://es-prcc.activityreg.com/selectactivity_t2.wcs
URL:https://events.excelsiorcitizen.com/event/kaleidoscope-field-trip-with-escc/
LOCATION:Excelsior Springs Community Center\, 500 Tiger Dr\, Excelsior Springs\, MO\, United States
GEO:39.349002;-94.244358
X-APPLE-STRUCTURED-LOCATION;VALUE=URI;X-ADDRESS=Excelsior Springs Community Center 500 Tiger Dr Excelsior Springs MO United States;X-APPLE-RADIUS=500;X-TITLE=500 Tiger Dr:geo:-94.244358,39.349002
END:VEVENT
BEGIN:VEVENT
DTSTART;TZID=America/Chicago:20250627T080000
DTEND;TZID=America/Chicago:20250627T140000
DTSTAMP:20260423T133035
CREATED:20260112T054238Z
LAST-MODIFIED:20260112T054238Z
UID:10003349-1751011200-1751032800@events.excelsiorcitizen.com
SUMMARY:Liberty Football Tournament | ES Golf Course
DESCRIPTION:Course Closed until 2:00pm
URL:https://events.excelsiorcitizen.com/event/liberty-football-tournament-es-golf-course/
LOCATION:Excelsior Springs Golf Course
END:VEVENT
BEGIN:VEVENT
DTSTART;TZID=America/Chicago:20250626T183000
DTEND;TZID=America/Chicago:20250626T200000
DTSTAMP:20260423T133035
CREATED:20260112T053953Z
LAST-MODIFIED:20260112T053953Z
UID:10003294-1750962600-1750968000@events.excelsiorcitizen.com
SUMMARY:Excelsior Springs Area Beekeeping Club – June Meeting
DESCRIPTION:Join us for our June club meeting! It’s time to talk about HONEY…so join us and bring your questions.
URL:https://events.excelsiorcitizen.com/event/excelsior-springs-area-beekeeping-club-june-meeting/
LOCATION:MO
END:VEVENT
BEGIN:VEVENT
DTSTART;TZID=America/Chicago:20250626T173000
DTEND;TZID=America/Chicago:20250626T193000
DTSTAMP:20260423T133035
CREATED:20260112T054239Z
LAST-MODIFIED:20260112T054239Z
UID:10003352-1750959000-1750966200@events.excelsiorcitizen.com
SUMMARY:2 Player Horse Race | ES Golf Course
DESCRIPTION:F9 closes at 5:00pm
URL:https://events.excelsiorcitizen.com/event/2-player-horse-race-es-golf-course/
LOCATION:Excelsior Springs Golf Course
END:VEVENT
BEGIN:VEVENT
DTSTART;TZID=America/Chicago:20250626T160000
DTEND;TZID=America/Chicago:20250626T173000
DTSTAMP:20260423T133035
CREATED:20260112T053708Z
LAST-MODIFIED:20260112T053708Z
UID:10003241-1750953600-1750959000@events.excelsiorcitizen.com
SUMMARY:Grand Opening and Ribbon Cutting
DESCRIPTION:The Excelsior Springs Museum is celebrating the completion of their new patio with a Grand Opening Cookout and Ribbon Cutting on Thursday\, June 26! The patio is behind the museum next to the Hall of Waters circle drive!We’ll fire up the grill around 4:00 p.m. with hot dogs\, enjoy some live music\, and gather under the patio before the big Waterfest weekend.\nWe’ll hold the ribbon-cutting at 5:00 p.m.\nWe hope to see you there!!
URL:https://events.excelsiorcitizen.com/event/grand-opening-and-ribbon-cutting/
LOCATION:Excelsior Springs Museum & Archives
END:VEVENT
BEGIN:VEVENT
DTSTART;TZID=America/Chicago:20250626T090000
DTEND;TZID=America/Chicago:20250626T170000
DTSTAMP:20260423T133035
CREATED:20260112T053709Z
LAST-MODIFIED:20260112T053709Z
UID:10003244-1750928400-1750957200@events.excelsiorcitizen.com
SUMMARY:Shemwell Estate Sale
DESCRIPTION:Furniture\, antiques\, tools\, outdoor furniture\, lamps\, brass accessories\, room dividers\, singer pedal sewers\, dolls\, bicycle for 2 and much more.
URL:https://events.excelsiorcitizen.com/event/shemwell-estate-sale/
LOCATION:MO
END:VEVENT
BEGIN:VEVENT
DTSTART;TZID=America/Chicago:20250625T160000
DTEND;TZID=America/Chicago:20250625T190000
DTSTAMP:20260423T133035
CREATED:20260112T054223Z
LAST-MODIFIED:20260112T054223Z
UID:10003345-1750867200-1750878000@events.excelsiorcitizen.com
SUMMARY:Excelsior Springs Evening Farmers Market
DESCRIPTION:Attending:Matt Stewart\nNorth Kansas City Hospital Health Screenings
URL:https://events.excelsiorcitizen.com/event/excelsior-springs-evening-farmers-market-8/
LOCATION:MO
END:VEVENT
BEGIN:VEVENT
DTSTART;TZID=America/Chicago:20250624T173000
DTEND;TZID=America/Chicago:20250624T193000
DTSTAMP:20260423T133035
CREATED:20260112T054409Z
LAST-MODIFIED:20260112T054409Z
UID:10003381-1750786200-1750793400@events.excelsiorcitizen.com
SUMMARY:Business Women’s Happy Hour at Shamrock Hills Vineyard and Winery
DESCRIPTION:Join the Excelsior Springs Business Women for a summer evening of connection\, conversation\, and community! We’re gathering at the beautiful Shamrock Hills Vineyard and Winery for our next Happy Hour\, and you’re invited!\nWhether you’re a local business owner\, a working professional\, or simply looking to expand your circle\, this event is open to all women who want to support and uplift one another.\n Enjoy complimentary wine tastings throughout the evening Mingle on the patio with like-minded women Share ideas\, stories\, and encouragement \nBring a friend and come discover the power of women supporting women—right here in Excelsior Springs!\nThis event is free and open to the public. \nRSVP and mark your calendars—we can’t wait to see you there!
URL:https://events.excelsiorcitizen.com/event/business-womens-happy-hour-at-shamrock-hills-vineyard-and-winery/
LOCATION:MO
END:VEVENT
BEGIN:VEVENT
DTSTART;TZID=America/Chicago:20250624T093000
DTEND;TZID=America/Chicago:20250624T114000
DTSTAMP:20260423T133035
CREATED:20260112T054153Z
LAST-MODIFIED:20260112T054153Z
UID:10003337-1750757400-1750765200@events.excelsiorcitizen.com
SUMMARY:Tiger Basketball Camp | K-12th Grade
DESCRIPTION:ESHS Men’s Basketball Invites You To:K-12th Grade Tiger Basketball Camp\nJune 24th\, 25th\, and 26th (3 Days)\nK-6th Grade: 9:30am-10:30am\n7th-12th Grade: 10:40am-11:40am\nBoys or Girls entering Grades K-5\, Boys entering Grades 6-12\nat the ESHS Gym\nCost? Free!\n*A small donation to the Excelsior Springs Men’s Basketball program would be greatly appreciated\nClick Here for Registration Information
URL:https://events.excelsiorcitizen.com/event/tiger-basketball-camp-k-12th-grade/
LOCATION:Excelsior Springs High School\, 612 Tiger Drive\, Excelsior Springs\, MO\, 64024\, United States
END:VEVENT
BEGIN:VEVENT
DTSTART;TZID=America/Chicago:20250624T080000
DTEND;TZID=America/Chicago:20250624T090000
DTSTAMP:20260423T133035
CREATED:20260112T054123Z
LAST-MODIFIED:20260112T054124Z
UID:10003325-1750752000-1750755600@events.excelsiorcitizen.com
SUMMARY:Veterans Coffee & Donuts
DESCRIPTION:Join us for Veterans Coffee & Donuts on Tuesday\, June 24th at 8 AM.Enjoy a hot cup\, a fresh donut\, and real conversation with fellow veterans. No pressure – just a chance to connect and swap stories with those who’ve been there. All vets welcome.
URL:https://events.excelsiorcitizen.com/event/veterans-coffee-donuts/
LOCATION:Excelsior Springs Community Center\, 500 Tiger Dr\, Excelsior Springs\, MO\, United States
GEO:39.349002;-94.244358
X-APPLE-STRUCTURED-LOCATION;VALUE=URI;X-ADDRESS=Excelsior Springs Community Center 500 Tiger Dr Excelsior Springs MO United States;X-APPLE-RADIUS=500;X-TITLE=500 Tiger Dr:geo:-94.244358,39.349002
END:VEVENT
BEGIN:VEVENT
DTSTART;TZID=America/Chicago:20250622T110000
DTEND;TZID=America/Chicago:20250622T123000
DTSTAMP:20260423T133035
CREATED:20260112T054009Z
LAST-MODIFIED:20260112T054009Z
UID:10003302-1750590000-1750595400@events.excelsiorcitizen.com
SUMMARY:11AM Guided Winery/Wine Cave Tour & Candlelit Tasting
DESCRIPTION:Highlights Enjoy a guided tour through the winery and wine caves to discover the fascinating world of Fence Stile wines Experience a candlelit wine tasting in the CELLAR57 club room and caves—complete with a keepsake glass Learn about vineyard management\, Brix testing\, and the unique terroir of the estateGeneral Info Perks: 10% off bottles of wine purchased after the tour Please arrive a few minutes early for ticket validation \nDescriptionFence Stile Vineyards\, Winery & Distillery invites you to an unforgettable experience in the heart of Missouri’s scenic Excelsior Springs. Take a guided tour of the winery\, wine caves\, and learn about the unique processes and history behind each wine. From vineyard practices to Brix testing\, discover what makes Fence Stile wines exceptional. Finish with a candlelit tasting in the intimate CELLAR57 club room and the wine caves\, complete with a keepsake glass and a 10% discount on bottles bought post-tour. Don’t miss out—get your tickets for the Fence Stile Winery Tour and Tasting in Excelsior Springs now! \nHave a nondrinker in the group? No worries – use discount code ‘NONDRINKER’ at checkout for $10 off.\nNOTE: If ticket sales have closed on the day of the tour\, please call 816-500-6465 to check if additional tickets are available or to schedule a custom tour!\nClick here for tickets
URL:https://events.excelsiorcitizen.com/event/11am-guided-winery-wine-cave-tour-candlelit-tasting-6/
LOCATION:Fence Stile Vineyards and Winery\, 31010 W 124th St\, Excelsior Springs\, MO\, 64024\, United States
END:VEVENT
BEGIN:VEVENT
DTSTART;TZID=America/Chicago:20250621T183000
DTEND;TZID=America/Chicago:20250621T220000
DTSTAMP:20260423T133035
CREATED:20260112T054039Z
LAST-MODIFIED:20260112T054039Z
UID:10003311-1750530600-1750543200@events.excelsiorcitizen.com
SUMMARY:Jazzed to Retire at Huey’s Hidden Vault
DESCRIPTION:Mark your Calendar’s for this event! Baby J will be preforming live at Huey’s Hidden Vault on Saturday\, June 21st 6:30-10 pm. This is a celebration of retirement and open to the public. See you Soon!
URL:https://events.excelsiorcitizen.com/event/jazzed-to-retire-at-hueys-hidden-vault/
LOCATION:MO
END:VEVENT
BEGIN:VEVENT
DTSTART;TZID=America/Chicago:20250621T180000
DTEND;TZID=America/Chicago:20250621T220000
DTSTAMP:20260423T133035
CREATED:20260112T054452Z
LAST-MODIFIED:20260112T054452Z
UID:10003408-1750528800-1750543200@events.excelsiorcitizen.com
SUMMARY:Excelsior Springs Class of 1980 45th Reunion
DESCRIPTION:Excelsior Springs Class of 1980 45th Reunion.June 21st at 6pm – 10pm at the Excelsior Springs Golf Course.   Cost per person is $20.  Contact/text Deanna Harden @ 816-547-0294 to sign-up.
URL:https://events.excelsiorcitizen.com/event/excelsior-springs-class-of-1980-45th-reunion/
LOCATION:Excelsior Springs Golf Course
END:VEVENT
BEGIN:VEVENT
DTSTART;TZID=America/Chicago:20250621T160000
DTEND;TZID=America/Chicago:20250621T180000
DTSTAMP:20260423T133035
CREATED:20260112T054723Z
LAST-MODIFIED:20260112T054723Z
UID:10003465-1750521600-1750528800@events.excelsiorcitizen.com
SUMMARY:Live Music with Jack Soutter
DESCRIPTION:Join us on Saturday\, March 29th at 4:00 PM for a fantastic performance by the talented musician Jack Soutter. Enjoy the beautiful vineyard setting as you relax with friends and family\, sipping on delicious wines and listening to great music. See you there!
URL:https://events.excelsiorcitizen.com/event/live-music-with-jack-soutter-7/
LOCATION:MO
END:VEVENT
BEGIN:VEVENT
DTSTART;TZID=America/Chicago:20250621T130000
DTEND;TZID=America/Chicago:20250621T160000
DTSTAMP:20260423T133035
CREATED:20260112T053922Z
LAST-MODIFIED:20260112T053922Z
UID:10003283-1750510800-1750521600@events.excelsiorcitizen.com
SUMMARY:Live Music on the Wine Garden with Colin Nichols
DESCRIPTION:Join us in welcoming Colin Nichols.Live music on the Wine Garden with Colin Nichols. Enjoy some fine Missouri Wine and wood-fired oven pizza while listening to some old favorites and originals from Colin!
URL:https://events.excelsiorcitizen.com/event/live-music-on-the-wine-garden-with-colin-nichols-4/
LOCATION:MO
END:VEVENT
BEGIN:VEVENT
DTSTART;TZID=America/Chicago:20250621T110000
DTEND;TZID=America/Chicago:20250621T123000
DTSTAMP:20260423T133035
CREATED:20260112T054023Z
LAST-MODIFIED:20260112T054023Z
UID:10003303-1750503600-1750509000@events.excelsiorcitizen.com
SUMMARY:11AM Guided Winery/Wine Cave Tour & Candlelit Tasting
DESCRIPTION:Highlights Enjoy a guided tour through the winery and wine caves to discover the fascinating world of Fence Stile wines Experience a candlelit wine tasting in the CELLAR57 club room and caves—complete with a keepsake glass Learn about vineyard management\, Brix testing\, and the unique terroir of the estateGeneral Info Perks: 10% off bottles of wine purchased after the tour Please arrive a few minutes early for ticket validation \nDescriptionFence Stile Vineyards\, Winery & Distillery invites you to an unforgettable experience in the heart of Missouri’s scenic Excelsior Springs. Take a guided tour of the winery\, wine caves\, and learn about the unique processes and history behind each wine. From vineyard practices to Brix testing\, discover what makes Fence Stile wines exceptional. Finish with a candlelit tasting in the intimate CELLAR57 club room and the wine caves\, complete with a keepsake glass and a 10% discount on bottles bought post-tour. Don’t miss out—get your tickets for the Fence Stile Winery Tour and Tasting in Excelsior Springs now! \nIf ticket sales are closed on the day of the tour\, please call 816-500-6465 to see if additional tickets are available.\nCall 816-500-6465 to schedule a custom tour.\nClick here for tickets
URL:https://events.excelsiorcitizen.com/event/11am-guided-winery-wine-cave-tour-candlelit-tasting-7/
LOCATION:Fence Stile Vineyards and Winery\, 31010 W 124th St\, Excelsior Springs\, MO\, 64024\, United States
END:VEVENT
BEGIN:VEVENT
DTSTART;TZID=America/Chicago:20250621T100000
DTEND;TZID=America/Chicago:20250621T120000
DTSTAMP:20260423T133035
CREATED:20260112T054430Z
LAST-MODIFIED:20260112T054430Z
UID:10003396-1750500000-1750507200@events.excelsiorcitizen.com
SUMMARY:Floral Workshop with Bea’s Flowers & Gifts
DESCRIPTION:Floral Arranging at the Mill with Bea’s Flowers & Gifts  Watkins Woolen Mill State Park – Visitor Center Saturday\, June 21 | 10:00 AM – 12:00 PM $40 per person (includes all supplies)Get your hands dirty and join us for a hands-on Floral Workshop led by the talented team at Bea’s Flowers & Gifts. You’ll learn basic floral design techniques and leave with your very own custom arrangement — perfect for gifting or brightening up your home!\nThis unique workshop blends creativity and nature for a perfect morning escape — right here at the park!\n Space is limited — advance registration is required! Sign up now at watkinsmill.org/events
URL:https://events.excelsiorcitizen.com/event/floral-workshop-with-beas-flowers-gifts/
LOCATION:MO
END:VEVENT
BEGIN:VEVENT
DTSTART;TZID=America/Chicago:20250621T100000
DTEND;TZID=America/Chicago:20250621T120000
DTSTAMP:20260423T133035
CREATED:20260112T054039Z
LAST-MODIFIED:20260112T054039Z
UID:10003310-1750500000-1750507200@events.excelsiorcitizen.com
SUMMARY:Ronimous Lifetime Collection Auction
DESCRIPTION:Make Plans to Attend this Good Auction:Lawn Mowers\, Skid Steer & Farm Equipment; Cub Cadet Commercial zero turn mower\, 25HP Kohler\, 48″ cut\, 559 hours; Cub Cadet Zforce zero turn mower\, 50″ cut\, 167 hours; Grasshopper zero turn mower\, older\, 12Hp Kohler engine; John Deere 8875 skid steer (not presently running); John Deere 613 6′ 3pt rotary cutter; 3PT PTO driven sprayer; 3PT boom; 3PT 6′ blade; Pickup bed water tank; Bale spike; Chicago Electric 12 KVA generator\, 20HP Honda engine\, electric start; 12.5HP pressure washer\, electric start; 8HP towable log splitter \nShop Equipment & ToolsAtlas metal lathe\, 110V\, with 3 and 4 jaw chucks and many accessories; Campbell Hausfeld 60 gallon 220V air compressor; Central Machinery 16 speed floor model drill press; DoALL vertical contour bandsaw\, 220V\, with blade welder; Central Machinery 4.5″ metal cutting bandsaw; Bench grinder; Manual tire changer; Large A-frame hoist; Wright chain hoist; 1T trolley; Zero blasting cabinet; Chicago Electric 220V plasma cutter on cart; Central Machinery 52″ shear press slip roll; 500# man lift\, needs work; Pneumatic bumper jack; Floor jacks\, bottle jacks\, and safety stands; Engine stands; Parts washer; Battery charger; Portapower; Large Dayton shop fans; Many good shelves\, workbenches & rolling shop carts \nWoodworking ToolsCraftsman 10″ radial arm saw; Delta 10″ table saw; Craftsman router table; Grizzly 22″ scroll saw; Custom wide belt sander; Craftsman scroll saw & belt sander; Material rolling stands\nHand Tools\, Yard Tools & Shop SuppliesGear pullers; Pipe wrenches; Wrenches; Taps & dies; Files; Impact sockets; 1/4\, 3/8 and 1/2′ sockets ratchets and extensions of all types; Ring compressors\, valve spring compressors & engine tools; Chilton & repair manuals; Good variety of air tools (impacts\, ratchets\, cutoff tools\, drills\, chisels); Wide variety of shop supplies\, chemicals & hardware; Welding steel\, steel\, brass & copper salvage; Fuel cans; Propane tanks; Ladders; Long-handled tools & axes; Chainsaws; Stihl blower; Stihl 025 chainsaw \nFurniture\, Household\, Antiques & MoreKing size bedroom suite; Sofa; Wingback chair; Washer & dryer; Pine corner cabinet; Oak table & chair; Cast aluminum patio set; Metal office or shop desk; Filing cabinet; Kirby vacuum; Frankoma art pottery dishes; Wood sleds; Cast iron skillets; Small drones; Radio Flyer wagon; Bicycles; Lantern; Fishing rods; Many more clean\, modern household items \nTERMS: Cash or Valid Check. Not Responsible for Accidents\, Thefts or Errors in Advertising. Announcements made at Auction take Precedence over all Advertising.\nRuby & the late Ron Ronimous \nAuctioneers Trent Mumm & Eddie Pickett
URL:https://events.excelsiorcitizen.com/event/ronimous-lifetime-collection-auction/
LOCATION:MO
END:VEVENT
BEGIN:VEVENT
DTSTART;TZID=America/Chicago:20250620T180000
DTEND;TZID=America/Chicago:20250620T200000
DTSTAMP:20260423T133035
CREATED:20260112T055109Z
LAST-MODIFIED:20260112T055109Z
UID:10003541-1750442400-1750449600@events.excelsiorcitizen.com
SUMMARY:Lyrics on the Lawn – Western Hippie
DESCRIPTION:Join us this summer on the Hall of Waters Lawn for an unforgettable series of free\, family-friendly concerts brought to you by the Downtown Excelsior Partnership\, Inc. Experience the magic of live music under the stars in the heart of Excelsior Springs. This event series promises to bring together the community\, music lovers\, and families for evenings filled with enchanting melodies and unforgettable performances.\nEvent DetailsLocation: Hall of Waters Lawn – 201 E. Broadway in Downtown Excelsior SpringsDates and Times: 6:00 PM – 9:00 PM Fridays from June 6 through September 12Admission: FREE!
URL:https://events.excelsiorcitizen.com/event/lyrics-on-the-lawn-western-hippie/
LOCATION:Hall Of Waters
END:VEVENT
BEGIN:VEVENT
DTSTART;TZID=America/Chicago:20250620T180000
DTEND;TZID=America/Chicago:20250620T190000
DTSTAMP:20260423T133035
CREATED:20260112T054554Z
LAST-MODIFIED:20260112T054554Z
UID:10003437-1750442400-1750446000@events.excelsiorcitizen.com
SUMMARY:Patriotic Candle Class (2 dates)
DESCRIPTION:FRIDAY TICKETS: https://www.solanaonbroadway.com/…/red-or-blue-star…SATURDAY TICKETS: https://www.solanaonbroadway.com/…/red-or-blue-star… \nThis star shaped candle bowl is perfect for the 4th of July! Bring your favorite girlfriends and make this cute star candle! You’ll get to pick a red or blue bowl (while they last) mix your scent\, pour your candle\, meet new friends\, enjoy refreshments and shop at Solana Boutique with a discount! The candles take about an hour to cool after pouring. Go explore/have dinner and come back to take your candle home or return another day to pick up your candle. I can also deliver!! Candle making direction by Savanna Nave in Solana Event Space. BYOB!
URL:https://events.excelsiorcitizen.com/event/patriotic-candle-class-2-dates/
LOCATION:Solana On Broadway
END:VEVENT
BEGIN:VEVENT
DTSTART;TZID=America/Chicago:20250620T180000
DTEND;TZID=America/Chicago:20250620T190000
DTSTAMP:20260423T133035
CREATED:20260112T054322Z
LAST-MODIFIED:20260112T054322Z
UID:10003363-1750442400-1750446000@events.excelsiorcitizen.com
SUMMARY:Aqua Kids
DESCRIPTION:Aqua Kids – June 20 at 6 PM Excelsior Springs Community CenterLooking for a fun and refreshing way to spend a summer evening with your little ones? Join us for Aqua Kids – a free\, family-friendly water class designed just for kids!\n Friday\, June 20 6:00 PM Free for members and nonmembers The slide will be open after class for extra fun!\nAqua Kids is the perfect mix of play\, movement\, and water excitement – all in a safe\, welcoming environment.\n Tag a friend and bring the whole crew!Let’s beat the heat and make some memories together.
URL:https://events.excelsiorcitizen.com/event/aqua-kids-2/
LOCATION:Excelsior Springs Community Center\, 500 Tiger Dr\, Excelsior Springs\, MO\, United States
GEO:39.349002;-94.244358
X-APPLE-STRUCTURED-LOCATION;VALUE=URI;X-ADDRESS=Excelsior Springs Community Center 500 Tiger Dr Excelsior Springs MO United States;X-APPLE-RADIUS=500;X-TITLE=500 Tiger Dr:geo:-94.244358,39.349002
END:VEVENT
BEGIN:VEVENT
DTSTART;TZID=America/Chicago:20250620T173000
DTEND;TZID=America/Chicago:20250620T193000
DTSTAMP:20260423T133035
CREATED:20260112T054723Z
LAST-MODIFIED:20260112T054724Z
UID:10003466-1750440600-1750447800@events.excelsiorcitizen.com
SUMMARY:Live Music with Sam Wehner
DESCRIPTION:Sam Wehner will be performing live\, showcasing his incredible talent and entertaining the crowd with his amazing music. Don’t miss out on this opportunity to relax and unwind in a beautiful vineyard setting while enjoying some fantastic tunes!
URL:https://events.excelsiorcitizen.com/event/live-music-with-sam-wehner/
LOCATION:MO
END:VEVENT
BEGIN:VEVENT
DTSTART;TZID=America/Chicago:20250620T120000
DTEND;TZID=America/Chicago:20250620T170000
DTSTAMP:20260423T133035
CREATED:20260112T054024Z
LAST-MODIFIED:20260112T054024Z
UID:10003307-1750420800-1750438800@events.excelsiorcitizen.com
SUMMARY:Swinging Fore a Cause Golf Tournament
DESCRIPTION:Join us on June 20th for a beautiful day of golfing at the RPOR.org Golf Tournament! Not only will you get to enjoy a round of golf\, but you’ll also be swinging fore a cause. Get a team together and come out to support a great event. Don’t miss out on the fun\, register now!Relentless Pursuit Outreach and Recovery
URL:https://events.excelsiorcitizen.com/event/swinging-fore-a-cause-golf-tournament/
LOCATION:Excelsior Springs Golf Course
END:VEVENT
BEGIN:VEVENT
DTSTART;TZID=America/Chicago:20250620T120000
DTEND;TZID=America/Chicago:20250620T160000
DTSTAMP:20260423T133035
CREATED:20260112T054500Z
LAST-MODIFIED:20260112T054500Z
UID:10003417-1750420800-1750435200@events.excelsiorcitizen.com
SUMMARY:Swinging Fore a Cause Golf Tournament
DESCRIPTION:Join us on June 20th for a beautiful day of golfing at the RPOR.org Golf Tournament! Not only will you get to enjoy a round of golf\, but you’ll also be swinging fore a cause. Get a team together and come out to support a great event. Don’t miss out on the fun\, register now!
URL:https://events.excelsiorcitizen.com/event/swinging-fore-a-cause-golf-tournament-2/
LOCATION:Excelsior Springs Golf Course
END:VEVENT
BEGIN:VEVENT
DTSTART;TZID=America/Chicago:20250620T110000
DTEND;TZID=America/Chicago:20250620T160000
DTSTAMP:20260423T133035
CREATED:20260112T054339Z
LAST-MODIFIED:20260112T054339Z
UID:10003372-1750417200-1750435200@events.excelsiorcitizen.com
SUMMARY:Community Blood Drive
DESCRIPTION:Community Blood Drive at Flack Memorial Church\, 1300 Tracy Ave.\, Excelsior Springs11:00am-4:00pm\nSign up at savealifenow.org Group Code KC3G or call 877-468-6844
URL:https://events.excelsiorcitizen.com/event/community-blood-drive-5/
LOCATION:MO
END:VEVENT
BEGIN:VEVENT
DTSTART;TZID=America/Chicago:20250620T080000
DTEND;TZID=America/Chicago:20250620T140000
DTSTAMP:20260423T133035
CREATED:20260112T054238Z
LAST-MODIFIED:20260112T054238Z
UID:10003350-1750406400-1750428000@events.excelsiorcitizen.com
SUMMARY:Scott Morris Tournament | ES Golf Course
DESCRIPTION:Course closed until 2:00pm
URL:https://events.excelsiorcitizen.com/event/scott-morris-tournament-es-golf-course/
LOCATION:Excelsior Springs Golf Course
END:VEVENT
BEGIN:VEVENT
DTSTART;TZID=America/Chicago:20250619T180000
DTEND;TZID=America/Chicago:20250619T190000
DTSTAMP:20260423T133035
CREATED:20260112T054252Z
LAST-MODIFIED:20260112T054252Z
UID:10003353-1750356000-1750359600@events.excelsiorcitizen.com
SUMMARY:Men’s/Ladies Club | ES Golf Course
DESCRIPTION:F9 closes at 4:30pm
URL:https://events.excelsiorcitizen.com/event/mens-ladies-club-es-golf-course/
LOCATION:Excelsior Springs Golf Course
END:VEVENT
END:VCALENDAR