BEGIN:VCALENDAR
VERSION:2.0
PRODID:-// - ECPv6.15.20//NONSGML v1.0//EN
CALSCALE:GREGORIAN
METHOD:PUBLISH
X-ORIGINAL-URL:https://events.excelsiorcitizen.com
X-WR-CALDESC:Events for 
REFRESH-INTERVAL;VALUE=DURATION:PT1H
X-Robots-Tag:noindex
X-PUBLISHED-TTL:PT1H
BEGIN:VTIMEZONE
TZID:America/Chicago
BEGIN:DAYLIGHT
TZOFFSETFROM:-0600
TZOFFSETTO:-0500
TZNAME:CDT
DTSTART:20250309T080000
END:DAYLIGHT
BEGIN:STANDARD
TZOFFSETFROM:-0500
TZOFFSETTO:-0600
TZNAME:CST
DTSTART:20251102T070000
END:STANDARD
BEGIN:DAYLIGHT
TZOFFSETFROM:-0600
TZOFFSETTO:-0500
TZNAME:CDT
DTSTART:20260308T080000
END:DAYLIGHT
BEGIN:STANDARD
TZOFFSETFROM:-0500
TZOFFSETTO:-0600
TZNAME:CST
DTSTART:20261101T070000
END:STANDARD
BEGIN:DAYLIGHT
TZOFFSETFROM:-0600
TZOFFSETTO:-0500
TZNAME:CDT
DTSTART:20270314T080000
END:DAYLIGHT
BEGIN:STANDARD
TZOFFSETFROM:-0500
TZOFFSETTO:-0600
TZNAME:CST
DTSTART:20271107T070000
END:STANDARD
END:VTIMEZONE
BEGIN:VTIMEZONE
TZID:UTC
BEGIN:STANDARD
TZOFFSETFROM:+0000
TZOFFSETTO:+0000
TZNAME:UTC
DTSTART:20250101T000000
END:STANDARD
END:VTIMEZONE
BEGIN:VEVENT
DTSTART;TZID=America/Chicago:20260501T110000
DTEND;TZID=America/Chicago:20260501T180000
DTSTAMP:20260420T185629
CREATED:20260322T204714Z
LAST-MODIFIED:20260322T205011Z
UID:10004649-1777633200-1777658400@events.excelsiorcitizen.com
SUMMARY:Elkhorn Day at Donnici's Italian Deli & Market
DESCRIPTION:Help support a local business while also supporting our school! Enjoy lunch\, dinner or something from the market and Donnici’s will donate 10% back to our school!
URL:https://events.excelsiorcitizen.com/event/elkhorn-day-at-donnicis-italian-deli-market-2/2026-05-01/
LOCATION:Donnici’s Italian Deli & Market\, 1460 Kearney Rd\, Excelsior Springs\, MO\, 64024\, United States
ATTACH;FMTTYPE=image/jpeg:https://events.excelsiorcitizen.com/wp-content/uploads/2026/03/538668906_1288550979727043_2382290067742211208_n.jpg
END:VEVENT
BEGIN:VEVENT
DTSTART;TZID=UTC:20260501T130000
DTEND;TZID=UTC:20260501T210000
DTSTAMP:20260420T185629
CREATED:20260223T004607Z
LAST-MODIFIED:20260223T010612Z
UID:10004483-1777640400-1777669200@events.excelsiorcitizen.com
SUMMARY:Golf: Boys Varsity  vs. Richmond (Away)
DESCRIPTION:Type: Tournament  Opponent: Richmond
URL:https://events.excelsiorcitizen.com/event/golf-boys-varsity-vs-richmond-away/
LOCATION:Shirkey Golf Course
END:VEVENT
BEGIN:VEVENT
DTSTART;TZID=UTC:20260501T140000
DTEND;TZID=UTC:20260501T210000
DTSTAMP:20260420T185629
CREATED:20260223T004608Z
LAST-MODIFIED:20260223T010612Z
UID:10004486-1777644000-1777669200@events.excelsiorcitizen.com
SUMMARY:Tennis: Boys Varsity  vs. TBA (Away)
DESCRIPTION:Type: District  Opponent: TBA  Comments: Individual Districts
URL:https://events.excelsiorcitizen.com/event/tennis-boys-varsity-vs-tba-away/
LOCATION:TBA
END:VEVENT
BEGIN:VEVENT
DTSTART;TZID=America/Chicago:20260501T160000
DTEND;TZID=America/Chicago:20260501T200000
DTSTAMP:20260420T185629
CREATED:20260412T162127Z
LAST-MODIFIED:20260412T162237Z
UID:10004705-1777651200-1777665600@events.excelsiorcitizen.com
SUMMARY:Friday Reset at Rage Cave
DESCRIPTION: Friday Send-Off \nClock out. Let it out. It’s time for your official weekend send-off.\nYou made it through the week — the stress\, the emails\, the people  — now come blow it all off in the best way possible. Smash it\, splatter it\, and leave every ounce of “I can’t deal with this” behind.\nBring your crew\, your date\, or just your fed-up self… either way\, we’re sending you into the weekend feeling lighter\, louder\, and ready for whatever’s next.\n Because the only thing you should be carrying into the weekend… is good vibes.\n Call or text to book: 816-946-9062
URL:https://events.excelsiorcitizen.com/event/friday-reset-at-rage-cave/2026-05-01/
LOCATION:Rage Cave\, 215 Spring St\, Excelsior Springs\, MO\, 64024\, United States
ATTACH;FMTTYPE=image/jpeg:https://events.excelsiorcitizen.com/wp-content/uploads/2026/04/RageCave-Friday.jpg
END:VEVENT
BEGIN:VEVENT
DTSTART;TZID=UTC:20260501T210000
DTEND;TZID=UTC:20260501T233000
DTSTAMP:20260420T185629
CREATED:20260223T004608Z
LAST-MODIFIED:20260223T010612Z
UID:10004484-1777669200-1777678200@events.excelsiorcitizen.com
SUMMARY:Baseball: Varsity  vs. Grandview (Home)
DESCRIPTION:Type: Game  Opponent: Grandview
URL:https://events.excelsiorcitizen.com/event/baseball-varsity-vs-grandview-home/
LOCATION:Excelsior Springs High School  Baseball Field 3 (turf)
END:VEVENT
BEGIN:VEVENT
DTSTART;TZID=UTC:20260501T210000
DTEND;TZID=UTC:20260501T233000
DTSTAMP:20260420T185629
CREATED:20260223T004608Z
LAST-MODIFIED:20260223T010613Z
UID:10004485-1777669200-1777678200@events.excelsiorcitizen.com
SUMMARY:Baseball: JV  vs. Grandview (Home)
DESCRIPTION:Type: Game  Opponent: Grandview
URL:https://events.excelsiorcitizen.com/event/baseball-jv-vs-grandview-home/
LOCATION:Excelsior Springs High School  Baseball Field 2 (grass)
END:VEVENT
BEGIN:VEVENT
DTSTART;TZID=UTC:20260501T210000
DTEND;TZID=UTC:20260502T010000
DTSTAMP:20260420T185629
CREATED:20260223T004607Z
LAST-MODIFIED:20260223T010612Z
UID:10004482-1777669200-1777683600@events.excelsiorcitizen.com
SUMMARY:Track: Varsity  vs. Platte County (Away)
DESCRIPTION:Type: Invitational  Opponent: Platte County
URL:https://events.excelsiorcitizen.com/event/track-varsity-vs-platte-county-away/
LOCATION:Platte County High School
END:VEVENT
BEGIN:VEVENT
DTSTART;TZID=America/Chicago:20260502T080000
DTEND;TZID=America/Chicago:20260502T170000
DTSTAMP:20260420T185629
CREATED:20260302T055648Z
LAST-MODIFIED:20260302T055856Z
UID:10004564-1777708800-1777741200@events.excelsiorcitizen.com
SUMMARY:Rayville Saddle Club - Summer Showdown Series
DESCRIPTION:More Details to Come.\nCheck out our website: Rayvillesaddleclub.com
URL:https://events.excelsiorcitizen.com/event/rayville-saddle-club-summer-showdown-series-timed-events/2026-05-02/1/
LOCATION:Rayville Saddle Club\, 102 N Lee Street\, Rayville\, MO\, 64084\, United States
ATTACH;FMTTYPE=image/jpeg:https://events.excelsiorcitizen.com/wp-content/uploads/2026/03/632235328_26352566081018242_3233423763493531386_n.jpg
END:VEVENT
BEGIN:VEVENT
DTSTART;TZID=America/Chicago:20260502T100000
DTEND;TZID=America/Chicago:20260502T110000
DTSTAMP:20260420T185629
CREATED:20260205T171648Z
LAST-MODIFIED:20260223T174529Z
UID:10004007-1777716000-1777719600@events.excelsiorcitizen.com
SUMMARY:Family Workout
DESCRIPTION:Gymnasium (The gymnasium will be closed for the event)\nFree for all to participate\nTaught by Kalyn\nSponsored by SAFE
URL:https://events.excelsiorcitizen.com/event/family-workout-14/
LOCATION:Excelsior Springs Community Center\, 500 Tiger Dr\, Excelsior Springs\, MO\, United States
GEO:39.349002;-94.244358
X-APPLE-STRUCTURED-LOCATION;VALUE=URI;X-ADDRESS=Excelsior Springs Community Center 500 Tiger Dr Excelsior Springs MO United States;X-APPLE-RADIUS=500;X-TITLE=500 Tiger Dr:geo:-94.244358,39.349002
END:VEVENT
BEGIN:VEVENT
DTSTART;TZID=America/Chicago:20260502T100000
DTEND;TZID=America/Chicago:20260502T110000
DTSTAMP:20260420T185629
CREATED:20260413T053406Z
LAST-MODIFIED:20260413T053406Z
UID:10005371-1777716000-1777719600@events.excelsiorcitizen.com
SUMMARY:Goat Yoga
DESCRIPTION:Registration is Now Open for Goat Yoga = May 2nd at 10AM\n$20 for 45 MinutesFor Ages 10 and Up\nOnly 20 Spots available! Register now before spots are filled:https://es-prcc.activityreg.com/selectactivity_t2.wcs
URL:https://events.excelsiorcitizen.com/event/goat-yoga-2/
LOCATION:Excelsior Springs Community Center\, 500 Tiger Dr\, Excelsior Springs\, MO\, United States
ATTACH;FMTTYPE=image/jpeg:https://events.excelsiorcitizen.com/wp-content/uploads/2026/04/Goat-Yoga.jpg
GEO:39.349002;-94.244358
X-APPLE-STRUCTURED-LOCATION;VALUE=URI;X-ADDRESS=Excelsior Springs Community Center 500 Tiger Dr Excelsior Springs MO United States;X-APPLE-RADIUS=500;X-TITLE=500 Tiger Dr:geo:-94.244358,39.349002
END:VEVENT
BEGIN:VEVENT
DTSTART;TZID=America/Chicago:20260502T100000
DTEND;TZID=America/Chicago:20260502T120000
DTSTAMP:20260420T185629
CREATED:20260302T055648Z
LAST-MODIFIED:20260302T055856Z
UID:10004565-1777716000-1777723200@events.excelsiorcitizen.com
SUMMARY:Rayville Saddle Club - Summer Showdown Series
DESCRIPTION:More Details to Come.\nCheck out our website: Rayvillesaddleclub.com
URL:https://events.excelsiorcitizen.com/event/rayville-saddle-club-summer-showdown-series-timed-events/2026-05-02/2/
LOCATION:Rayville Saddle Club\, 102 N Lee Street\, Rayville\, MO\, 64084\, United States
ATTACH;FMTTYPE=image/jpeg:https://events.excelsiorcitizen.com/wp-content/uploads/2026/03/632235328_26352566081018242_3233423763493531386_n.jpg
END:VEVENT
BEGIN:VEVENT
DTSTART;TZID=America/Chicago:20260502T110000
DTEND;TZID=America/Chicago:20260502T150000
DTSTAMP:20260420T185629
CREATED:20260112T054839Z
LAST-MODIFIED:20260407T045758Z
UID:10003492-1777719600-1777734000@events.excelsiorcitizen.com
SUMMARY:Family Fun Day
DESCRIPTION:You’re invited to join us for a great day of FREE Family Fun! \nWe’ll have activities available for the whole family including Bounce Houses\, Inflatables\, Pedal Cars\, Yard Games and more! Plus enjoy Hamburgers\, Hotdogs and some delicious Shaved Ice from Nonnie’s Shaved Icse Treats! \nMark your calendars and help spread the word. We’ll see you there! Click here for more info
URL:https://events.excelsiorcitizen.com/event/family-fun-day-3/
LOCATION:Crescent Lake Christian Center\, 1250 St Louis Ave\, Excelsior Springs\, MO\, 64024\, United States
ATTACH;FMTTYPE=image/jpeg:https://events.excelsiorcitizen.com/wp-content/uploads/2026/04/659055608_10236610487496329_5556800058758969696_n.jpg
END:VEVENT
BEGIN:VEVENT
DTSTART;TZID=America/Chicago:20260502T110000
DTEND;TZID=America/Chicago:20260502T150000
DTSTAMP:20260420T185629
CREATED:20260412T161045Z
LAST-MODIFIED:20260412T161045Z
UID:10004693-1777719600-1777734000@events.excelsiorcitizen.com
SUMMARY:Family Fun Day
DESCRIPTION:Come join us for our Annual Family Fun Day on Saturday\, May 2nd\, from 11:00am-3:00pm! This event is entirely free and perfect for the whole family. We’ll have inflatables\, pedal cars\, a family friendly DJ\, door prizes\, yard games\, food and more! We’re also very excited to have KC Scoops joining in on the fun to provide us with their delicious ice-cream!\nMark your calendars and invited a friend!
URL:https://events.excelsiorcitizen.com/event/family-fun-day-4/
LOCATION:Crescent Lake Christian Center\, 1250 St Louis Ave\, Excelsior Springs\, MO\, 64024\, United States
ATTACH;FMTTYPE=image/jpeg:https://events.excelsiorcitizen.com/wp-content/uploads/2026/04/Family-Fun-Day.jpg
END:VEVENT
BEGIN:VEVENT
DTSTART;TZID=America/Chicago:20260502T110000
DTEND;TZID=America/Chicago:20260502T150000
DTSTAMP:20260420T185629
CREATED:20260419T154314Z
LAST-MODIFIED:20260419T154314Z
UID:10005372-1777719600-1777734000@events.excelsiorcitizen.com
SUMMARY:Family Fun Day
DESCRIPTION:Come join us for our Annual Family Fun Day on Saturday\, May 2nd\, from 11:00am-3:00pm! This event is entirely free and perfect for the whole family. We’ll have inflatables\, pedal cars\, a family friendly DJ\, door prizes\, yard games\, food and more! We’re also very excited to have KC Scoops joining in on the fun to provide us with their delicious ice-cream!
URL:https://events.excelsiorcitizen.com/event/family-fun-day-5/
LOCATION:Crescent Lake Christian Center\, 1250 St Louis Ave\, Excelsior Springs\, MO\, 64024\, United States
ATTACH;FMTTYPE=image/png:https://events.excelsiorcitizen.com/wp-content/uploads/2026/04/Family-Fun-Day-2026.png
END:VEVENT
BEGIN:VEVENT
DTSTART;TZID=America/Chicago:20260502T113000
DTEND;TZID=America/Chicago:20260502T173000
DTSTAMP:20260420T185629
CREATED:20260124T235135Z
LAST-MODIFIED:20260302T061008Z
UID:10003891-1777721400-1777743000@events.excelsiorcitizen.com
SUMMARY:Ride the Wine Trail - Excelsior Springs Chamber Trolley
DESCRIPTION:Ride the Wine Trail aboard Star Shuttle \nSit back & relax as we transport you through Excelsior Springs Wine Country. \nThis continuous route allows you to visit each venue at your own pace & enjoy whatever you’d like along the way. Choose your starting point and hop on & off throughout the day. \nToday’s Pickup locations:\n• Elms Hotel & Spa – 11:25 AMParking lot side door. Please be waiting outside for pickup.• Willow Spring Mercantile– 11:30 AMPlease be waiting outside for pickup \nStops along the Wine Trail include:\nFence Stile Vineyards\, Winery & Distillery\nVan Till Family Farm Winery\nShamrock Hills Vineyard & Winery \nYour ticket covers transportation only. Tastings and purchases are up to each guest\, so sip responsibly and settle all tabs 10 minutes before the shuttle swings back around. \nRelax\, ride\, repeat. Cheers to a great day on the Wine Trail! 
URL:https://events.excelsiorcitizen.com/event/ride-the-wine-trail-excelsior-springs-chamber-trolley/2026-05-02/
LOCATION:The Elms Hotel and Spa\, 401 Regent St\, Excelsior Springs\, MO\, 64024\, United States
ATTACH;FMTTYPE=image/jpeg:https://events.excelsiorcitizen.com/wp-content/uploads/2022/07/starshuttle1-scaled.jpg
END:VEVENT
BEGIN:VEVENT
DTSTART;TZID=UTC:20260503T010000
DTEND;TZID=UTC:20260503T040000
DTSTAMP:20260420T185629
CREATED:20260223T004608Z
LAST-MODIFIED:20260223T010613Z
UID:10004488-1777770000-1777780800@events.excelsiorcitizen.com
SUMMARY:Special Events-ESHS  (Home)
DESCRIPTION:Comments: High School Prom at The Montgomery
URL:https://events.excelsiorcitizen.com/event/special-events-eshs-home-66/
LOCATION:MO
END:VEVENT
BEGIN:VEVENT
DTSTART;TZID=UTC:20260503T040000
DTEND;TZID=UTC:20260503T044500
DTSTAMP:20260420T185629
CREATED:20260223T004608Z
LAST-MODIFIED:20260223T010613Z
UID:10004487-1777780800-1777783500@events.excelsiorcitizen.com
SUMMARY:Special Events-ESHS  (Home)
DESCRIPTION:Comments: After prom
URL:https://events.excelsiorcitizen.com/event/special-events-eshs-home-65/
LOCATION:Excelsior Springs High School – HS Commons\, Excelsior Springs High School – Gym
END:VEVENT
BEGIN:VEVENT
DTSTART;TZID=America/Chicago:20260503T100000
DTEND;TZID=America/Chicago:20260503T120000
DTSTAMP:20260420T185629
CREATED:20260302T055648Z
LAST-MODIFIED:20260302T055856Z
UID:10004563-1777802400-1777809600@events.excelsiorcitizen.com
SUMMARY:Rayville Saddle Club - Summer Showdown Series
DESCRIPTION:More Details to Come.\nCheck out our website: Rayvillesaddleclub.com
URL:https://events.excelsiorcitizen.com/event/rayville-saddle-club-summer-showdown-series-timed-events/2026-05-03/
LOCATION:Rayville Saddle Club\, 102 N Lee Street\, Rayville\, MO\, 64084\, United States
ATTACH;FMTTYPE=image/jpeg:https://events.excelsiorcitizen.com/wp-content/uploads/2026/03/632235328_26352566081018242_3233423763493531386_n.jpg
END:VEVENT
BEGIN:VEVENT
DTSTART;TZID=America/Chicago:20260503T180000
DTEND;TZID=America/Chicago:20260503T200000
DTSTAMP:20260420T185629
CREATED:20260419T160243Z
LAST-MODIFIED:20260419T160243Z
UID:10005377-1777831200-1777838400@events.excelsiorcitizen.com
SUMMARY:Pastors Jay and Debbie Ministering in Excelsior Springs
DESCRIPTION:Pastors Jay and Debbie Eberly invite you to join them at Grace Family Worship Center in Excelsior Springs\, MO\, with Pastors Forrest & Brenda Schreier on Sunday\, May 3rd. Come experience an encounter with God and be empowered to always live victorious through the spirit of faith!\n\nSunday\, May 3rd at 6:00 p.m.\nGrace Family Worship Center1816 Kearney RdExcelsior Springs\, MO 64024\nPhone: 816-630-9964\nWebsite: https://gracefamilyexcelsior.com/\n\nLivestream is available for these services at the following link: https://www.youtube.com/@GraceFamilyExcelsior
URL:https://events.excelsiorcitizen.com/event/pastors-jay-and-debbie-ministering-in-excelsior-springs/
LOCATION:Grace Family Worship Center\, 1816 Kearney Rd\, Excelsior Springs\, MO\, 64024\, United States
ATTACH;FMTTYPE=image/jpeg:https://events.excelsiorcitizen.com/wp-content/uploads/2026/04/671754379_990737190186241_7701331293901310163_n.jpg
END:VEVENT
BEGIN:VEVENT
DTSTART;TZID=America/Chicago:20260504T110000
DTEND;TZID=America/Chicago:20260504T150000
DTSTAMP:20260420T185629
CREATED:20260412T180559Z
LAST-MODIFIED:20260412T180726Z
UID:10004724-1777892400-1777906800@events.excelsiorcitizen.com
SUMMARY:Toddler Swim
DESCRIPTION:Bring your little ones to enjoy the indoor pool with pool toys and fun aquatic features! FREE for ESCC Members and just $5 for Non-Members (parents/guardians get in free and must be present). Every Monday from 11:00 AM – 3:00 PM​\, Ages 2- 5 Years
URL:https://events.excelsiorcitizen.com/event/toddler-swim-2/2026-05-04/
LOCATION:Excelsior Springs Community Center\, 500 Tiger Dr\, Excelsior Springs\, MO\, United States
ATTACH;FMTTYPE=image/png:https://events.excelsiorcitizen.com/wp-content/uploads/2026/04/toddlerswim-1.png
GEO:39.349002;-94.244358
X-APPLE-STRUCTURED-LOCATION;VALUE=URI;X-ADDRESS=Excelsior Springs Community Center 500 Tiger Dr Excelsior Springs MO United States;X-APPLE-RADIUS=500;X-TITLE=500 Tiger Dr:geo:-94.244358,39.349002
END:VEVENT
BEGIN:VEVENT
DTSTART;TZID=UTC:20260504T210000
DTEND;TZID=UTC:20260504T230000
DTSTAMP:20260420T185629
CREATED:20260223T004608Z
LAST-MODIFIED:20260223T010107Z
UID:10004490-1777928400-1777935600@events.excelsiorcitizen.com
SUMMARY:Tennis: Boys Varsity  vs. TBA (Away)
DESCRIPTION:Type: District  Opponent: TBA
URL:https://events.excelsiorcitizen.com/event/tennis-boys-varsity-vs-tba-away-2/
LOCATION:TBA
END:VEVENT
BEGIN:VEVENT
DTSTART;TZID=UTC:20260504T213000
DTEND;TZID=UTC:20260504T233000
DTSTAMP:20260420T185629
CREATED:20260223T004608Z
LAST-MODIFIED:20260223T010613Z
UID:10004489-1777930200-1777937400@events.excelsiorcitizen.com
SUMMARY:Baseball: Varsity  (Time Changed) vs. Raytown South (Away)
DESCRIPTION:Type: Game  Opponent: Raytown South
URL:https://events.excelsiorcitizen.com/event/baseball-varsity-time-changed-vs-raytown-south-away/
LOCATION:Raytown South High School
END:VEVENT
BEGIN:VEVENT
DTSTART;TZID=UTC:20260505T000000
DTEND;TZID=UTC:20260505T013000
DTSTAMP:20260420T185629
CREATED:20260223T004608Z
LAST-MODIFIED:20260223T010107Z
UID:10004491-1777939200-1777944600@events.excelsiorcitizen.com
SUMMARY:Special Events-ESHS  (Home)
DESCRIPTION:Comments: HS Band Concert
URL:https://events.excelsiorcitizen.com/event/special-events-eshs-home-67/
LOCATION:Excelsior Springs High School – Performing Arts Center
END:VEVENT
BEGIN:VEVENT
DTSTART;VALUE=DATE:20260505
DTEND;VALUE=DATE:20260507
DTSTAMP:20260420T185629
CREATED:20251120T183115Z
LAST-MODIFIED:20260223T173026Z
UID:10002074-1777946400-1778032799@events.excelsiorcitizen.com
SUMMARY:Cinco de Mayo
DESCRIPTION:Observance\nTo hide observances\, go to Google Calendar Settings > Holidays in United States
URL:https://events.excelsiorcitizen.com/event/cinco-de-mayo-2/
LOCATION:MO
END:VEVENT
BEGIN:VEVENT
DTSTART;TZID=America/Chicago:20260505T110000
DTEND;TZID=America/Chicago:20260505T130000
DTSTAMP:20260420T185629
CREATED:20260412T162717Z
LAST-MODIFIED:20260412T162717Z
UID:10004712-1777978800-1777986000@events.excelsiorcitizen.com
SUMMARY:Cinco De Mayo with Hightower Heritage
DESCRIPTION:Join us for a special Cinco de Mayo edition of our #TuesdayTeamLunch Walking tacos\, dessert\, and drinks are on us!\nEvery good fiesta calls for great food and even better company. Our weekly tradition is all about connection\, community\, and taking time to enjoy the people around us. All that’s missing is you!\nTaco ’bout our event with your family and friends! Our community is a big part of this team\, and we appreciate the opportunity to serve and celebrate with you.\nRSVP here: https://forms.gle/JQqFCZW1epi2uic2A\n#TuesdayTeamLunch #HightowerHeritage #CincoDeMayo #ExcelsiorSprings #CommunityFirst #TacoTuesday #LocalEvents
URL:https://events.excelsiorcitizen.com/event/cinco-de-mayo-with-hightower-heritage/
LOCATION:Hightower Heritage Real Estate\, 225 N Jesse James Rd\, Excelsior Springs\, MO\, 64024\, United States
ATTACH;FMTTYPE=image/jpeg:https://events.excelsiorcitizen.com/wp-content/uploads/2026/04/Cinco-De-Mayo-HHRE.jpg
END:VEVENT
BEGIN:VEVENT
DTSTART;TZID=UTC:20260505T140000
DTEND;TZID=UTC:20260505T210000
DTSTAMP:20260420T185629
CREATED:20260223T004609Z
LAST-MODIFIED:20260223T010107Z
UID:10004495-1777989600-1778014800@events.excelsiorcitizen.com
SUMMARY:Golf: Boys Varsity  vs. Lawson (Away)
DESCRIPTION:Type: Tournament  Opponent: Lawson
URL:https://events.excelsiorcitizen.com/event/golf-boys-varsity-vs-lawson-away/
LOCATION:Hidden Valley Golf Course
END:VEVENT
BEGIN:VEVENT
DTSTART;TZID=America/Chicago:20260505T173000
DTEND;TZID=America/Chicago:20260505T184500
DTSTAMP:20260420T185629
CREATED:20260405T191744Z
LAST-MODIFIED:20260405T191744Z
UID:10004660-1778002200-1778006700@events.excelsiorcitizen.com
SUMMARY:ABC's of Estate Planning
DESCRIPTION:Estate planning doesn’t have to feel overwhelming. In this free educational seminar\, we’ll break it down into simple\, easy-to-understand concepts so you can feel more confident about your future. \nYou’ll learn:• The essential documents everyone should have• How to protect your family and your assets• Common mistakes that can create stress\, cost\, and confusion• How planning now can give you more control later\nWhether you’re just getting started or want to make sure you’re on the right track\, this is a great first step.
URL:https://events.excelsiorcitizen.com/event/abcs-of-estate-planning-2/
LOCATION:Excelsior Springs Area Career Center\, 614 Lynn Rd\, Excelsior Springs\, MO\, 64024\, United States
ATTACH;FMTTYPE=image/jpeg:https://events.excelsiorcitizen.com/wp-content/uploads/2026/04/662585083_1530838732385820_3757477462762598660_n.jpg
END:VEVENT
BEGIN:VEVENT
DTSTART;TZID=America/Chicago:20260505T183000
DTEND;TZID=America/Chicago:20260505T193000
DTSTAMP:20260420T185629
CREATED:20260217T002652Z
LAST-MODIFIED:20260217T002652Z
UID:10004119-1778005800-1778009400@events.excelsiorcitizen.com
SUMMARY:Financial Peace University
DESCRIPTION:Take a step toward financial confidence and peace of mind.Oasis Outreach Ministries is hosting Financial Peace University\, a practical\, step-by-step course to help you take control of your money and plan for your future.Tuesday eveningsMarch 3 – April 286:30 p.m.Oasis Outreach Ministries\, 108 W. Broadway\, Excelsior SpringsSeating is limited\, so register early at OasisOutreachMO.org and start winning with money.
URL:https://events.excelsiorcitizen.com/event/financial-peace-university/2026-05-05/
LOCATION:Oasis Outreach Ministry\, 108 W Broadway Ave\, Excelsior Springs\, MO\, 64024\, United States
ATTACH;FMTTYPE=image/jpeg:https://events.excelsiorcitizen.com/wp-content/uploads/2026/02/629847948_1407153758120799_4226016857652137779_n-1.jpg
END:VEVENT
BEGIN:VEVENT
DTSTART;TZID=America/Chicago:20260505T190000
DTEND;TZID=America/Chicago:20260505T200000
DTSTAMP:20260420T185629
CREATED:20260217T023150Z
LAST-MODIFIED:20260217T023150Z
UID:10004185-1778007600-1778011200@events.excelsiorcitizen.com
SUMMARY:New Freedom Recovery Program
DESCRIPTION:Join New Freedom Recovery Program on Tuesdays at 7:00pm at Crescent Lake Christian Center\, 1250 St Louis Ave\, Excelsior Springs\, as we journey through “Hope”. Rather than seeking hope within ourself\, find peace in trusting God\, who loves and accepts us unconditionally\, despite our imperfections. Lead me; instruct me; for You are the God who grants me salvation. My hope is solely in You. Psalm 25:5 \nAddictions\, Alcoholism\, Hang-ups\, Depression\, Substance Abuse \nFor more information\, call Steve Waymen 816-377-7226 \n 
URL:https://events.excelsiorcitizen.com/event/new-freedom-recovery-program-3/2026-05-05/
LOCATION:Crescent Lake Christian Center\, 1250 St Louis Ave\, Excelsior Springs\, MO\, 64024\, United States
ATTACH;FMTTYPE=image/jpeg:https://events.excelsiorcitizen.com/wp-content/uploads/2026/02/631611260_10236263434379618_5041821824909759256_n-1.jpg
END:VEVENT
BEGIN:VEVENT
DTSTART;TZID=UTC:20260505T210000
DTEND;TZID=UTC:20260506T000000
DTSTAMP:20260420T185629
CREATED:20260223T004608Z
LAST-MODIFIED:20260223T010107Z
UID:10004494-1778014800-1778025600@events.excelsiorcitizen.com
SUMMARY:Track MS: MS  vs.  Excelsior Springs Middle School vs.  Kearney Middle School (Away)
DESCRIPTION:Type: Invitational  Opponent:  Excelsior Springs Middle School vs.  Kearney Middle School
URL:https://events.excelsiorcitizen.com/event/track-ms-ms-vs-excelsior-springs-middle-school-vs-kearney-middle-school-away/
LOCATION:Kearney High School
END:VEVENT
END:VCALENDAR