BEGIN:VCALENDAR
VERSION:2.0
PRODID:-// - ECPv6.15.20//NONSGML v1.0//EN
CALSCALE:GREGORIAN
METHOD:PUBLISH
X-ORIGINAL-URL:https://events.excelsiorcitizen.com
X-WR-CALDESC:Events for 
REFRESH-INTERVAL;VALUE=DURATION:PT1H
X-Robots-Tag:noindex
X-PUBLISHED-TTL:PT1H
BEGIN:VTIMEZONE
TZID:America/Chicago
BEGIN:DAYLIGHT
TZOFFSETFROM:-0600
TZOFFSETTO:-0500
TZNAME:CDT
DTSTART:20240310T080000
END:DAYLIGHT
BEGIN:STANDARD
TZOFFSETFROM:-0500
TZOFFSETTO:-0600
TZNAME:CST
DTSTART:20241103T070000
END:STANDARD
BEGIN:DAYLIGHT
TZOFFSETFROM:-0600
TZOFFSETTO:-0500
TZNAME:CDT
DTSTART:20250309T080000
END:DAYLIGHT
BEGIN:STANDARD
TZOFFSETFROM:-0500
TZOFFSETTO:-0600
TZNAME:CST
DTSTART:20251102T070000
END:STANDARD
BEGIN:DAYLIGHT
TZOFFSETFROM:-0600
TZOFFSETTO:-0500
TZNAME:CDT
DTSTART:20260308T080000
END:DAYLIGHT
BEGIN:STANDARD
TZOFFSETFROM:-0500
TZOFFSETTO:-0600
TZNAME:CST
DTSTART:20261101T070000
END:STANDARD
END:VTIMEZONE
BEGIN:VTIMEZONE
TZID:UTC
BEGIN:STANDARD
TZOFFSETFROM:+0000
TZOFFSETTO:+0000
TZNAME:UTC
DTSTART:20240101T000000
END:STANDARD
END:VTIMEZONE
BEGIN:VEVENT
DTSTART;TZID=America/Chicago:20251204T180000
DTEND;TZID=America/Chicago:20251204T190000
DTSTAMP:20260420T113917
CREATED:20260112T052608Z
LAST-MODIFIED:20260112T052608Z
UID:10003016-1764871200-1764874800@events.excelsiorcitizen.com
SUMMARY:December Monthly Meeting – Cornerstone PTO
DESCRIPTION:Please join us for our monthly PTO meeting! All parents/guardians of Cornerstone students are welcome.
URL:https://events.excelsiorcitizen.com/event/december-monthly-meeting-cornerstone-pto/
LOCATION:MO
END:VEVENT
BEGIN:VEVENT
DTSTART;TZID=UTC:20251204T161800
DTEND;TZID=UTC:20251204T171000
DTSTAMP:20260420T113917
CREATED:20251120T184125Z
LAST-MODIFIED:20251203T230135Z
UID:10002175-1764865080-1764868200@events.excelsiorcitizen.com
SUMMARY:School Organizations - ESHS  (Home)
DESCRIPTION:Comments: NCAPS. Career Center and Internship Experience Recruitment Assembly.
URL:https://events.excelsiorcitizen.com/event/school-organizations-eshs-home/
LOCATION:Excelsior Springs High School – Performing Arts Center
END:VEVENT
BEGIN:VEVENT
DTSTART;TZID=America/Chicago:20251204T100000
DTEND;TZID=America/Chicago:20251204T113000
DTSTAMP:20260420T113917
CREATED:20251120T183232Z
LAST-MODIFIED:20251203T203029Z
UID:10002117-1764842400-1764847800@events.excelsiorcitizen.com
SUMMARY:Older Adult Caregiver Support Group
DESCRIPTION:Older Adult Caregiver Support Group\n“Together We Care” offers ongoing older adult caregiver support services by Northland Shepherd’s Center and Tri-County Mental Health.\nYou’re invited to join us the first Thursday of each month from 10 – 11:30 AM in a hybrid format. We meet in-person at the Woodneath Mid-Continent Library or virtually by Zoom. (email us for the link)
URL:https://events.excelsiorcitizen.com/event/older-adult-caregiver-support-group/
LOCATION:Woodneath Mid-Continent Library @ 8900 NE Flintlock Rd\, Kansas City\, MO\, United States
GEO:39.267855;-94.472963
END:VEVENT
BEGIN:VEVENT
DTSTART;TZID=UTC:20251204T003000
DTEND;TZID=UTC:20251204T013000
DTSTAMP:20260420T113917
CREATED:20251120T184224Z
LAST-MODIFIED:20251203T231546Z
UID:10002227-1764808200-1764811800@events.excelsiorcitizen.com
SUMMARY:Mid-week Recharge Yoga
DESCRIPTION:Every month we focus on a theme and introduce a new sequence. The sequences build on each other but you can jump in at any time.\n*Women Only* / $15 per class\nPlease message me if you have any questions.\nhttps://www.facebook.com/events/694079926648960/?event_time_id=694079949982291
URL:https://events.excelsiorcitizen.com/event/mid-week-recharge-yoga-3/
LOCATION:the Empowerment Studio LLC
ORGANIZER;CN="Healthy Dragon Wellness":MAILTO:noreply@facebookmail.com
END:VEVENT
BEGIN:VEVENT
DTSTART;TZID=UTC:20251204T000000
DTEND;TZID=UTC:20251204T010000
DTSTAMP:20260420T113917
CREATED:20251120T184123Z
LAST-MODIFIED:20251203T230134Z
UID:10002171-1764806400-1764810000@events.excelsiorcitizen.com
SUMMARY:Elementary Special Events  (Home)
DESCRIPTION:Comments: Lewis Elementary Concert 5th Grade
URL:https://events.excelsiorcitizen.com/event/elementary-special-events-home-3/
LOCATION:Excelsior Springs High School – Performing Arts Center
END:VEVENT
BEGIN:VEVENT
DTSTART;TZID=UTC:20251203T230000
DTEND;TZID=UTC:20251204T020000
DTSTAMP:20260420T113917
CREATED:20251120T184124Z
LAST-MODIFIED:20251203T230133Z
UID:10002172-1764802800-1764813600@events.excelsiorcitizen.com
SUMMARY:Wrestling MS: MS  vs. Excelsior Springs Middle School vs. Liberty North  C Gold'>Multiple Schools (Home)
DESCRIPTION:Type: Tri Meet/Match  Opponent: Excelsior Springs Middle School vs. Liberty North  C Gold’>Multiple Schools
URL:https://events.excelsiorcitizen.com/event/wrestling-ms-ms-vs-excelsior-springs-middle-school-vs-liberty-north-c-goldmultiple-schools-home/
LOCATION:Excelsior Springs High School  Gym
END:VEVENT
BEGIN:VEVENT
DTSTART;TZID=UTC:20251203T230000
DTEND;TZID=UTC:20251204T000000
DTSTAMP:20260420T113917
CREATED:20251120T184124Z
LAST-MODIFIED:20251203T230135Z
UID:10002173-1764802800-1764806400@events.excelsiorcitizen.com
SUMMARY:Basketball: Boys C Gold  vs. Kearney (Away)
DESCRIPTION:Type: Game  Opponent: Kearney
URL:https://events.excelsiorcitizen.com/event/basketball-boys-c-gold-vs-kearney-away/
LOCATION:Kearney Junior High School
END:VEVENT
BEGIN:VEVENT
DTSTART;TZID=America/Chicago:20251203T130000
DTEND;TZID=America/Chicago:20251203T140000
DTSTAMP:20260420T113917
CREATED:20251120T224743Z
LAST-MODIFIED:20251120T224743Z
UID:10002487-1764766800-1764770400@events.excelsiorcitizen.com
SUMMARY:Armchair Travelers: Netherlands
DESCRIPTION:FREE for everyone 60 years or older\, registration required to save your spot\, and so there is enough food for everyoneReserve your spot here: https://es-prcc.activityreg.com/selectactivity_t2.wcs?leaguesid=398In the Community Rooms
URL:https://events.excelsiorcitizen.com/event/armchair-travelers-netherlands-2/
LOCATION:MO
END:VEVENT
BEGIN:VEVENT
DTSTART;TZID=America/Chicago:20251203T130000
DTEND;TZID=America/Chicago:20251203T140000
DTSTAMP:20260420T113917
CREATED:20251120T224742Z
LAST-MODIFIED:20251203T000121Z
UID:10002497-1764766800-1764770400@events.excelsiorcitizen.com
SUMMARY:Armchair Travelers: Netherlands
DESCRIPTION:FREE for everyone 60 years or older\, registration required to save your spot\, and so there is enough food for everyoneReserve your spot here: https://es-prcc.activityreg.com/selectactivity_t2.wcs?leaguesid=398In the Community Rooms
URL:https://events.excelsiorcitizen.com/event/armchair-travelers-netherlands/
LOCATION:MO
END:VEVENT
BEGIN:VEVENT
DTSTART;TZID=UTC:20251203T010000
DTEND;TZID=UTC:20251203T023000
DTSTAMP:20260420T113917
CREATED:20251120T184104Z
LAST-MODIFIED:20251202T224534Z
UID:10002166-1764723600-1764729000@events.excelsiorcitizen.com
SUMMARY:Basketball: Boys Varsity  vs. Lexington (Home)
DESCRIPTION:Type: Game  Opponent: Lexington
URL:https://events.excelsiorcitizen.com/event/basketball-boys-varsity-vs-lexington-home/
LOCATION:Excelsior Springs High School  Gym
END:VEVENT
BEGIN:VEVENT
DTSTART;TZID=UTC:20251203T010000
DTEND;TZID=UTC:20251203T023000
DTSTAMP:20260420T113917
CREATED:20251120T184104Z
LAST-MODIFIED:20251201T223044Z
UID:10002167-1764723600-1764729000@events.excelsiorcitizen.com
SUMMARY:Basketball: Girls Varsity  vs. Lexington (Away)
DESCRIPTION:Type: Game  Opponent: Lexington
URL:https://events.excelsiorcitizen.com/event/basketball-girls-varsity-vs-lexington-away/
LOCATION:Lexington High School
END:VEVENT
BEGIN:VEVENT
DTSTART;TZID=UTC:20251203T001500
DTEND;TZID=UTC:20251203T014500
DTSTAMP:20260420T113917
CREATED:20251202T224534Z
LAST-MODIFIED:20251202T224534Z
UID:10002555-1764720900-1764726300@events.excelsiorcitizen.com
SUMMARY:Basketball: Girls Varsity  (Time Changed) vs. Lexington (Away)
DESCRIPTION:Type: Game  Opponent: Lexington
URL:https://events.excelsiorcitizen.com/event/basketball-girls-varsity-time-changed-vs-lexington-away/
LOCATION:Lexington High School
END:VEVENT
BEGIN:VEVENT
DTSTART;TZID=UTC:20251202T233000
DTEND;TZID=UTC:20251203T001500
DTSTAMP:20260420T113917
CREATED:20251120T184105Z
LAST-MODIFIED:20251202T224532Z
UID:10002168-1764718200-1764720900@events.excelsiorcitizen.com
SUMMARY:Basketball: Girls JV  vs. Lexington (Away)
DESCRIPTION:Type: Game  Opponent: Lexington  Comments: 1/2 of the JV Game
URL:https://events.excelsiorcitizen.com/event/basketball-girls-jv-vs-lexington-away/
LOCATION:Lexington High School
END:VEVENT
BEGIN:VEVENT
DTSTART;TZID=UTC:20251202T233000
DTEND;TZID=UTC:20251202T233000
DTSTAMP:20260420T113917
CREATED:20251120T184103Z
LAST-MODIFIED:20251202T224533Z
UID:10002164-1764718200-1764718200@events.excelsiorcitizen.com
SUMMARY:Basketball: Boys JV  vs. Lexington (Home)
DESCRIPTION:Type: Game  Opponent: Lexington
URL:https://events.excelsiorcitizen.com/event/basketball-boys-jv-vs-lexington-home/
LOCATION:Excelsior Springs High School  Gym
END:VEVENT
BEGIN:VEVENT
DTSTART;TZID=UTC:20251202T230000
DTEND;TZID=UTC:20251203T003000
DTSTAMP:20260420T113917
CREATED:20251120T184223Z
LAST-MODIFIED:20251202T231545Z
UID:10002226-1764716400-1764721800@events.excelsiorcitizen.com
SUMMARY:VRP Kickoff at Warbird Whiskey
DESCRIPTION:Join us as we launch The Veteran R.E.A.D.S. Program (Resilience • Education • Advocacy • Dialogue • Service) at Warbird Whiskey!\nEach month\, we’ll gather in a relaxed\, veteran-friendly space to read\, write\, share stories\, and engage in open dialogue\, exploring how storytelling builds strength\, connection\, and community.\nInspired by the symposium spirit of ancient Greece\, these story circles invite veterans\, service members\, first responders\, and military families to reflect\, connect\, and lead through story.\nCome as you are\, share what you choose\, and raise a glass to resilience. Whether you want to read\, write\, speak\, or simply sit back and listen\, there’s a seat for you.\nThe event is free and drinks will be available for purchase\, but no purchase is required to attend. No registration required.\nFor more information\, contact Joshua Shinn\, EE/ CD Specialist\, & VRP Lead at MU Extension: jshinn@missouri.edu.\nhttps://www.facebook.com/events/1308239683957226/
URL:https://events.excelsiorcitizen.com/event/vrp-kickoff-at-warbird-whiskey/
LOCATION:Warbird Whiskey
ORGANIZER;CN="The Veteran READS Program":MAILTO:noreply@facebookmail.com
END:VEVENT
BEGIN:VEVENT
DTSTART;TZID=UTC:20251202T220000
DTEND;TZID=UTC:20251203T000000
DTSTAMP:20260420T113917
CREATED:20251120T184105Z
LAST-MODIFIED:20251202T224533Z
UID:10002169-1764712800-1764720000@events.excelsiorcitizen.com
SUMMARY:Basketball MS: Girls MS  (Cancelled) vs. Excelsior Springs Middle School vs. Heritage Middle (Away)
DESCRIPTION:Type: Game  Opponent: Excelsior Springs Middle School vs. Heritage Middle
URL:https://events.excelsiorcitizen.com/event/basketball-ms-girls-ms-vs-excelsior-springs-middle-school-vs-heritage-middle-home/
LOCATION:Excelsior Springs Middle School  Gym
END:VEVENT
BEGIN:VEVENT
DTSTART;TZID=UTC:20251202T220000
DTEND;TZID=UTC:20251203T000000
DTSTAMP:20260420T113917
CREATED:20251120T184104Z
LAST-MODIFIED:20251202T224533Z
UID:10002165-1764712800-1764720000@events.excelsiorcitizen.com
SUMMARY:Basketball MS: Boys MS  (Cancelled) vs.  Excelsior Springs Middle School vs.  Heritage Middle (Away)
DESCRIPTION:Type: Game  Opponent:  Excelsior Springs Middle School vs.  Heritage Middle
URL:https://events.excelsiorcitizen.com/event/basketball-ms-boys-ms-vs-excelsior-springs-middle-school-vs-heritage-middle-away/
LOCATION:Heritage Middle School
END:VEVENT
BEGIN:VEVENT
DTSTART;TZID=UTC:20251202T220000
DTEND;TZID=UTC:20251202T224500
DTSTAMP:20260420T113917
CREATED:20251120T184103Z
LAST-MODIFIED:20251201T223043Z
UID:10002163-1764712800-1764715500@events.excelsiorcitizen.com
SUMMARY:Elementary Special Events  (Home)
DESCRIPTION:Comments: Speed & Agility
URL:https://events.excelsiorcitizen.com/event/elementary-special-events-home-2/
LOCATION:Cornerstone Elementary – Cornerstone Elementary Gym
END:VEVENT
BEGIN:VEVENT
DTSTART;TZID=America/Chicago:20251202T170000
DTEND;TZID=America/Chicago:20251202T183000
DTSTAMP:20260420T113917
CREATED:20260112T052039Z
LAST-MODIFIED:20260112T052039Z
UID:10002907-1764694800-1764700200@events.excelsiorcitizen.com
SUMMARY:VRP Kickoff at Warbird Whiskey
DESCRIPTION:Join us as we launch The Veteran R.E.A.D.S. Program (Resilience • Education • Advocacy • Dialogue • Service) at Warbird Whiskey!\nEach month\, we’ll gather in a relaxed\, veteran-friendly space to read\, write\, share stories\, and engage in open dialogue\, exploring how storytelling builds strength\, connection\, and community. \nInspired by the symposium spirit of ancient Greece\, these story circles invite veterans\, service members\, first responders\, and military families to reflect\, connect\, and lead through story. \nCome as you are\, share what you choose\, and raise a glass to resilience. Whether you want to read\, write\, speak\, or simply sit back and listen\, there’s a seat for you. \nThe event is free and drinks will be available for purchase\, but no purchase is required to attend. No registration required. \nFor more information\, contact Joshua Shinn\, EE/ CD Specialist\, & VRP Lead at MU Extension: jshinn@missouri.edu.
URL:https://events.excelsiorcitizen.com/event/vrp-kickoff-at-warbird-whiskey-2/
LOCATION:Warbird Whiskey
END:VEVENT
BEGIN:VEVENT
DTSTART;TZID=UTC:20251202T001500
DTEND;TZID=UTC:20251202T013000
DTSTAMP:20260420T113917
CREATED:20251120T184103Z
LAST-MODIFIED:20251201T223043Z
UID:10002162-1764634500-1764639000@events.excelsiorcitizen.com
SUMMARY:Basketball: Girls C Gold  (Cancelled) vs. Oak Park (Away)
DESCRIPTION:Type: Game  Opponent: Oak Park
URL:https://events.excelsiorcitizen.com/event/basketball-girls-c-gold-cancelled-vs-oak-park-away/
LOCATION:Excelsior Springs High School  Gym
END:VEVENT
BEGIN:VEVENT
DTSTART;TZID=UTC:20251201T230000
DTEND;TZID=UTC:20251202T000000
DTSTAMP:20260420T113917
CREATED:20251120T184103Z
LAST-MODIFIED:20251201T223042Z
UID:10002161-1764630000-1764633600@events.excelsiorcitizen.com
SUMMARY:Basketball: Boys C Gold  (Cancelled) vs. Oak Park (Away)
DESCRIPTION:Type: Game  Opponent: Oak Park
URL:https://events.excelsiorcitizen.com/event/basketball-boys-c-gold-cancelled-vs-oak-park-away/
LOCATION:Excelsior Springs High School  Gym
END:VEVENT
BEGIN:VEVENT
DTSTART;TZID=UTC:20251201T220000
DTEND;TZID=UTC:20251202T000000
DTSTAMP:20260420T113917
CREATED:20251120T184045Z
LAST-MODIFIED:20251201T223042Z
UID:10002160-1764626400-1764633600@events.excelsiorcitizen.com
SUMMARY:Wrestling MS: MS  (Cancelled) vs.  Excelsior Springs Middle School vs.  Antioch Middle (Away)
DESCRIPTION:Type: Tri Meet/Match  Opponent:  Excelsior Springs Middle School vs.  Antioch Middle
URL:https://events.excelsiorcitizen.com/event/wrestling-ms-ms-vs-excelsior-springs-middle-school-vs-antioch-middle-away/
LOCATION:Antioch Middle School
END:VEVENT
BEGIN:VEVENT
DTSTART;TZID=UTC:20251130T180000
DTEND;TZID=UTC:20251130T220000
DTSTAMP:20260420T113917
CREATED:20251124T203109Z
LAST-MODIFIED:20251129T223039Z
UID:10002520-1764525600-1764540000@events.excelsiorcitizen.com
SUMMARY:Fence Stile Daytime Igloos- Vineyards Views & Quiet Inspiration
DESCRIPTION:Escape to a cozy hideaway with views of the vineyards\, warmth of the igloo and your playlist on the Bluetooth\, speaker to relax!\nOur igloos aren’t just for evenings under the stars — they’re now open for daytime escapes!\n☕ Writers’ & Creators’ Retreats\n🍇 Vineyard Brunch & Fondue\n🎨 Sip & Sketch Sessions\n🧘 Mindful Moments Retreats\nWhat’s Included:\n    Private\, heated igloo for your group (up to 5 guests)\n    1.5 hour reservation\n    Bluetooth speaker\n    Table service for wine\, spirits\, food\, and add-ons\nIn addition to our normal Nibbles Menu\, customize your experience with delicious ‘Igloo only’ add-ons when you check-in:\n🍫 Port & Chocolate Truffle Flight\n🔥 S’mores Board\n🧀 Warm Fondue Service\n🍷 Charcuterie Board\nAdd a wine flight\, or keepsake blanket — and make the time your own.\nhttps://www.facebook.com/events/842103655195185/
URL:https://events.excelsiorcitizen.com/event/fence-stile-daytime-igloos-vineyards-views-quiet-inspiration/
LOCATION:31010 W 124th St\, 10580 Mo O Hwy\, Excelsior Springs\, MO\, United States
ORGANIZER;CN="Fence Stile Vineyards%2C Winery &amp%3B Distillery":MAILTO:noreply@facebookmail.com
GEO:39.287005;-94.174309
X-APPLE-STRUCTURED-LOCATION;VALUE=URI;X-ADDRESS=31010 W 124th St 10580 Mo O Hwy Excelsior Springs MO United States;X-APPLE-RADIUS=500;X-TITLE=10580 Mo O Hwy:geo:-94.174309,39.287005
END:VEVENT
BEGIN:VEVENT
DTSTART;TZID=UTC:20251130T173000
DTEND;TZID=UTC:20251130T203000
DTSTAMP:20260420T113917
CREATED:20251120T184223Z
LAST-MODIFIED:20251129T223039Z
UID:10002225-1764523800-1764534600@events.excelsiorcitizen.com
SUMMARY:Fellowship Dinner
DESCRIPTION:Join us for a Fellowship Luncheon after service on November 30th! We will have a joint Lessons & Carols service with St. Luke’s Episcopal Church. Bring a side dish or salad you love to share!\nhttps://www.facebook.com/events/1151088253205474/
URL:https://events.excelsiorcitizen.com/event/fellowship-dinner/
LOCATION:First United Methodist Church of Excelsior Springs
ORGANIZER;CN="First United Methodist Church of Excelsior Springs":MAILTO:noreply@facebookmail.com
END:VEVENT
BEGIN:VEVENT
DTSTART;TZID=UTC:20251130T170000
DTEND;TZID=UTC:20251130T200000
DTSTAMP:20260420T113917
CREATED:20251124T203108Z
LAST-MODIFIED:20251129T223038Z
UID:10002519-1764522000-1764532800@events.excelsiorcitizen.com
SUMMARY:Tremendous Auction
DESCRIPTION:Mac’s Auction Service\nSunday\, November 30\, 2025\n11:00 a.m.\nMac’s Auction Barn\nY Hwy\, Excelsior Springs\, MO\nFIREARMS-GOLD/SILVER-COLLECTIBLES-MORE\nDue to selling their home and moving\, they are selling their collections of firearms\, gold & silver jewelry\, coins and other items of interest.\nFIREARMS: Buffalo gun 44 black powder #E67259\, Pasadena firearms 32 caliber automatic pistol #838C38\, US revolver 32 caliber #50487\, High Point 380 #3F380\, 22 hy hunter single shot #03355\, American Classic #2 45 #A01383\, Cobra 380 #FS068508\, Ruger 9mm #312-59554\, camouflage shotgun 12 gauge Mossberg\, single shot 12 gause tri ump\, 7mm rolling block\, Russian #762X54RTT392\, Stevens arms 410 shotgun model 58\, Marlin Glenfield firearm 22 #72468376\, Mossberg 22 AR style #ELV3342752\, Ranger 20 gauge single shot (needs work)\, 44 black powder rifle with stock\, Bobcat 50 caliber black powder.\nGOLD/SILVER/JEWELRY: (10) 14-12-10k gold rings with settings\, 14k bracelet\, great selection of sterling silver jewelry\, sterling flatware set (537 grams)\, thumb cuffs\, sterling necklace w/champion watch (rare)\, vintage necklace with picture of confederate soldier\, watches\, love tokens (15)\, Morgan & Peace dollars\, ant. Keys\, German starter pistol\, Wells Fargo human body tag\, Army uniform\, swords\, pocket knives\, and more.\nCOLLECTIBLES/MORE: Number 12 Griswold skillet\, iron cornbread pan\, small skillet\, assortment of brass items\, ant. Stool\, spitoon\, (2) windmills\, original circus clown bicycle (neat)\, license plates\, small wagons\, milk bottle crate\, belt buckles\, signs\, Jeff Gordon diecast cars\, Legos\, board games\, 8-track tapes\, cassettes\, soldier nutcrackers\, metal toys\, tins\, plastic cars\, lapel pin collection\, matchbooks\, books\, paper rollers\, model airplanes\, coolers\, kitchen items\, afghans\, fans\, jars\, pie plates\, figurines\, clocks\, corn hole set\, tools\, compressor\, chipper shredder.\nStill going through stuff! Be sure to check out the pictures of these great items on our website or Facebook page. NOTE: Firearms will be sold at approx. 1:00-1:30pm.\nhttps://www.facebook.com/events/2341430639660605/
URL:https://events.excelsiorcitizen.com/event/tremendous-auction-2/
LOCATION:Y Highway\, 10580 Mo O Hwy\, Excelsior Springs\, MO\, United States
ORGANIZER;CN="Mac's Auction":MAILTO:noreply@facebookmail.com
GEO:39.287005;-94.174309
X-APPLE-STRUCTURED-LOCATION;VALUE=URI;X-ADDRESS=Y Highway 10580 Mo O Hwy Excelsior Springs MO United States;X-APPLE-RADIUS=500;X-TITLE=10580 Mo O Hwy:geo:-94.174309,39.287005
END:VEVENT
BEGIN:VEVENT
DTSTART;TZID=America/Chicago:20251130T170000
DTEND;TZID=America/Chicago:20251130T180000
DTSTAMP:20260420T113917
CREATED:20260112T051837Z
LAST-MODIFIED:20260112T051837Z
UID:10002867-1764522000-1764525600@events.excelsiorcitizen.com
SUMMARY:Hanging of the Green – Salem Christian Union Chruch
DESCRIPTION:Join us for a beautiful and meaningful tradition… \n Hanging of the Green  \n Salem Christian Union Church \n15701 Salem Rd \n November 30th\, 2025 \n 5:00 PM \nCome enjoy an evening of worship\, greenery\, and the joyful beginning of the Christmas season as we prepare our church—and our hearts—for celebrating Christ’s birth. \nEveryone is welcome!
URL:https://events.excelsiorcitizen.com/event/hanging-of-the-green-salem-christian-union-chruch/
LOCATION:MO
END:VEVENT
BEGIN:VEVENT
DTSTART;TZID=America/Chicago:20251130T140000
DTEND;TZID=America/Chicago:20251130T160000
DTSTAMP:20260420T113917
CREATED:20260112T051737Z
LAST-MODIFIED:20260112T051737Z
UID:10002850-1764511200-1764518400@events.excelsiorcitizen.com
SUMMARY:Live Music with JW Bowden
DESCRIPTION:Join us for an easy Sunday afternoon of wine\, music\, and vineyard views with JW Bowden.
URL:https://events.excelsiorcitizen.com/event/live-music-with-jw-bowden/
LOCATION:MO
END:VEVENT
BEGIN:VEVENT
DTSTART;TZID=America/Chicago:20251130T120000
DTEND;TZID=America/Chicago:20251130T160000
DTSTAMP:20260420T113917
CREATED:20260112T051752Z
LAST-MODIFIED:20260112T051752Z
UID:10002855-1764504000-1764518400@events.excelsiorcitizen.com
SUMMARY:Fence Stile Daytime Igloos – Vineyards Views & Quiet Inspiration
DESCRIPTION:Escape to a cozy hideaway with views of the vineyards\, warmth of the igloo and your playlist on the Bluetooth\, speaker to relax!Our igloos aren’t just for evenings under the stars — they’re now open for daytime escapes!\n Writers’ & Creators’ Retreats Vineyard Brunch & Fondue Sip & Sketch Sessions Mindful Moments Retreats\nWhat’s Included:\nPrivate\, heated igloo for your group (up to 5 guests)1.5 hour reservationBluetooth speakerTable service for wine\, spirits\, food\, and add-ons\nIn addition to our normal Nibbles Menu\, customize your experience with delicious ‘Igloo only’ add-ons when you check-in: Port & Chocolate Truffle Flight S’mores Board Warm Fondue Service Charcuterie Board\nAdd a wine flight\, or keepsake blanket — and make the time your own.\nClick here for ticket info!
URL:https://events.excelsiorcitizen.com/event/fence-stile-daytime-igloos-vineyards-views-quiet-inspiration-2/
LOCATION:Fence Stile Vineyards and Winery\, 31010 W 124th St\, Excelsior Springs\, MO\, 64024\, United States
END:VEVENT
BEGIN:VEVENT
DTSTART;TZID=America/Chicago:20251130T110000
DTEND;TZID=America/Chicago:20251130T140000
DTSTAMP:20260420T113917
CREATED:20260112T051807Z
LAST-MODIFIED:20260112T051807Z
UID:10002858-1764500400-1764511200@events.excelsiorcitizen.com
SUMMARY:Tremendous Auction
DESCRIPTION:Mac’s Auction ServiceSunday\, November 30\, 202511:00 a.m.Mac’s Auction BarnY Hwy\, Excelsior Springs\, MO\nFIREARMS-GOLD/SILVER-COLLECTIBLES-MORE\nDue to selling their home and moving\, they are selling their collections of firearms\, gold & silver jewelry\, coins and other items of interest. \nFIREARMS: Buffalo gun 44 black powder #E67259\, Pasadena firearms 32 caliber automatic pistol #838C38\, US revolver 32 caliber #50487\, High Point 380 #3F380\, 22 hy hunter single shot #03355\, American Classic #2 45 #A01383\, Cobra 380 #FS068508\, Ruger 9mm #312-59554\, camouflage shotgun 12 gauge Mossberg\, single shot 12 gause tri ump\, 7mm rolling block\, Russian #762X54RTT392\, Stevens arms 410 shotgun model 58\, Marlin Glenfield firearm 22 #72468376\, Mossberg 22 AR style #ELV3342752\, Ranger 20 gauge single shot (needs work)\, 44 black powder rifle with stock\, Bobcat 50 caliber black powder.\nGOLD/SILVER/JEWELRY: (10) 14-12-10k gold rings with settings\, 14k bracelet\, great selection of sterling silver jewelry\, sterling flatware set (537 grams)\, thumb cuffs\, sterling necklace w/champion watch (rare)\, vintage necklace with picture of confederate soldier\, watches\, love tokens (15)\, Morgan & Peace dollars\, ant. Keys\, German starter pistol\, Wells Fargo human body tag\, Army uniform\, swords\, pocket knives\, and more.\nCOLLECTIBLES/MORE: Number 12 Griswold skillet\, iron cornbread pan\, small skillet\, assortment of brass items\, ant. Stool\, spitoon\, (2) windmills\, original circus clown bicycle (neat)\, license plates\, small wagons\, milk bottle crate\, belt buckles\, signs\, Jeff Gordon diecast cars\, Legos\, board games\, 8-track tapes\, cassettes\, soldier nutcrackers\, metal toys\, tins\, plastic cars\, lapel pin collection\, matchbooks\, books\, paper rollers\, model airplanes\, coolers\, kitchen items\, afghans\, fans\, jars\, pie plates\, figurines\, clocks\, corn hole set\, tools\, compressor\, chipper shredder. \nStill going through stuff! Be sure to check out the pictures of these great items on our website or Facebook page. NOTE: Firearms will be sold at approx. 1:00-1:30pm.
URL:https://events.excelsiorcitizen.com/event/tremendous-auction-5/
LOCATION:MO
END:VEVENT
BEGIN:VEVENT
DTSTART;TZID=UTC:20251129T230000
DTEND;TZID=UTC:20251130T003000
DTSTAMP:20260420T113917
CREATED:20251124T203108Z
LAST-MODIFIED:20251129T223037Z
UID:10002518-1764457200-1764462600@events.excelsiorcitizen.com
SUMMARY:Fence Stile Igloos- Vineyards under the Stars
DESCRIPTION:Get ready to experience the magic of the vineyards under the stars in cozy igloos at Fence Stile Vineyards!\nhttps://www.facebook.com/events/25522013510736483/
URL:https://events.excelsiorcitizen.com/event/fence-stile-igloos-vineyards-under-the-stars-3/
LOCATION:Fence Stile Vineyards\, Winery & Distillery
ORGANIZER;CN="Fence Stile Vineyards%2C Winery &amp%3B Distillery":MAILTO:noreply@facebookmail.com
END:VEVENT
END:VCALENDAR