BEGIN:VCALENDAR
VERSION:2.0
PRODID:-// - ECPv6.15.20//NONSGML v1.0//EN
CALSCALE:GREGORIAN
METHOD:PUBLISH
X-ORIGINAL-URL:https://events.excelsiorcitizen.com
X-WR-CALDESC:Events for 
REFRESH-INTERVAL;VALUE=DURATION:PT1H
X-Robots-Tag:noindex
X-PUBLISHED-TTL:PT1H
BEGIN:VTIMEZONE
TZID:America/Chicago
BEGIN:DAYLIGHT
TZOFFSETFROM:-0600
TZOFFSETTO:-0500
TZNAME:CDT
DTSTART:20250309T080000
END:DAYLIGHT
BEGIN:STANDARD
TZOFFSETFROM:-0500
TZOFFSETTO:-0600
TZNAME:CST
DTSTART:20251102T070000
END:STANDARD
BEGIN:DAYLIGHT
TZOFFSETFROM:-0600
TZOFFSETTO:-0500
TZNAME:CDT
DTSTART:20260308T080000
END:DAYLIGHT
BEGIN:STANDARD
TZOFFSETFROM:-0500
TZOFFSETTO:-0600
TZNAME:CST
DTSTART:20261101T070000
END:STANDARD
BEGIN:DAYLIGHT
TZOFFSETFROM:-0600
TZOFFSETTO:-0500
TZNAME:CDT
DTSTART:20270314T080000
END:DAYLIGHT
BEGIN:STANDARD
TZOFFSETFROM:-0500
TZOFFSETTO:-0600
TZNAME:CST
DTSTART:20271107T070000
END:STANDARD
END:VTIMEZONE
BEGIN:VTIMEZONE
TZID:UTC
BEGIN:STANDARD
TZOFFSETFROM:+0000
TZOFFSETTO:+0000
TZNAME:UTC
DTSTART:20250101T000000
END:STANDARD
END:VTIMEZONE
BEGIN:VEVENT
DTSTART;TZID=America/Chicago:20260423T090000
DTEND;TZID=America/Chicago:20260423T160000
DTSTAMP:20260423T022011
CREATED:20260419T161737Z
LAST-MODIFIED:20260419T161737Z
UID:10005383-1776934800-1776960000@events.excelsiorcitizen.com
SUMMARY:ES Museum Rummage Sale
DESCRIPTION:WE HAVE TO MOVE!!! After several years of working with the City of Excelsior Springs – we are looking for a new location. The City is currently working with an interested party for the old Excelsior Trust building @ 218 South Street in which we have held our rummage sales. We have been fortunate to have been able to use this building – receive donations from our community and offer savings to so many through our sales. And\, of course maintain and upgrade the museum with your support. \nIf you have any suggestions of possible buildings we might be able to use for our sales or storage please contact Deb Foster at the museum 816-630-0101 or 816-305-9117. Thank you for your continued support of the museum and our community.
URL:https://events.excelsiorcitizen.com/event/es-museum-rummage-sale/2026-04-23/
LOCATION:Old Boatman’s Bank Building\, 218 South St\, Excelsior Springs\, MO\, 64024\, United States
ATTACH;FMTTYPE=image/png:https://events.excelsiorcitizen.com/wp-content/uploads/2026/04/673337076_803197432486532_8466604409228902375_n.png
END:VEVENT
BEGIN:VEVENT
DTSTART;TZID=America/Chicago:20260423T090000
DTEND;TZID=America/Chicago:20260425T130000
DTSTAMP:20260423T022011
CREATED:20260412T161446Z
LAST-MODIFIED:20260412T161446Z
UID:10004695-1776934800-1777122000@events.excelsiorcitizen.com
SUMMARY:LWML Rummage Sale
DESCRIPTION:Spring is here & it’s time for spring cleaning!\nThe LWML Rummage Sale is scheduled for April 23-25 in the Fellowship Hall at Mount Calvary!\n**descriptions of items available still to come**\nPlease price all of your treasures before bringing them for the sale.\nItems can be brought to church Sunday April 19th\, Monday April 20th\, & Tuesday April 21st.\nPLEASE do not bring items any earlier than the week of the sale!\nContact Ruth Hartwig with any questions.
URL:https://events.excelsiorcitizen.com/event/lwml-rummage-sale/
LOCATION:Mount Calvary Lutheran Church\, 1215 Baldwin St\, Excelsior Springs\, MO\, 64024\, United States
ATTACH;FMTTYPE=image/jpeg:https://events.excelsiorcitizen.com/wp-content/uploads/2026/04/LWML-Rummage.jpg
END:VEVENT
BEGIN:VEVENT
DTSTART;TZID=America/Chicago:20260423T100000
DTEND;TZID=America/Chicago:20260423T170000
DTSTAMP:20260423T022011
CREATED:20260419T160510Z
LAST-MODIFIED:20260419T160510Z
UID:10005378-1776938400-1776963600@events.excelsiorcitizen.com
SUMMARY:Thursday Treats & Lemonade
DESCRIPTION:Flavored Lemonade and treats every Thursday now through the summer with your Thompson Avenue Shops. 6 Shops and 7th to join us soon in May.
URL:https://events.excelsiorcitizen.com/event/thursday-treats-lemonade-2/
LOCATION:Abby’s Sweet Peas\, 459 S Thompson Ave\, Excelsior Springs\, MO\, 64024\, United States
ATTACH;FMTTYPE=image/jpeg:https://events.excelsiorcitizen.com/wp-content/uploads/2026/04/672688129_122194012394382642_370376142833374899_n.jpg
END:VEVENT
BEGIN:VEVENT
DTSTART;TZID=UTC:20260423T130000
DTEND;TZID=UTC:20260423T150000
DTSTAMP:20260423T022011
CREATED:20260105T202436Z
LAST-MODIFIED:20260420T040104Z
UID:10002724-1776949200-1776956400@events.excelsiorcitizen.com
SUMMARY:Golf: Boys Varsity & JV vs. Winnetonka (Home)
DESCRIPTION:Type: Dual Opponent: Winnetonka
URL:https://events.excelsiorcitizen.com/event/golf-boys-varsity-vs-winnetonka-home/
LOCATION:Excelsior Springs Golf Course  ES Golf Course
ATTACH;FMTTYPE=image/jpeg:https://events.excelsiorcitizen.com/wp-content/uploads/2024/08/golf-feat-090924.jpg
END:VEVENT
BEGIN:VEVENT
DTSTART;TZID=America/Chicago:20260423T144500
DTEND;TZID=America/Chicago:20260423T161500
DTSTAMP:20260423T022011
CREATED:20260322T192039Z
LAST-MODIFIED:20260322T192039Z
UID:10004636-1776955500-1776960900@events.excelsiorcitizen.com
SUMMARY:ESMS Walking Club
DESCRIPTION:Lace up your sneakers and join us for some campus walks after school. If it’s raining\, we will walk inside the middle school. \nStarts at 2:45pm and ends at 4:15pm. You will need your own transportation on Wednesdays. On Thursdays\, you can ride the activity bus if you sign up for tutoring after. \nContact Ms. Smith with any questions. \nDates: 3/25\, 3/26\, 4/8\, 4/9\, 4/15\, 4/22\, 4/23
URL:https://events.excelsiorcitizen.com/event/esms-walking-club/2026-04-23/
LOCATION:Excelsior Springs Middle School – Commons
ATTACH;FMTTYPE=image/jpeg:https://events.excelsiorcitizen.com/wp-content/uploads/2026/03/654424215_1554772193312877_3983473893440786525_n-1.jpg
END:VEVENT
BEGIN:VEVENT
DTSTART;TZID=UTC:20260423T160000
DTEND;TZID=UTC:20260423T180000
DTSTAMP:20260423T022011
CREATED:20260105T223947Z
LAST-MODIFIED:20260420T041112Z
UID:10002732-1776960000-1776967200@events.excelsiorcitizen.com
SUMMARY:Baseball: Varsity vs. Belton (Home)
DESCRIPTION:Game Opponent: Belton
URL:https://events.excelsiorcitizen.com/event/baseball-varsity-vs-belton-home/
LOCATION:Excelsior Springs High School  Baseball Field #3
ATTACH;FMTTYPE=image/jpeg:https://events.excelsiorcitizen.com/wp-content/uploads/2023/06/tigers-baseball-offense.jpeg
END:VEVENT
BEGIN:VEVENT
DTSTART;TZID=UTC:20260423T160000
DTEND;TZID=UTC:20260423T190000
DTSTAMP:20260423T022011
CREATED:20260105T204103Z
LAST-MODIFIED:20260420T041505Z
UID:10002727-1776960000-1776970800@events.excelsiorcitizen.com
SUMMARY:Tennis: Boys Varsity & JV vs. Kearney (Away)
DESCRIPTION:Match Opponent: Kearney
URL:https://events.excelsiorcitizen.com/event/tennis-boys-varsity-vs-kearney-away/
LOCATION:Kearney High School
ATTACH;FMTTYPE=image/jpeg:https://events.excelsiorcitizen.com/wp-content/uploads/2024/08/tennis-feat-090924.jpg
END:VEVENT
BEGIN:VEVENT
DTSTART;TZID=America/Chicago:20260423T160000
DTEND;TZID=America/Chicago:20260423T190000
DTSTAMP:20260423T022011
CREATED:20260412T161919Z
LAST-MODIFIED:20260412T161938Z
UID:10004697-1776960000-1776970800@events.excelsiorcitizen.com
SUMMARY:Throwback Thursday at Rage Cave
DESCRIPTION: Throwback Thursday \nWe’re throwing it all the way back… and smashing like it’s your favorite era \nWhether you’re vibin’ with 80s jams\, 90s throwbacks\, or early 2000s bangers\, this is your chance to relive the good old days — just with a lot more breaking stuff involved.\nDress the part\, bring your crew\, and come smash\, splatter\, and sing your heart out like nobody’s watching (because honestly… no one cares\, we’re all doing it ).\n Old school vibes. New level stress relief.\n Call or text to book: 816-946-9062
URL:https://events.excelsiorcitizen.com/event/throwback-thursday-at-rage-cave/2026-04-23/
LOCATION:Rage Cave\, 215 Spring St\, Excelsior Springs\, MO\, 64024\, United States
ATTACH;FMTTYPE=image/jpeg:https://events.excelsiorcitizen.com/wp-content/uploads/2026/04/RageCave-Thurs.jpg
END:VEVENT
BEGIN:VEVENT
DTSTART;TZID=UTC:20260423T160000
DTEND;TZID=UTC:20260424T180000
DTSTAMP:20260423T022011
CREATED:20260107T220700Z
LAST-MODIFIED:20260420T040508Z
UID:10002753-1776960000-1777053600@events.excelsiorcitizen.com
SUMMARY:Baseball: Varsity vs. Belton (Home)
DESCRIPTION:Game Opponent: Belton
URL:https://events.excelsiorcitizen.com/event/baseball-varsity-vs-belton-home-2/
LOCATION:Excelsior Springs High School  Baseball Field 3 (turf)
ATTACH;FMTTYPE=image/jpeg:https://events.excelsiorcitizen.com/wp-content/uploads/2025/05/Untitled-design.jpeg
END:VEVENT
BEGIN:VEVENT
DTSTART;TZID=UTC:20260423T170000
DTEND;TZID=UTC:20260423T183000
DTSTAMP:20260423T022011
CREATED:20260105T204102Z
LAST-MODIFIED:20260420T040859Z
UID:10002726-1776963600-1776969000@events.excelsiorcitizen.com
SUMMARY:Soccer: Girls JV vs. Harrisonville (Home)
DESCRIPTION:Game Opponent: Harrisonville
URL:https://events.excelsiorcitizen.com/event/soccer-girls-jv-vs-harrisonville-home/
LOCATION:Excelsior Springs High School  Tiger Stadium
ATTACH;FMTTYPE=image/jpeg:https://events.excelsiorcitizen.com/wp-content/uploads/2024/08/soccer-feat-090924.jpg
END:VEVENT
BEGIN:VEVENT
DTSTART;TZID=America/Chicago:20260423T173000
DTEND;TZID=America/Chicago:20260423T200000
DTSTAMP:20260423T022011
CREATED:20260419T160742Z
LAST-MODIFIED:20260419T160742Z
UID:10005379-1776965400-1776974400@events.excelsiorcitizen.com
SUMMARY:ESMS PTO Movie Night Fundraiser
DESCRIPTION:ESMS PTO MOVIE NIGHT\n Whether your hero is The Great Bambino or you just want to hangout in the field with your friends\, come join us for our Movie Night for a 90’s classic on April 23!\nPre-order your tickets now thru 4/17/26 via our link!\nhttps://www.zeffy.com/en-US/ticketing/movie-night-106\n\n Tickets and concessions will be available the night of our event. Pre-ordering helps us with head count for food.Doors open at 5:30 and the movie will start at 6:00
URL:https://events.excelsiorcitizen.com/event/esms-pto-movie-night-fundraiser/
LOCATION:Excelsior Springs Middle School – Commons
ATTACH;FMTTYPE=image/jpeg:https://events.excelsiorcitizen.com/wp-content/uploads/2026/04/672672310_10238272486408986_1107906743951314066_n.jpg
END:VEVENT
BEGIN:VEVENT
DTSTART;TZID=America/Chicago:20260423T180000
DTEND;TZID=America/Chicago:20260423T200000
DTSTAMP:20260423T022011
CREATED:20260304T031337Z
LAST-MODIFIED:20260304T031337Z
UID:10004578-1776967200-1776974400@events.excelsiorcitizen.com
SUMMARY:Volunteer Appreciation Dinner
DESCRIPTION:The City of Excelsior Springs invites volunteers to celebrate all of the hard work that they have done for the community. \nInvite only for volunteers of the City
URL:https://events.excelsiorcitizen.com/event/volunteer-appreciation-dinner-2/
LOCATION:Hall Of Waters
ATTACH;FMTTYPE=image/png:https://events.excelsiorcitizen.com/wp-content/uploads/2026/03/Screenshot-2026-03-03-at-9.12.17-PM.png
END:VEVENT
BEGIN:VEVENT
DTSTART;TZID=America/Chicago:20260423T183000
DTEND;TZID=America/Chicago:20260423T200000
DTSTAMP:20260423T022011
CREATED:20260412T160920Z
LAST-MODIFIED:20260412T160920Z
UID:10004692-1776969000-1776974400@events.excelsiorcitizen.com
SUMMARY:Excelsior Springs Area Beekeeping Club - April Meeting
DESCRIPTION:Join us for our April club meeting! We will cover a variety of topics\, including adding honey supers\, producing comb honey and much more.
URL:https://events.excelsiorcitizen.com/event/excelsior-springs-area-beekeeping-club-april-meeting-2/
LOCATION:Mid-Continent Public Library – Excelsior Springs Branch
ATTACH;FMTTYPE=image/jpeg:https://events.excelsiorcitizen.com/wp-content/uploads/2026/04/Bees.jpg
END:VEVENT
BEGIN:VEVENT
DTSTART;TZID=UTC:20260423T183000
DTEND;TZID=UTC:20260424T200000
DTSTAMP:20260423T022011
CREATED:20260105T202436Z
LAST-MODIFIED:20260420T040707Z
UID:10002725-1776969000-1777060800@events.excelsiorcitizen.com
SUMMARY:Soccer: Girls Varsity vs. Harrisonville (Home)
DESCRIPTION:Game Opponent: Harrisonville
URL:https://events.excelsiorcitizen.com/event/soccer-girls-varsity-vs-harrisonville-home/
LOCATION:Excelsior Springs High School  Tiger Stadium
ATTACH;FMTTYPE=image/jpeg:https://events.excelsiorcitizen.com/wp-content/uploads/2024/08/soccer-feat-090924.jpg
END:VEVENT
END:VCALENDAR