BEGIN:VCALENDAR
VERSION:2.0
PRODID:-// - ECPv6.15.20//NONSGML v1.0//EN
CALSCALE:GREGORIAN
METHOD:PUBLISH
X-ORIGINAL-URL:https://events.excelsiorcitizen.com
X-WR-CALDESC:Events for 
REFRESH-INTERVAL;VALUE=DURATION:PT1H
X-Robots-Tag:noindex
X-PUBLISHED-TTL:PT1H
BEGIN:VTIMEZONE
TZID:UTC
BEGIN:STANDARD
TZOFFSETFROM:+0000
TZOFFSETTO:+0000
TZNAME:UTC
DTSTART:20250101T000000
END:STANDARD
END:VTIMEZONE
BEGIN:VTIMEZONE
TZID:America/Chicago
BEGIN:DAYLIGHT
TZOFFSETFROM:-0600
TZOFFSETTO:-0500
TZNAME:CDT
DTSTART:20250309T080000
END:DAYLIGHT
BEGIN:STANDARD
TZOFFSETFROM:-0500
TZOFFSETTO:-0600
TZNAME:CST
DTSTART:20251102T070000
END:STANDARD
BEGIN:DAYLIGHT
TZOFFSETFROM:-0600
TZOFFSETTO:-0500
TZNAME:CDT
DTSTART:20260308T080000
END:DAYLIGHT
BEGIN:STANDARD
TZOFFSETFROM:-0500
TZOFFSETTO:-0600
TZNAME:CST
DTSTART:20261101T070000
END:STANDARD
BEGIN:DAYLIGHT
TZOFFSETFROM:-0600
TZOFFSETTO:-0500
TZNAME:CDT
DTSTART:20270314T080000
END:DAYLIGHT
BEGIN:STANDARD
TZOFFSETFROM:-0500
TZOFFSETTO:-0600
TZNAME:CST
DTSTART:20271107T070000
END:STANDARD
END:VTIMEZONE
BEGIN:VEVENT
DTSTART;TZID=UTC:20260421T160000
DTEND;TZID=UTC:20260422T180000
DTSTAMP:20260422T025322
CREATED:20260103T022553Z
LAST-MODIFIED:20260420T044324Z
UID:10002700-1776787200-1776880800@events.excelsiorcitizen.com
SUMMARY:Lewis Elementary Concert 1st Grade
DESCRIPTION:Lewis Elementary Concert 1st Grade
URL:https://events.excelsiorcitizen.com/event/elementary-special-events-home-23/
LOCATION:Excelsior Springs High School – Performing Arts Center
ATTACH;FMTTYPE=image/jpeg:https://events.excelsiorcitizen.com/wp-content/uploads/2026/03/Lewis.jpg
END:VEVENT
BEGIN:VEVENT
DTSTART;TZID=UTC:20260422T083000
DTEND;TZID=UTC:20260422T120000
DTSTAMP:20260422T025322
CREATED:20260108T165045Z
LAST-MODIFIED:20260420T045301Z
UID:10002759-1776846600-1776859200@events.excelsiorcitizen.com
SUMMARY:Golf: Boys Varsity vs. Lafayette County C-1 (Away)
DESCRIPTION:Tournament Opponent: Lafayette County C-1
URL:https://events.excelsiorcitizen.com/event/golf-boys-varsity-vs-lafayette-county-c-1-away/
LOCATION:Lafayette County C-1 High School
ATTACH;FMTTYPE=image/jpeg:https://events.excelsiorcitizen.com/wp-content/uploads/2024/08/golf-feat-090924.jpg
END:VEVENT
BEGIN:VEVENT
DTSTART;TZID=America/Chicago:20260422T110000
DTEND;TZID=America/Chicago:20260422T150000
DTSTAMP:20260422T025322
CREATED:20260412T181521Z
LAST-MODIFIED:20260412T181521Z
UID:10004983-1776855600-1776870000@events.excelsiorcitizen.com
SUMMARY:Home School Swim
DESCRIPTION:Bring your home school students ages 18 and under to enjoy the indoor pool and all that is has to offer! FREE for ESCC Members and just $5 for Non-Members (parent/guardian gets in free and must be present). Every Wednesday from 11:00 AM- 3:00 PM.
URL:https://events.excelsiorcitizen.com/event/home-school-swim-2/2026-04-22/
LOCATION:Excelsior Springs Community Center\, 500 Tiger Dr\, Excelsior Springs\, MO\, United States
ATTACH;FMTTYPE=image/jpeg:https://events.excelsiorcitizen.com/wp-content/uploads/2026/04/home-school-swim-1.jpg
GEO:39.349002;-94.244358
X-APPLE-STRUCTURED-LOCATION;VALUE=URI;X-ADDRESS=Excelsior Springs Community Center 500 Tiger Dr Excelsior Springs MO United States;X-APPLE-RADIUS=500;X-TITLE=500 Tiger Dr:geo:-94.244358,39.349002
END:VEVENT
BEGIN:VEVENT
DTSTART;TZID=America/Chicago:20260422T144500
DTEND;TZID=America/Chicago:20260422T161500
DTSTAMP:20260422T025322
CREATED:20260322T192039Z
LAST-MODIFIED:20260322T192039Z
UID:10004635-1776869100-1776874500@events.excelsiorcitizen.com
SUMMARY:ESMS Walking Club
DESCRIPTION:Lace up your sneakers and join us for some campus walks after school. If it’s raining\, we will walk inside the middle school. \nStarts at 2:45pm and ends at 4:15pm. You will need your own transportation on Wednesdays. On Thursdays\, you can ride the activity bus if you sign up for tutoring after. \nContact Ms. Smith with any questions. \nDates: 3/25\, 3/26\, 4/8\, 4/9\, 4/15\, 4/22\, 4/23
URL:https://events.excelsiorcitizen.com/event/esms-walking-club/2026-04-22/
LOCATION:Excelsior Springs Middle School – Commons
ATTACH;FMTTYPE=image/jpeg:https://events.excelsiorcitizen.com/wp-content/uploads/2026/03/654424215_1554772193312877_3983473893440786525_n-1.jpg
END:VEVENT
BEGIN:VEVENT
DTSTART;TZID=UTC:20260422T160000
DTEND;TZID=UTC:20260422T180000
DTSTAMP:20260422T025322
CREATED:20260103T022555Z
LAST-MODIFIED:20260420T044549Z
UID:10002705-1776873600-1776880800@events.excelsiorcitizen.com
SUMMARY:Baseball: Varsity vs. Oak Park (Away)
DESCRIPTION:Game Opponent: Oak Park
URL:https://events.excelsiorcitizen.com/event/baseball-varsity-vs-oak-park-away/
LOCATION:Oak Park High School
ATTACH;FMTTYPE=image/jpeg:https://events.excelsiorcitizen.com/wp-content/uploads/2025/05/Untitled-design.jpeg
END:VEVENT
BEGIN:VEVENT
DTSTART;TZID=America/Chicago:20260422T160000
DTEND;TZID=America/Chicago:20260422T200000
DTSTAMP:20260422T025322
CREATED:20260406T012950Z
LAST-MODIFIED:20260406T012950Z
UID:10004667-1776873600-1776888000@events.excelsiorcitizen.com
SUMMARY:ESHS After Prom Fundraiser Night
DESCRIPTION:Come eat dinner at El Maguey between 4pm and 8pm on Wednesday\, April 22 and a portion all sales will be donated to After Prom!
URL:https://events.excelsiorcitizen.com/event/eshs-after-prom-fundraiser-night/
LOCATION:El Maguey Excelsior Springs\, 2359 Vintage Drive\, Excelsior Springs\, MO\, 64024\, United States
ATTACH;FMTTYPE=image/jpeg:https://events.excelsiorcitizen.com/wp-content/uploads/2026/04/657355332_122182102796789385_5277855170524514099_n.jpg
END:VEVENT
BEGIN:VEVENT
DTSTART;TZID=UTC:20260422T163000
DTEND;TZID=UTC:20260422T193000
DTSTAMP:20260422T025322
CREATED:20260108T234029Z
LAST-MODIFIED:20260420T045015Z
UID:10002767-1776875400-1776886200@events.excelsiorcitizen.com
SUMMARY:Baseball: JV vs. Maryville (Home)
DESCRIPTION:Game Opponent: Maryville
URL:https://events.excelsiorcitizen.com/event/baseball-jv-vs-maryville-home/
LOCATION:Excelsior Springs High School  Baseball Field 2 (grass)
ATTACH;FMTTYPE=image/jpeg:https://events.excelsiorcitizen.com/wp-content/uploads/2023/06/tigers-baseball-huddle.jpeg
END:VEVENT
BEGIN:VEVENT
DTSTART;TZID=UTC:20260422T180000
DTEND;TZID=UTC:20260422T190000
DTSTAMP:20260422T025322
CREATED:20260103T031422Z
LAST-MODIFIED:20260420T035431Z
UID:10002710-1776880800-1776884400@events.excelsiorcitizen.com
SUMMARY:Lewis Elementary Concert Kindergarten
DESCRIPTION:Lewis Elementary Concert Kindergarten
URL:https://events.excelsiorcitizen.com/event/elementary-special-events-home-24/
LOCATION:Excelsior Springs High School – Performing Arts Center
ATTACH;FMTTYPE=image/jpeg:https://events.excelsiorcitizen.com/wp-content/uploads/2026/03/Lewis.jpg
END:VEVENT
BEGIN:VEVENT
DTSTART;TZID=America/Chicago:20260422T180000
DTEND;TZID=America/Chicago:20260422T190000
DTSTAMP:20260422T025322
CREATED:20260412T181928Z
LAST-MODIFIED:20260412T181928Z
UID:10005244-1776880800-1776884400@events.excelsiorcitizen.com
SUMMARY:Stargazing Series
DESCRIPTION:Ever wish you actually knew what you were looking at in the night sky?\n\nOur Stargazing Series is a 6-week\, beginner-friendly experience that makes astronomy approachable\, hands-on\, and fun. You’ll learn how to spot stars and constellations\, explore planets\, and finish the series with a guided stargazing night at a local park.\n\n Starts March 18\n Wednesdays at 6 PM\n $55 for all 6 weeks or $10 per drop-in class\n\nThis is a unique\, immersive experience you don’t get every day. Registration is required\, and spots are limited\, so grab yours now!
URL:https://events.excelsiorcitizen.com/event/stargazing-series/2026-04-22/
LOCATION:Excelsior Springs Community Center\, 500 Tiger Dr\, Excelsior Springs\, MO\, United States
ATTACH;FMTTYPE=image/jpeg:https://events.excelsiorcitizen.com/wp-content/uploads/2026/04/constellations-1.jpg
GEO:39.349002;-94.244358
X-APPLE-STRUCTURED-LOCATION;VALUE=URI;X-ADDRESS=Excelsior Springs Community Center 500 Tiger Dr Excelsior Springs MO United States;X-APPLE-RADIUS=500;X-TITLE=500 Tiger Dr:geo:-94.244358,39.349002
END:VEVENT
BEGIN:VEVENT
DTSTART;TZID=America/Chicago:20260422T180000
DTEND;TZID=America/Chicago:20260422T193000
DTSTAMP:20260422T025322
CREATED:20260407T045704Z
LAST-MODIFIED:20260407T045704Z
UID:10004682-1776880800-1776886200@events.excelsiorcitizen.com
SUMMARY:C.E.A.S.E. - Citizen Education Against Scams and Exploitation
DESCRIPTION:You’re invited by the Excelsior Springs Police Department to a special presentation by Clay County Prosecutor Zach Thompson. Learn the latest tips to stay safe from scams and financial exploitation. \nQuestions or to schedule a presentation:\nCall 816-736-8314 or email communications@claycopa.com
URL:https://events.excelsiorcitizen.com/event/c-e-a-s-e-citizen-education-against-scams-and-exploitation/
LOCATION:Excelsior Springs Community Center\, 500 Tiger Dr\, Excelsior Springs\, MO\, United States
ATTACH;FMTTYPE=image/png:https://events.excelsiorcitizen.com/wp-content/uploads/2026/04/Screenshot-2026-04-06-at-10.52.34-PM.png
GEO:39.349002;-94.244358
X-APPLE-STRUCTURED-LOCATION;VALUE=URI;X-ADDRESS=Excelsior Springs Community Center 500 Tiger Dr Excelsior Springs MO United States;X-APPLE-RADIUS=500;X-TITLE=500 Tiger Dr:geo:-94.244358,39.349002
END:VEVENT
BEGIN:VEVENT
DTSTART;TZID=UTC:20260422T183000
DTEND;TZID=UTC:20260422T203000
DTSTAMP:20260422T025322
CREATED:20260108T234045Z
LAST-MODIFIED:20260420T044728Z
UID:10002768-1776882600-1776889800@events.excelsiorcitizen.com
SUMMARY:Baseball: C Gold  vs. Maryville (Home)
DESCRIPTION:Type: Game Opponent: Maryville
URL:https://events.excelsiorcitizen.com/event/baseball-c-gold-vs-maryville-home/
LOCATION:Excelsior Springs High School  Baseball Field 3 (turf)
ATTACH;FMTTYPE=image/jpeg:https://events.excelsiorcitizen.com/wp-content/uploads/2024/03/harlan-baseball-jam-3-030924.jpg
END:VEVENT
END:VCALENDAR