BEGIN:VCALENDAR
VERSION:2.0
PRODID:-// - ECPv6.15.20//NONSGML v1.0//EN
CALSCALE:GREGORIAN
METHOD:PUBLISH
X-ORIGINAL-URL:https://events.excelsiorcitizen.com
X-WR-CALDESC:Events for 
REFRESH-INTERVAL;VALUE=DURATION:PT1H
X-Robots-Tag:noindex
X-PUBLISHED-TTL:PT1H
BEGIN:VTIMEZONE
TZID:America/Chicago
BEGIN:DAYLIGHT
TZOFFSETFROM:-0600
TZOFFSETTO:-0500
TZNAME:CDT
DTSTART:20250309T080000
END:DAYLIGHT
BEGIN:STANDARD
TZOFFSETFROM:-0500
TZOFFSETTO:-0600
TZNAME:CST
DTSTART:20251102T070000
END:STANDARD
BEGIN:DAYLIGHT
TZOFFSETFROM:-0600
TZOFFSETTO:-0500
TZNAME:CDT
DTSTART:20260308T080000
END:DAYLIGHT
BEGIN:STANDARD
TZOFFSETFROM:-0500
TZOFFSETTO:-0600
TZNAME:CST
DTSTART:20261101T070000
END:STANDARD
BEGIN:DAYLIGHT
TZOFFSETFROM:-0600
TZOFFSETTO:-0500
TZNAME:CDT
DTSTART:20270314T080000
END:DAYLIGHT
BEGIN:STANDARD
TZOFFSETFROM:-0500
TZOFFSETTO:-0600
TZNAME:CST
DTSTART:20271107T070000
END:STANDARD
END:VTIMEZONE
BEGIN:VTIMEZONE
TZID:UTC
BEGIN:STANDARD
TZOFFSETFROM:+0000
TZOFFSETTO:+0000
TZNAME:UTC
DTSTART:20250101T000000
END:STANDARD
END:VTIMEZONE
BEGIN:VEVENT
DTSTART;TZID=America/Chicago:20260421T110000
DTEND;TZID=America/Chicago:20260421T120000
DTSTAMP:20260421T015158
CREATED:20260412T182422Z
LAST-MODIFIED:20260412T182422Z
UID:10005245-1776769200-1776772800@events.excelsiorcitizen.com
SUMMARY:Veteran's Lunch Meetup
DESCRIPTION:Veterans are invited to gather during our monthly senior lunch on the 3rd Tuesday of each month from 11 AM– 12 PM\, with a table reserved just for them to enjoy good food\, conversation\, and connection. \nReservations are required in advance\, and participation is open to Veterans ages 60 and better.
URL:https://events.excelsiorcitizen.com/event/veterans-lunch-meetup-26/
LOCATION:Excelsior Springs Community Center\, 500 Tiger Dr\, Excelsior Springs\, MO\, United States
ATTACH;FMTTYPE=image/jpeg:https://events.excelsiorcitizen.com/wp-content/uploads/2026/04/veterans-lunch-1.jpeg
GEO:39.349002;-94.244358
X-APPLE-STRUCTURED-LOCATION;VALUE=URI;X-ADDRESS=Excelsior Springs Community Center 500 Tiger Dr Excelsior Springs MO United States;X-APPLE-RADIUS=500;X-TITLE=500 Tiger Dr:geo:-94.244358,39.349002
END:VEVENT
BEGIN:VEVENT
DTSTART;TZID=UTC:20260421T153000
DTEND;TZID=UTC:20260421T173000
DTSTAMP:20260421T015158
CREATED:20260103T022554Z
LAST-MODIFIED:20260420T033713Z
UID:10002702-1776785400-1776792600@events.excelsiorcitizen.com
SUMMARY:Golf: Boys Varsity & JV Dual vs. Kearney (Home)
DESCRIPTION:Type: Dual Opponent: Kearney
URL:https://events.excelsiorcitizen.com/event/golf-boys-varsity-vs-kearney-home/
LOCATION:Excelsior Springs Golf Course  ES Golf Course
ATTACH;FMTTYPE=image/jpeg:https://events.excelsiorcitizen.com/wp-content/uploads/2024/08/golf-feat-090924.jpg
END:VEVENT
BEGIN:VEVENT
DTSTART;TZID=UTC:20260421T160000
DTEND;TZID=UTC:20260421T190000
DTSTAMP:20260421T015158
CREATED:20260103T022554Z
LAST-MODIFIED:20260420T034130Z
UID:10002703-1776787200-1776798000@events.excelsiorcitizen.com
SUMMARY:Track: ESMS vs. Multiple Schools (Home)
DESCRIPTION:Type: Quad Opponent: Excelsior Springs Middle School vs. Osage Trail Middle\, Platte City Middle\, Platte Purchase Middle School
URL:https://events.excelsiorcitizen.com/event/track-ms-ms-vs-excelsior-springs-middle-school-vs-osage-trail-middleplatte-city-middleplatte-purchase-middle-schoolmultiple-schools-home/
LOCATION:Excelsior Springs High School  Tiger Stadium
ATTACH;FMTTYPE=image/png:https://events.excelsiorcitizen.com/wp-content/uploads/2026/02/essd-logo-1.png
END:VEVENT
BEGIN:VEVENT
DTSTART;TZID=America/Chicago:20260421T160000
DTEND;TZID=America/Chicago:20260421T200000
DTSTAMP:20260421T015158
CREATED:20260412T162433Z
LAST-MODIFIED:20260412T162503Z
UID:10004710-1776787200-1776801600@events.excelsiorcitizen.com
SUMMARY:Tuesday is for the  Kids
DESCRIPTION: Kids Night Tuesday \nTuesdays are for the kids… and letting them go a little wild \nGot energy to burn? Attitudes to adjust? Or just need to get them out of your house for a minute? We got you.\nLet them smash\, splatter\, and make the kind of mess you don’t have to clean up. It’s loud\, it’s messy\, and it’s their new favorite way to blow off steam.\nBring the siblings\, bring their friends — the more chaos\, the better.\n Because bored kids = your problem…Happy\, tired kids = our specialty.\n Call or text to book: 816-946-9062
URL:https://events.excelsiorcitizen.com/event/tuesday-is-for-the-kids/2026-04-21/
LOCATION:Rage Cave\, 215 Spring St\, Excelsior Springs\, MO\, 64024\, United States
ATTACH;FMTTYPE=image/jpeg:https://events.excelsiorcitizen.com/wp-content/uploads/2026/04/RageCave-Tues.jpg
END:VEVENT
BEGIN:VEVENT
DTSTART;TZID=UTC:20260421T160000
DTEND;TZID=UTC:20260422T180000
DTSTAMP:20260421T015158
CREATED:20260103T022553Z
LAST-MODIFIED:20260420T044324Z
UID:10002700-1776787200-1776880800@events.excelsiorcitizen.com
SUMMARY:Lewis Elementary Concert 1st Grade
DESCRIPTION:Lewis Elementary Concert 1st Grade
URL:https://events.excelsiorcitizen.com/event/elementary-special-events-home-23/
LOCATION:Excelsior Springs High School – Performing Arts Center
ATTACH;FMTTYPE=image/jpeg:https://events.excelsiorcitizen.com/wp-content/uploads/2026/03/Lewis.jpg
END:VEVENT
BEGIN:VEVENT
DTSTART;TZID=America/Chicago:20260421T183000
DTEND;TZID=America/Chicago:20260421T193000
DTSTAMP:20260421T015158
CREATED:20260217T002652Z
LAST-MODIFIED:20260217T002652Z
UID:10004117-1776796200-1776799800@events.excelsiorcitizen.com
SUMMARY:Financial Peace University
DESCRIPTION:Take a step toward financial confidence and peace of mind.Oasis Outreach Ministries is hosting Financial Peace University\, a practical\, step-by-step course to help you take control of your money and plan for your future.Tuesday eveningsMarch 3 – April 286:30 p.m.Oasis Outreach Ministries\, 108 W. Broadway\, Excelsior SpringsSeating is limited\, so register early at OasisOutreachMO.org and start winning with money.
URL:https://events.excelsiorcitizen.com/event/financial-peace-university/2026-04-21/
LOCATION:Oasis Outreach Ministry\, 108 W Broadway Ave\, Excelsior Springs\, MO\, 64024\, United States
ATTACH;FMTTYPE=image/jpeg:https://events.excelsiorcitizen.com/wp-content/uploads/2026/02/629847948_1407153758120799_4226016857652137779_n-1.jpg
END:VEVENT
BEGIN:VEVENT
DTSTART;TZID=America/Chicago:20260421T190000
DTEND;TZID=America/Chicago:20260421T200000
DTSTAMP:20260421T015158
CREATED:20260217T023150Z
LAST-MODIFIED:20260217T023150Z
UID:10004183-1776798000-1776801600@events.excelsiorcitizen.com
SUMMARY:New Freedom Recovery Program
DESCRIPTION:Join New Freedom Recovery Program on Tuesdays at 7:00pm at Crescent Lake Christian Center\, 1250 St Louis Ave\, Excelsior Springs\, as we journey through “Hope”. Rather than seeking hope within ourself\, find peace in trusting God\, who loves and accepts us unconditionally\, despite our imperfections. Lead me; instruct me; for You are the God who grants me salvation. My hope is solely in You. Psalm 25:5 \nAddictions\, Alcoholism\, Hang-ups\, Depression\, Substance Abuse \nFor more information\, call Steve Waymen 816-377-7226 \n 
URL:https://events.excelsiorcitizen.com/event/new-freedom-recovery-program-3/2026-04-21/
LOCATION:Crescent Lake Christian Center\, 1250 St Louis Ave\, Excelsior Springs\, MO\, 64024\, United States
ATTACH;FMTTYPE=image/jpeg:https://events.excelsiorcitizen.com/wp-content/uploads/2026/02/631611260_10236263434379618_5041821824909759256_n-1.jpg
END:VEVENT
END:VCALENDAR