BEGIN:VCALENDAR
VERSION:2.0
PRODID:-// - ECPv6.15.20//NONSGML v1.0//EN
CALSCALE:GREGORIAN
METHOD:PUBLISH
X-ORIGINAL-URL:https://events.excelsiorcitizen.com
X-WR-CALDESC:Events for 
REFRESH-INTERVAL;VALUE=DURATION:PT1H
X-Robots-Tag:noindex
X-PUBLISHED-TTL:PT1H
BEGIN:VTIMEZONE
TZID:America/Chicago
BEGIN:DAYLIGHT
TZOFFSETFROM:-0600
TZOFFSETTO:-0500
TZNAME:CDT
DTSTART:20250309T080000
END:DAYLIGHT
BEGIN:STANDARD
TZOFFSETFROM:-0500
TZOFFSETTO:-0600
TZNAME:CST
DTSTART:20251102T070000
END:STANDARD
BEGIN:DAYLIGHT
TZOFFSETFROM:-0600
TZOFFSETTO:-0500
TZNAME:CDT
DTSTART:20260308T080000
END:DAYLIGHT
BEGIN:STANDARD
TZOFFSETFROM:-0500
TZOFFSETTO:-0600
TZNAME:CST
DTSTART:20261101T070000
END:STANDARD
BEGIN:DAYLIGHT
TZOFFSETFROM:-0600
TZOFFSETTO:-0500
TZNAME:CDT
DTSTART:20270314T080000
END:DAYLIGHT
BEGIN:STANDARD
TZOFFSETFROM:-0500
TZOFFSETTO:-0600
TZNAME:CST
DTSTART:20271107T070000
END:STANDARD
END:VTIMEZONE
BEGIN:VTIMEZONE
TZID:UTC
BEGIN:STANDARD
TZOFFSETFROM:+0000
TZOFFSETTO:+0000
TZNAME:UTC
DTSTART:20250101T000000
END:STANDARD
END:VTIMEZONE
BEGIN:VEVENT
DTSTART;TZID=America/Chicago:20260420T110000
DTEND;TZID=America/Chicago:20260420T150000
DTSTAMP:20260420T135448
CREATED:20260412T180559Z
LAST-MODIFIED:20260412T180726Z
UID:10004722-1776682800-1776697200@events.excelsiorcitizen.com
SUMMARY:Toddler Swim
DESCRIPTION:Bring your little ones to enjoy the indoor pool with pool toys and fun aquatic features! FREE for ESCC Members and just $5 for Non-Members (parents/guardians get in free and must be present). Every Monday from 11:00 AM – 3:00 PM​\, Ages 2- 5 Years
URL:https://events.excelsiorcitizen.com/event/toddler-swim-2/2026-04-20/
LOCATION:Excelsior Springs Community Center\, 500 Tiger Dr\, Excelsior Springs\, MO\, United States
ATTACH;FMTTYPE=image/png:https://events.excelsiorcitizen.com/wp-content/uploads/2026/04/toddlerswim-1.png
GEO:39.349002;-94.244358
X-APPLE-STRUCTURED-LOCATION;VALUE=URI;X-ADDRESS=Excelsior Springs Community Center 500 Tiger Dr Excelsior Springs MO United States;X-APPLE-RADIUS=500;X-TITLE=500 Tiger Dr:geo:-94.244358,39.349002
END:VEVENT
BEGIN:VEVENT
DTSTART;TZID=UTC:20260420T160000
DTEND;TZID=UTC:20260420T170000
DTSTAMP:20260420T135448
CREATED:20260107T233433Z
LAST-MODIFIED:20260420T032627Z
UID:10002755-1776700800-1776704400@events.excelsiorcitizen.com
SUMMARY:Baseball: Varsity vs. Warrensburg (Home)
DESCRIPTION:Type: Game Opponent: Warrensburg
URL:https://events.excelsiorcitizen.com/event/baseball-varsity-vs-warrensburg-home/
LOCATION:Excelsior Springs High School  Baseball Field 3 (turf)
ATTACH;FMTTYPE=image/jpeg:https://events.excelsiorcitizen.com/wp-content/uploads/2023/06/tigers-baseball-offense.jpeg
END:VEVENT
BEGIN:VEVENT
DTSTART;TZID=UTC:20260420T160000
DTEND;TZID=UTC:20260420T180000
DTSTAMP:20260420T135448
CREATED:20260103T022533Z
LAST-MODIFIED:20260420T045538Z
UID:10002696-1776700800-1776708000@events.excelsiorcitizen.com
SUMMARY:Baseball: JV  vs. Oak Park (Home)
DESCRIPTION:Game Opponent: Oak Park
URL:https://events.excelsiorcitizen.com/event/baseball-jv-vs-oak-park-home/
LOCATION:Excelsior Springs High School  Baseball Field #2
ATTACH;FMTTYPE=image/jpeg:https://events.excelsiorcitizen.com/wp-content/uploads/2024/03/harlan-baseball-jam-030924.jpg
END:VEVENT
BEGIN:VEVENT
DTSTART;TZID=UTC:20260420T170000
DTEND;TZID=UTC:20260420T190000
DTSTAMP:20260420T135448
CREATED:20260103T022553Z
LAST-MODIFIED:20260420T032328Z
UID:10002699-1776704400-1776711600@events.excelsiorcitizen.com
SUMMARY:Soccer: Girls Varsity and JV vs. Savannah (Away)
DESCRIPTION:Type: Game Opponent: Savannah
URL:https://events.excelsiorcitizen.com/event/soccer-girls-varsity-vs-savannah-away/
LOCATION:Savannah High School
ATTACH;FMTTYPE=image/jpeg:https://events.excelsiorcitizen.com/wp-content/uploads/2024/08/soccer-feat-090924.jpg
END:VEVENT
END:VCALENDAR