BEGIN:VCALENDAR
VERSION:2.0
PRODID:-// - ECPv6.15.20//NONSGML v1.0//EN
CALSCALE:GREGORIAN
METHOD:PUBLISH
X-ORIGINAL-URL:https://events.excelsiorcitizen.com
X-WR-CALDESC:Events for 
REFRESH-INTERVAL;VALUE=DURATION:PT1H
X-Robots-Tag:noindex
X-PUBLISHED-TTL:PT1H
BEGIN:VTIMEZONE
TZID:UTC
BEGIN:STANDARD
TZOFFSETFROM:+0000
TZOFFSETTO:+0000
TZNAME:UTC
DTSTART:20250101T000000
END:STANDARD
END:VTIMEZONE
BEGIN:VTIMEZONE
TZID:America/Chicago
BEGIN:DAYLIGHT
TZOFFSETFROM:-0600
TZOFFSETTO:-0500
TZNAME:CDT
DTSTART:20250309T080000
END:DAYLIGHT
BEGIN:STANDARD
TZOFFSETFROM:-0500
TZOFFSETTO:-0600
TZNAME:CST
DTSTART:20251102T070000
END:STANDARD
BEGIN:DAYLIGHT
TZOFFSETFROM:-0600
TZOFFSETTO:-0500
TZNAME:CDT
DTSTART:20260308T080000
END:DAYLIGHT
BEGIN:STANDARD
TZOFFSETFROM:-0500
TZOFFSETTO:-0600
TZNAME:CST
DTSTART:20261101T070000
END:STANDARD
BEGIN:DAYLIGHT
TZOFFSETFROM:-0600
TZOFFSETTO:-0500
TZNAME:CDT
DTSTART:20270314T080000
END:DAYLIGHT
BEGIN:STANDARD
TZOFFSETFROM:-0500
TZOFFSETTO:-0600
TZNAME:CST
DTSTART:20271107T070000
END:STANDARD
END:VTIMEZONE
BEGIN:VEVENT
DTSTART;TZID=UTC:20260323T160000
DTEND;TZID=UTC:20260324T180000
DTSTAMP:20260423T105943
CREATED:20251204T232604Z
LAST-MODIFIED:20260323T031712Z
UID:10002583-1774281600-1774375200@events.excelsiorcitizen.com
SUMMARY:Baseball: Varsity  vs. Savannah\, Winnetonka & Multiple Schools (Home)
DESCRIPTION:Type: Tournament Opponent: Savannah\, Winnetonka and Multiple Schools
URL:https://events.excelsiorcitizen.com/event/baseball-varsity-vs-savannahwinnetonkamultiple-schools-home/
LOCATION:Excelsior Springs High School  Baseball Field 3 (turf)
ATTACH;FMTTYPE=image/jpeg:https://events.excelsiorcitizen.com/wp-content/uploads/2026/03/ESHS-Activities.jpg
END:VEVENT
BEGIN:VEVENT
DTSTART;TZID=UTC:20260323T160000
DTEND;TZID=UTC:20260324T180000
DTSTAMP:20260423T105943
CREATED:20260114T041809Z
LAST-MODIFIED:20260323T031517Z
UID:10003816-1774281600-1774375200@events.excelsiorcitizen.com
SUMMARY:Track: Excelsior Springs Middle School vs.  Discovery Middle (Away)
DESCRIPTION:Type: Triangular Opponent: Excelsior Springs Middle School vs. Discovery Middle
URL:https://events.excelsiorcitizen.com/event/track-ms-ms-vs-excelsior-springs-middle-school-vs-discovery-middle-away/
LOCATION:Discovery Middle School
ATTACH;FMTTYPE=image/jpeg:https://events.excelsiorcitizen.com/wp-content/uploads/2026/03/ESHS-Activities.jpg
END:VEVENT
BEGIN:VEVENT
DTSTART;TZID=America/Chicago:20260324T120000
DTEND;TZID=America/Chicago:20260324T130000
DTSTAMP:20260423T105943
CREATED:20260223T060642Z
LAST-MODIFIED:20260223T060642Z
UID:10004548-1774353600-1774357200@events.excelsiorcitizen.com
SUMMARY:Lunch with Leaders: March 2026
DESCRIPTION:Lunch with Leaders brings people together over lunch for thoughtful conversations about leadership and work. Each session centers on a short reading or podcast and is designed to be informal\, inclusive\, and discussion-driven. Attendees purchase their own lunch and participate as much or as little as they like.\n\nIn March\, Lunch with Leaders will discuss the idea of luck as something we can cultivate\, not just wait for. This month’s article proposes a process that helps leaders and teams actively position themselves to act when possibilities arise. It’s a practical way of thinking about creativity\, resilience\, and decision-making — not as random forces\, but as habits we can strengthen.\n\nDuring lunch\, we’ll explore what it means to prepare for luck. Bring your insights\, experiences\, and questions as we examine both the strategy and the reality of creating good fortune in work and leadership.\n\nRead the article here: https://bit.ly/4tOWyKO\n\nThere is no charge to attend; however\, to help us plan seating accordingly\, RSVPs are appreciated via this event page or online at https://bit.ly/4tOvE5K. Attendees order and purchase their own lunch.
URL:https://events.excelsiorcitizen.com/event/lunch-with-leaders-march-2026/
LOCATION:Warbird Whiskey
ATTACH;FMTTYPE=image/jpeg:https://events.excelsiorcitizen.com/wp-content/uploads/2026/02/637196663_1385119233416034_3060950004267376786_n-1.jpg
END:VEVENT
BEGIN:VEVENT
DTSTART;TZID=UTC:20260324T160000
DTEND;TZID=UTC:20260324T180000
DTSTAMP:20260423T105943
CREATED:20251204T232604Z
LAST-MODIFIED:20260323T031822Z
UID:10002584-1774368000-1774375200@events.excelsiorcitizen.com
SUMMARY:Baseball: C Gold  vs. St. Joseph Central (Away)
DESCRIPTION:Type: Game Opponent: St. Joseph Central
URL:https://events.excelsiorcitizen.com/event/baseball-c-gold-vs-st-joseph-central-away/
LOCATION:Bartlett Park
ATTACH;FMTTYPE=image/jpeg:https://events.excelsiorcitizen.com/wp-content/uploads/2026/03/ESHS-Activities.jpg
END:VEVENT
BEGIN:VEVENT
DTSTART;TZID=America/Chicago:20260324T160000
DTEND;TZID=America/Chicago:20260324T190000
DTSTAMP:20260423T105943
CREATED:20260322T200031Z
LAST-MODIFIED:20260322T200031Z
UID:10004639-1774368000-1774378800@events.excelsiorcitizen.com
SUMMARY:McTeacher's Night - Cornerstone Elementary
DESCRIPTION:Join us for a fundraiser at McDonald’s – support your local school\, Cornerstone Elementary \nTuesday\, March 24th from 4-7pm – 15% of the overall sales during this time go toward benefiting your school!
URL:https://events.excelsiorcitizen.com/event/mcteachers-night-cornerstone-elementary/
LOCATION:McDonald’s – Excelsior Springs\, 2221 Happy Lane\, Excelsior Springs\, MO\, 64024\, United States
ATTACH;FMTTYPE=image/jpeg:https://events.excelsiorcitizen.com/wp-content/uploads/2026/03/645616558_1442002124382615_3472014918507612525_n-1.jpg
END:VEVENT
BEGIN:VEVENT
DTSTART;TZID=UTC:20260324T170000
DTEND;TZID=UTC:20260324T190000
DTSTAMP:20260423T105943
CREATED:20251204T232605Z
LAST-MODIFIED:20260323T032605Z
UID:10002587-1774371600-1774378800@events.excelsiorcitizen.com
SUMMARY:Soccer: Girls Varsity & JV  vs. Mid-Buchanan High School (Away)
DESCRIPTION:Type: Game Opponent: Mid-Buchanan High School
URL:https://events.excelsiorcitizen.com/event/soccer-girls-varsity-vs-mid-buchanan-high-school-away/
LOCATION:Mid-Buchanan High School
ATTACH;FMTTYPE=image/jpeg:https://events.excelsiorcitizen.com/wp-content/uploads/2024/08/soccer-feat-090924.jpg
END:VEVENT
BEGIN:VEVENT
DTSTART;TZID=America/Chicago:20260324T183000
DTEND;TZID=America/Chicago:20260324T193000
DTSTAMP:20260423T105943
CREATED:20260217T002652Z
LAST-MODIFIED:20260217T002652Z
UID:10004113-1774377000-1774380600@events.excelsiorcitizen.com
SUMMARY:Financial Peace University
DESCRIPTION:Take a step toward financial confidence and peace of mind.Oasis Outreach Ministries is hosting Financial Peace University\, a practical\, step-by-step course to help you take control of your money and plan for your future.Tuesday eveningsMarch 3 – April 286:30 p.m.Oasis Outreach Ministries\, 108 W. Broadway\, Excelsior SpringsSeating is limited\, so register early at OasisOutreachMO.org and start winning with money.
URL:https://events.excelsiorcitizen.com/event/financial-peace-university/2026-03-24/
LOCATION:Oasis Outreach Ministry\, 108 W Broadway Ave\, Excelsior Springs\, MO\, 64024\, United States
ATTACH;FMTTYPE=image/jpeg:https://events.excelsiorcitizen.com/wp-content/uploads/2026/02/629847948_1407153758120799_4226016857652137779_n-1.jpg
END:VEVENT
BEGIN:VEVENT
DTSTART;TZID=America/Chicago:20260324T190000
DTEND;TZID=America/Chicago:20260324T200000
DTSTAMP:20260423T105943
CREATED:20260217T023150Z
LAST-MODIFIED:20260217T023150Z
UID:10004179-1774378800-1774382400@events.excelsiorcitizen.com
SUMMARY:New Freedom Recovery Program
DESCRIPTION:Join New Freedom Recovery Program on Tuesdays at 7:00pm at Crescent Lake Christian Center\, 1250 St Louis Ave\, Excelsior Springs\, as we journey through “Hope”. Rather than seeking hope within ourself\, find peace in trusting God\, who loves and accepts us unconditionally\, despite our imperfections. Lead me; instruct me; for You are the God who grants me salvation. My hope is solely in You. Psalm 25:5 \nAddictions\, Alcoholism\, Hang-ups\, Depression\, Substance Abuse \nFor more information\, call Steve Waymen 816-377-7226 \n 
URL:https://events.excelsiorcitizen.com/event/new-freedom-recovery-program-3/2026-03-24/
LOCATION:Crescent Lake Christian Center\, 1250 St Louis Ave\, Excelsior Springs\, MO\, 64024\, United States
ATTACH;FMTTYPE=image/jpeg:https://events.excelsiorcitizen.com/wp-content/uploads/2026/02/631611260_10236263434379618_5041821824909759256_n-1.jpg
END:VEVENT
END:VCALENDAR