BEGIN:VCALENDAR
VERSION:2.0
PRODID:-// - ECPv6.15.20//NONSGML v1.0//EN
CALSCALE:GREGORIAN
METHOD:PUBLISH
X-ORIGINAL-URL:https://events.excelsiorcitizen.com
X-WR-CALDESC:Events for 
REFRESH-INTERVAL;VALUE=DURATION:PT1H
X-Robots-Tag:noindex
X-PUBLISHED-TTL:PT1H
BEGIN:VTIMEZONE
TZID:America/Chicago
BEGIN:DAYLIGHT
TZOFFSETFROM:-0600
TZOFFSETTO:-0500
TZNAME:CDT
DTSTART:20250309T080000
END:DAYLIGHT
BEGIN:STANDARD
TZOFFSETFROM:-0500
TZOFFSETTO:-0600
TZNAME:CST
DTSTART:20251102T070000
END:STANDARD
BEGIN:DAYLIGHT
TZOFFSETFROM:-0600
TZOFFSETTO:-0500
TZNAME:CDT
DTSTART:20260308T080000
END:DAYLIGHT
BEGIN:STANDARD
TZOFFSETFROM:-0500
TZOFFSETTO:-0600
TZNAME:CST
DTSTART:20261101T070000
END:STANDARD
BEGIN:DAYLIGHT
TZOFFSETFROM:-0600
TZOFFSETTO:-0500
TZNAME:CDT
DTSTART:20270314T080000
END:DAYLIGHT
BEGIN:STANDARD
TZOFFSETFROM:-0500
TZOFFSETTO:-0600
TZNAME:CST
DTSTART:20271107T070000
END:STANDARD
END:VTIMEZONE
BEGIN:VEVENT
DTSTART;TZID=America/Chicago:20260322T080000
DTEND;TZID=America/Chicago:20260322T170000
DTSTAMP:20260422T165743
CREATED:20260322T210010Z
LAST-MODIFIED:20260322T210010Z
UID:10004653-1774166400-1774198800@events.excelsiorcitizen.com
SUMMARY:Live Music with Kari King at Shamrock Hills
DESCRIPTION:Kari King returns to Shamrock Hills for our Eggs\, Vines & Good Times Easter celebration on Saturday\, April 4\, performing live from 3–5 p.m. A beloved winery favorite\, Kari’s smooth vocals and heartfelt songs create the perfect soundtrack for a relaxed spring afternoon among the vineyards.
URL:https://events.excelsiorcitizen.com/event/live-music-with-kari-king-at-shamrock-hills/
ATTACH;FMTTYPE=image/jpeg:https://events.excelsiorcitizen.com/wp-content/uploads/2026/03/654462886_957756317202291_2890580241439157702_n-1.jpg
END:VEVENT
BEGIN:VEVENT
DTSTART;TZID=America/Chicago:20260322T150000
DTEND;TZID=America/Chicago:20260322T170000
DTSTAMP:20260422T165743
CREATED:20260125T180934Z
LAST-MODIFIED:20260316T151411Z
UID:10003944-1774191600-1774198800@events.excelsiorcitizen.com
SUMMARY:Live Music with Jack Soutter
DESCRIPTION:Jack Soutter returns to the winery on Sunday\, March 22\, performing live from 3–5 p.m. Enjoy an easygoing afternoon of live music paired with award-winning wine\, great food\, and relaxed vineyard views.
URL:https://events.excelsiorcitizen.com/event/live-music-with-jack-soutter-8/
LOCATION:Shamrock Hills Vineyard and Winery\, 12300 Shoemaker Rd.\, Excelsior Springs\, MO\, 64024\, United States
ATTACH;FMTTYPE=image/png:https://events.excelsiorcitizen.com/wp-content/uploads/2026/03/Jack-Soutter-1.png
END:VEVENT
BEGIN:VEVENT
DTSTART;TZID=America/Chicago:20260322T160000
DTEND;TZID=America/Chicago:20260322T170000
DTSTAMP:20260422T165743
CREATED:20260119T003142Z
LAST-MODIFIED:20260209T011413Z
UID:10003870-1774195200-1774198800@events.excelsiorcitizen.com
SUMMARY:Tango - One Step at a Time Ballroom Dance
DESCRIPTION:Tango
URL:https://events.excelsiorcitizen.com/event/tango-one-step-at-a-time-ballroom-dance/2026-03-22/
LOCATION:One Step at a Time Ballroom Dance\, 423 S Thompson Ave\, Excelsior Springs\, MO\, 64024\, United States
ATTACH;FMTTYPE=image/jpeg:https://events.excelsiorcitizen.com/wp-content/uploads/2026/02/628682006_1480984227366682_2557224232100571505_n-2.jpg
END:VEVENT
END:VCALENDAR