BEGIN:VCALENDAR
VERSION:2.0
PRODID:-// - ECPv6.15.20//NONSGML v1.0//EN
CALSCALE:GREGORIAN
METHOD:PUBLISH
X-ORIGINAL-URL:https://events.excelsiorcitizen.com
X-WR-CALDESC:Events for 
REFRESH-INTERVAL;VALUE=DURATION:PT1H
X-Robots-Tag:noindex
X-PUBLISHED-TTL:PT1H
BEGIN:VTIMEZONE
TZID:America/Chicago
BEGIN:DAYLIGHT
TZOFFSETFROM:-0600
TZOFFSETTO:-0500
TZNAME:CDT
DTSTART:20250309T080000
END:DAYLIGHT
BEGIN:STANDARD
TZOFFSETFROM:-0500
TZOFFSETTO:-0600
TZNAME:CST
DTSTART:20251102T070000
END:STANDARD
BEGIN:DAYLIGHT
TZOFFSETFROM:-0600
TZOFFSETTO:-0500
TZNAME:CDT
DTSTART:20260308T080000
END:DAYLIGHT
BEGIN:STANDARD
TZOFFSETFROM:-0500
TZOFFSETTO:-0600
TZNAME:CST
DTSTART:20261101T070000
END:STANDARD
BEGIN:DAYLIGHT
TZOFFSETFROM:-0600
TZOFFSETTO:-0500
TZNAME:CDT
DTSTART:20270314T080000
END:DAYLIGHT
BEGIN:STANDARD
TZOFFSETFROM:-0500
TZOFFSETTO:-0600
TZNAME:CST
DTSTART:20271107T070000
END:STANDARD
END:VTIMEZONE
BEGIN:VTIMEZONE
TZID:UTC
BEGIN:STANDARD
TZOFFSETFROM:+0000
TZOFFSETTO:+0000
TZNAME:UTC
DTSTART:20250101T000000
END:STANDARD
END:VTIMEZONE
BEGIN:VEVENT
DTSTART;TZID=America/Chicago:20260320T100000
DTEND;TZID=America/Chicago:20260321T170000
DTSTAMP:20260420T035011
CREATED:20260316T064253Z
LAST-MODIFIED:20260316T064253Z
UID:10004613-1774000800-1774112400@events.excelsiorcitizen.com
SUMMARY:Living Estate Sale
DESCRIPTION:LIVING ESTATE SALEFRIDAY & SATURDAYMARCH 20 & 21ST14021 CAMERON RDEXCELSIOR SPRINGS\, MO 64024\n\nMisc tools\, saw horses\, reciprocating saw\, vintage swivel drafting stool\, Kobalt 80V chain saw with battery pack\, tile cutter\, 2 metal industrial workshop cabinets\, miter saw\, power washer\, electric power saw\, shop vac\, multiple ladders\, car ramps.\n\nCamping equipment: screen house\, Coleman stove\, portable propane grill\, double sleeping bag\, inflatable air bed on frame. Boxes of ammo.\n\nFurniture: 1 year old electric recliner\, glider chair with footstool\, oak table with 6 chairs\, tile top table with 3 chairs\, dresser\, chest of drawers\, TV stands\, desk\, computer table\, lamps\, 2 wood bar stools\, ornate writing desk\, sewing machine table.\n\nCollectibles: Robinson Ransbottom Vintage crock; Blue Spruce matching pitcher\, 8 dishes and serving tray; liquor bottles; milk bottles; milk cans; vintage cameras & projector; Avon bottles including full men’s grooming set in box; Thomas Kinkade plates; Thomas Kinkade wall hanging; coca cola glass sets & trays\, 1960-1970 emerald green swag lamp; Pyrex Cinderella nesting bowl set; Hazel-Atlas Cobalt blue Chevron Creamer; Marigold Carnival glass pitcher; Vintage ice crusher; View master with 15 state park reels\, Red El Camino Coast King bicycle with fenders and tank: Powder blue AMF Dasher 3 speed with mirror & hand brakes.\n\n2 Little tyke children’s slides\, AMF tricycle\, stuffed animals\, misc toys\, games and puzzles.\nDog pen\, crate and car ramp.\n\nExercise equipment: Ab cruncher\, stationary bike\, Dio-Rider.\n\nWaterville 9’ Christmas tree ( used only 1 year)\, indoor and outdoor Christmas lights and decorations.\n\nLawn Care: Shovels\, rakes\, post hole digger\, paver blocks\, lawn mowers\, snow blower\, rain barrels\, quilting material\n\nHousehold: glassware\, dishes\, fans\, silver plated tea set\, mics décor\, bird houses\, sewing machine
URL:https://events.excelsiorcitizen.com/event/living-estate-sale/
LOCATION:Cathy Williams Estate Sales\, 14021 Cameron Rd\, Excelsior Springs\, MO\, 64024\, United States
ATTACH;FMTTYPE=image/jpeg:https://events.excelsiorcitizen.com/wp-content/uploads/2026/03/650793641_10162967475433867_7391474962286625235_n.jpg
END:VEVENT
BEGIN:VEVENT
DTSTART;TZID=America/Chicago:20260321T103000
DTEND;TZID=America/Chicago:20260321T153000
DTSTAMP:20260420T035011
CREATED:20260125T001052Z
LAST-MODIFIED:20260125T010044Z
UID:10003907-1774089000-1774107000@events.excelsiorcitizen.com
SUMMARY:Third Saturday Wine Tours
DESCRIPTION:Join us for an all-inclusive Wine Tour experience. \nYour wine tour includes these three destinations:\n​ \n\nWillow Spring Mercantile- Your adventure begins in the charming downtown of Excelsior Springs. Opened in 2005 by Jim and Daphne Bowman\, Willow Spring Mercantile is a beloved local gem. It proudly offers the largest selection of Missouri wines in the state\, along with an impressive lineup of craft beers and distilled spirits.  Settle into their beautiful wine cellar bistro and enjoy a relaxed brunch thoughtfully paired with Missouri-made wines. The brunch features a made-from-scratch pork (ham/bacon) vegetable quiche\, a fresh salad with seasonal toppings\, and a selection of fresh fruit. To finish on a sweet note\, guests are treated to a rich chocolate cappuccino brownie for dessert\, paired with the finale wine.\n\n  \n\nWalnut Creek Vineyard & Winery is second in line. Walnut Creek is a local winery dedicated to crafting premium vinifera and hybrid wines. Our vintages are made using grapes from California and Washington\, as well as grapes from our family farms in Colorado and Missouri. With our brick oven pizza\, perfectly curated charcuterie\, housemade desserts\, and From the Fryer favorites\, every visit to Walnut Creek will be a culinary adventure with locally sourced ingredients. Every Friday and Saturday night\, the winery comes alive with incredible live music\, and we have the ultimate Sunday Funday menu\, including bottomless mimosas.\n\n  \n\nShamrock Hills Vineyard & Winery is second up. Nestled in the beautiful Missouri River Valley\, Shamrock Hills Vineyard and Winery is a hidden gem on a 323-acre farm. Mike & Denise Riley opened their doors in April 2023\, creating a welcoming space for visitors to enjoy great Missouri wines\, stunning views\, and the warmth of camaraderie. In 2023\, Shamrock planted 3\,000 vines across 5 acres\, adding an additional acre and 600 vines in 2024. While the estate vineyard grows and develops\, Shamrock Hills has partnered with Mid-Missouri Vineyards to provide grapes and produce their first couple of vintages. We are excited for you to try our wines and savor the beauty of the land that surrounds the tasting room.\n\nThis is a 21+ event only. ID required.
URL:https://events.excelsiorcitizen.com/event/third-saturday-wine-tours-9/2026-03-21/
LOCATION:Willow Spring Mercantile\, 249 E Broadway\, Excelsior Springs\, MO\, 64024\, United States
ATTACH;FMTTYPE=image/jpeg:https://events.excelsiorcitizen.com/wp-content/uploads/2022/03/271311425_1153637458373810_890800102270573335_n-1-scaled.jpg
END:VEVENT
BEGIN:VEVENT
DTSTART;TZID=America/Chicago:20260321T140000
DTEND;TZID=America/Chicago:20260321T160000
DTSTAMP:20260420T035011
CREATED:20260302T062331Z
LAST-MODIFIED:20260302T062331Z
UID:10004573-1774101600-1774108800@events.excelsiorcitizen.com
SUMMARY:Merry Janes at Fence Stile Winery and Distillery
DESCRIPTION:Playing music\, enjoying life with you and a glass of wine!
URL:https://events.excelsiorcitizen.com/event/merry-janes-at-fence-stile-winery-and-distillery/
LOCATION:Fence Stile Vineyards\, Winery & Distillery
ATTACH;FMTTYPE=image/jpeg:https://events.excelsiorcitizen.com/wp-content/uploads/2026/03/643435550_122102155179275682_8184716025023891613_n.jpg
END:VEVENT
BEGIN:VEVENT
DTSTART;TZID=UTC:20260321T150000
DTEND;TZID=UTC:20260321T170000
DTSTAMP:20260420T035011
CREATED:20251204T232546Z
LAST-MODIFIED:20260223T010148Z
UID:10002580-1774105200-1774112400@events.excelsiorcitizen.com
SUMMARY:Baseball: Varsity  vs. Odessa (Home)
DESCRIPTION:Type: Game  Opponent: Odessa
URL:https://events.excelsiorcitizen.com/event/baseball-varsity-vs-odessa-home/
LOCATION:Excelsior Springs High School  Baseball Field 3 (turf)
END:VEVENT
BEGIN:VEVENT
DTSTART;TZID=America/Chicago:20260321T153000
DTEND;TZID=America/Chicago:20260321T173000
DTSTAMP:20260420T035011
CREATED:20260125T180751Z
LAST-MODIFIED:20260125T180751Z
UID:10003943-1774107000-1774114200@events.excelsiorcitizen.com
SUMMARY:Live Music with Damien Gunn
DESCRIPTION:Damien Gunn returns to Shamrock Hills on Saturday\, March 21\, performing live from 3:30–5:30 p.m. Enjoy high-energy country rock paired with award-winning wine\, great food\, and relaxed vineyard views for an easygoing Saturday afternoon at the winery.
URL:https://events.excelsiorcitizen.com/event/live-music-with-damien-gunn/
LOCATION:Shamrock Hills Vineyard and Winery\, 12300 Shoemaker Rd.\, Excelsior Springs\, MO\, 64024\, United States
END:VEVENT
BEGIN:VEVENT
DTSTART;TZID=America/Chicago:20260321T160000
DTEND;TZID=America/Chicago:20260321T180000
DTSTAMP:20260420T035011
CREATED:20260310T062059Z
LAST-MODIFIED:20260310T062059Z
UID:10004598-1774108800-1774116000@events.excelsiorcitizen.com
SUMMARY:Calvary Christian Union Game Night (Bingo Fundraiser)
DESCRIPTION:Join Calvary Christian Union Game Night Bingo Fundraiser on March 21st. $15 Admission \nFundraiser to raise funds for teens and kids to go to The Ark Encounter and Creation Museum in Kentucky
URL:https://events.excelsiorcitizen.com/event/calvary-christian-union-game-night-bingo-fundraiser/
LOCATION:Calvary Christian Union\, 438 Benton Ave\, Excelsior Springs\, MO\, 64024\, United States
ATTACH;FMTTYPE=image/jpeg:https://events.excelsiorcitizen.com/wp-content/uploads/2026/03/643438970_1259698819637124_5992846457474802427_n.jpg
END:VEVENT
BEGIN:VEVENT
DTSTART;TZID=UTC:20260321T190000
DTEND;TZID=UTC:20260321T210000
DTSTAMP:20260420T035011
CREATED:20251204T232603Z
LAST-MODIFIED:20260223T010148Z
UID:10002582-1774119600-1774126800@events.excelsiorcitizen.com
SUMMARY:Baseball: Varsity  vs. Summit Christian Academy (Home)
DESCRIPTION:Type: Game  Opponent: Summit Christian Academy
URL:https://events.excelsiorcitizen.com/event/baseball-varsity-vs-summit-christian-academy-home/
LOCATION:Excelsior Springs High School  Baseball Field 3 (turf)
END:VEVENT
BEGIN:VEVENT
DTSTART;TZID=America/Chicago:20260321T190000
DTEND;TZID=America/Chicago:20260321T220000
DTSTAMP:20260420T035011
CREATED:20260310T070818Z
LAST-MODIFIED:20260310T070818Z
UID:10004605-1774119600-1774130400@events.excelsiorcitizen.com
SUMMARY:Big Irish Party featuring Noe Palma
DESCRIPTION:March 21\, St. Paddy’s Day Dance! Come see Noe Palma play live!\n\n\n\nLots of Shenanigans going on! Help support Amber’s Charity of SNS Ray Co (Special Needs Services Of Ray County)
URL:https://events.excelsiorcitizen.com/event/big-irish-party-featuring-noe-palma/
LOCATION:The Eagles #3917\, 14305 State Hwy Y\, Excelsior Springs\, MO\, 64024\, United States
ATTACH;FMTTYPE=image/jpeg:https://events.excelsiorcitizen.com/wp-content/uploads/2026/03/648274891_34709905401941363_6717533600544476362_n.jpg
END:VEVENT
END:VCALENDAR