BEGIN:VCALENDAR
VERSION:2.0
PRODID:-// - ECPv6.15.20//NONSGML v1.0//EN
CALSCALE:GREGORIAN
METHOD:PUBLISH
X-ORIGINAL-URL:https://events.excelsiorcitizen.com
X-WR-CALDESC:Events for 
REFRESH-INTERVAL;VALUE=DURATION:PT1H
X-Robots-Tag:noindex
X-PUBLISHED-TTL:PT1H
BEGIN:VTIMEZONE
TZID:UTC
BEGIN:STANDARD
TZOFFSETFROM:+0000
TZOFFSETTO:+0000
TZNAME:UTC
DTSTART:20250101T000000
END:STANDARD
END:VTIMEZONE
BEGIN:VTIMEZONE
TZID:America/Chicago
BEGIN:DAYLIGHT
TZOFFSETFROM:-0600
TZOFFSETTO:-0500
TZNAME:CDT
DTSTART:20250309T080000
END:DAYLIGHT
BEGIN:STANDARD
TZOFFSETFROM:-0500
TZOFFSETTO:-0600
TZNAME:CST
DTSTART:20251102T070000
END:STANDARD
BEGIN:DAYLIGHT
TZOFFSETFROM:-0600
TZOFFSETTO:-0500
TZNAME:CDT
DTSTART:20260308T080000
END:DAYLIGHT
BEGIN:STANDARD
TZOFFSETFROM:-0500
TZOFFSETTO:-0600
TZNAME:CST
DTSTART:20261101T070000
END:STANDARD
BEGIN:DAYLIGHT
TZOFFSETFROM:-0600
TZOFFSETTO:-0500
TZNAME:CDT
DTSTART:20270314T080000
END:DAYLIGHT
BEGIN:STANDARD
TZOFFSETFROM:-0500
TZOFFSETTO:-0600
TZNAME:CST
DTSTART:20271107T070000
END:STANDARD
END:VTIMEZONE
BEGIN:VEVENT
DTSTART;TZID=UTC:20260320T000000
DTEND;TZID=UTC:20260320T030000
DTSTAMP:20260420T034847
CREATED:20251202T225501Z
LAST-MODIFIED:20260223T010132Z
UID:10002562-1773964800-1773975600@events.excelsiorcitizen.com
SUMMARY:Special Events-ESHS  (Home)
DESCRIPTION:Comments: Battle of the Seniors
URL:https://events.excelsiorcitizen.com/event/special-events-eshs-home-38/
LOCATION:Excelsior Springs High School – HS Commons\, Excelsior Springs High School – Gym\, Excelsior Springs High School – Gym
END:VEVENT
BEGIN:VEVENT
DTSTART;TZID=America/Chicago:20260320T080000
DTEND;TZID=America/Chicago:20260320T190000
DTSTAMP:20260420T034847
CREATED:20260310T035423Z
LAST-MODIFIED:20260310T035423Z
UID:10004588-1773993600-1774033200@events.excelsiorcitizen.com
SUMMARY:Mr Rogers' Birthday!
DESCRIPTION:Honor our favorite neighbor!! Do a kind deed in your neighborhood\, or tell a neighbor\, “I’m glad you’re my neighbor!”
URL:https://events.excelsiorcitizen.com/event/mr-rogers-birthday-2/
LOCATION:Excelsior Springs\, Missouri\, Excelsior Springs\, MO\, 64024\, United States
ATTACH;FMTTYPE=image/jpeg:https://events.excelsiorcitizen.com/wp-content/uploads/2026/03/649645534_1237478338573635_782457348383532689_n.jpg
END:VEVENT
BEGIN:VEVENT
DTSTART;TZID=America/Chicago:20260320T100000
DTEND;TZID=America/Chicago:20260321T170000
DTSTAMP:20260420T034847
CREATED:20260316T064253Z
LAST-MODIFIED:20260316T064253Z
UID:10004613-1774000800-1774112400@events.excelsiorcitizen.com
SUMMARY:Living Estate Sale
DESCRIPTION:LIVING ESTATE SALEFRIDAY & SATURDAYMARCH 20 & 21ST14021 CAMERON RDEXCELSIOR SPRINGS\, MO 64024\n\nMisc tools\, saw horses\, reciprocating saw\, vintage swivel drafting stool\, Kobalt 80V chain saw with battery pack\, tile cutter\, 2 metal industrial workshop cabinets\, miter saw\, power washer\, electric power saw\, shop vac\, multiple ladders\, car ramps.\n\nCamping equipment: screen house\, Coleman stove\, portable propane grill\, double sleeping bag\, inflatable air bed on frame. Boxes of ammo.\n\nFurniture: 1 year old electric recliner\, glider chair with footstool\, oak table with 6 chairs\, tile top table with 3 chairs\, dresser\, chest of drawers\, TV stands\, desk\, computer table\, lamps\, 2 wood bar stools\, ornate writing desk\, sewing machine table.\n\nCollectibles: Robinson Ransbottom Vintage crock; Blue Spruce matching pitcher\, 8 dishes and serving tray; liquor bottles; milk bottles; milk cans; vintage cameras & projector; Avon bottles including full men’s grooming set in box; Thomas Kinkade plates; Thomas Kinkade wall hanging; coca cola glass sets & trays\, 1960-1970 emerald green swag lamp; Pyrex Cinderella nesting bowl set; Hazel-Atlas Cobalt blue Chevron Creamer; Marigold Carnival glass pitcher; Vintage ice crusher; View master with 15 state park reels\, Red El Camino Coast King bicycle with fenders and tank: Powder blue AMF Dasher 3 speed with mirror & hand brakes.\n\n2 Little tyke children’s slides\, AMF tricycle\, stuffed animals\, misc toys\, games and puzzles.\nDog pen\, crate and car ramp.\n\nExercise equipment: Ab cruncher\, stationary bike\, Dio-Rider.\n\nWaterville 9’ Christmas tree ( used only 1 year)\, indoor and outdoor Christmas lights and decorations.\n\nLawn Care: Shovels\, rakes\, post hole digger\, paver blocks\, lawn mowers\, snow blower\, rain barrels\, quilting material\n\nHousehold: glassware\, dishes\, fans\, silver plated tea set\, mics décor\, bird houses\, sewing machine
URL:https://events.excelsiorcitizen.com/event/living-estate-sale/
LOCATION:Cathy Williams Estate Sales\, 14021 Cameron Rd\, Excelsior Springs\, MO\, 64024\, United States
ATTACH;FMTTYPE=image/jpeg:https://events.excelsiorcitizen.com/wp-content/uploads/2026/03/650793641_10162967475433867_7391474962286625235_n.jpg
END:VEVENT
BEGIN:VEVENT
DTSTART;TZID=UTC:20260320T140000
DTEND;TZID=UTC:20260320T210000
DTSTAMP:20260420T034847
CREATED:20251202T225502Z
LAST-MODIFIED:20260223T010132Z
UID:10002563-1774015200-1774040400@events.excelsiorcitizen.com
SUMMARY:Golf: Boys Varsity  vs. Oak Grove (Away)
DESCRIPTION:Type: Tournament  Opponent: Oak Grove
URL:https://events.excelsiorcitizen.com/event/golf-boys-varsity-vs-oak-grove-away/
LOCATION:Adams Pointe
END:VEVENT
BEGIN:VEVENT
DTSTART;TZID=America/Chicago:20260320T170000
DTEND;TZID=America/Chicago:20260320T183000
DTSTAMP:20260420T034847
CREATED:20260316T070619Z
LAST-MODIFIED:20260316T070619Z
UID:10004627-1774026000-1774031400@events.excelsiorcitizen.com
SUMMARY:Grace\, Vine to Wine
DESCRIPTION:Tickets are live! Grace\, Vine to Wine — Friday 3/205:00 PM & 6:30 PM (seated)First access to the limited 2024 Resilience Series + live poetry reading + small bites.Ticket is credited toward a Resilience Trio Box (one credit per Trio).https://www.eventbrite.com/…/spring-equinox-launch…#FenceStile #MissouriWine #SpringEquinox #WineEvent #PoetryReading #LimitedRelease #KCEvents
URL:https://events.excelsiorcitizen.com/event/grace-vine-to-wine/
LOCATION:Fence Stile Vineyards and Winery\, 31010 W 124th St\, Excelsior Springs\, MO\, 64024\, United States
ATTACH;FMTTYPE=image/jpeg:https://events.excelsiorcitizen.com/wp-content/uploads/2026/03/652767361_1522543469876992_4371746113480694672_n.jpg
END:VEVENT
BEGIN:VEVENT
DTSTART;TZID=America/Chicago:20260320T173000
DTEND;TZID=America/Chicago:20260320T183000
DTSTAMP:20260420T034847
CREATED:20260310T041505Z
LAST-MODIFIED:20260310T041505Z
UID:10004594-1774027800-1774031400@events.excelsiorcitizen.com
SUMMARY:Small Bunny Candle Class
DESCRIPTION:Make your own cute Easter Bunny candle to kick off Spring! Bring your favorite girlfriends and make this cutie! You’ll get to mix your scent\, pour your candle\, top it with some dried florals\, meet new friends\, enjoy refreshments and shop at Solana Boutique with a discount! The candles take about an hour to cool after pouring. Go explore/have dinner and come back to take your candle home or return another day to pick up your candle. I can also deliver!! Candle making direction by Savanna Nave in Solana Event Space. BYOB!
URL:https://events.excelsiorcitizen.com/event/small-bunny-candle-class/
LOCATION:Solana On Broadway
ATTACH;FMTTYPE=image/jpeg:https://events.excelsiorcitizen.com/wp-content/uploads/2026/03/645420452_923657850039478_8353441719883179078_n.jpg
END:VEVENT
BEGIN:VEVENT
DTSTART;TZID=UTC:20260320T210000
DTEND;TZID=UTC:20260320T230000
DTSTAMP:20260420T034847
CREATED:20251202T225502Z
LAST-MODIFIED:20260223T010132Z
UID:10002564-1774040400-1774047600@events.excelsiorcitizen.com
SUMMARY:Baseball: JV  vs. Raytown (Away)
DESCRIPTION:Type: Game  Opponent: Raytown
URL:https://events.excelsiorcitizen.com/event/baseball-jv-vs-raytown-away/
LOCATION:Raytown High School
END:VEVENT
BEGIN:VEVENT
DTSTART;TZID=UTC:20260320T210000
DTEND;TZID=UTC:20260320T230000
DTSTAMP:20260420T034847
CREATED:20251202T225502Z
LAST-MODIFIED:20260223T010132Z
UID:10002565-1774040400-1774047600@events.excelsiorcitizen.com
SUMMARY:Baseball: Varsity  vs. Raytown (Home)
DESCRIPTION:Type: Game  Opponent: Raytown
URL:https://events.excelsiorcitizen.com/event/baseball-varsity-vs-raytown-home/
LOCATION:Excelsior Springs High School  Baseball Field 3 (turf)
END:VEVENT
END:VCALENDAR