BEGIN:VCALENDAR
VERSION:2.0
PRODID:-// - ECPv6.15.20//NONSGML v1.0//EN
CALSCALE:GREGORIAN
METHOD:PUBLISH
X-ORIGINAL-URL:https://events.excelsiorcitizen.com
X-WR-CALDESC:Events for 
REFRESH-INTERVAL;VALUE=DURATION:PT1H
X-Robots-Tag:noindex
X-PUBLISHED-TTL:PT1H
BEGIN:VTIMEZONE
TZID:America/Chicago
BEGIN:DAYLIGHT
TZOFFSETFROM:-0600
TZOFFSETTO:-0500
TZNAME:CDT
DTSTART:20250309T080000
END:DAYLIGHT
BEGIN:STANDARD
TZOFFSETFROM:-0500
TZOFFSETTO:-0600
TZNAME:CST
DTSTART:20251102T070000
END:STANDARD
BEGIN:DAYLIGHT
TZOFFSETFROM:-0600
TZOFFSETTO:-0500
TZNAME:CDT
DTSTART:20260308T080000
END:DAYLIGHT
BEGIN:STANDARD
TZOFFSETFROM:-0500
TZOFFSETTO:-0600
TZNAME:CST
DTSTART:20261101T070000
END:STANDARD
BEGIN:DAYLIGHT
TZOFFSETFROM:-0600
TZOFFSETTO:-0500
TZNAME:CDT
DTSTART:20270314T080000
END:DAYLIGHT
BEGIN:STANDARD
TZOFFSETFROM:-0500
TZOFFSETTO:-0600
TZNAME:CST
DTSTART:20271107T070000
END:STANDARD
END:VTIMEZONE
BEGIN:VTIMEZONE
TZID:UTC
BEGIN:STANDARD
TZOFFSETFROM:+0000
TZOFFSETTO:+0000
TZNAME:UTC
DTSTART:20250101T000000
END:STANDARD
END:VTIMEZONE
BEGIN:VEVENT
DTSTART;TZID=America/Chicago:20260319T150000
DTEND;TZID=America/Chicago:20260319T180000
DTSTAMP:20260420T034845
CREATED:20260223T060449Z
LAST-MODIFIED:20260223T060449Z
UID:10004546-1773932400-1773943200@events.excelsiorcitizen.com
SUMMARY:Bloom Series - A Spring Boutique Experience
DESCRIPTION:Join us every Thursday in March from 4–7PM in The Tavern.�Let’s toast to fresh beginnings and everything coming into bloom.\n\nStep into the season of renewal with our Bloom Series\, a floral forward celebration of spring designed to awaken the senses.\nEach Thursday in March\, The Tavern transforms into a spring boutique escape featuring:\n Floral-Forward Cocktails – Handcrafted libations infused with delicate botanicals\, fresh herbs\, and bright seasonal flavors. Think elderflower spritz\, lavender lemon drops\, rose kissed gin creations\, and garden inspired garnishes that are as beautiful as they are refreshing.\n Spring Mocktails – Zero-proof blends bursting with citrus\, berries\, florals\, and sparkling finishes — thoughtfully crafted so everyone can sip something special.\n Curated Small Bites – Light\, seasonal plates designed to pair perfectly with your glass. Fresh ingredients\, vibrant colors\, and flavors that celebrate the brightness of spring.\n Create Your Own Floral Bouquet – As part of the experience\, guests are invited to build their own petite floral bouquet to take home\, a beautiful keepsake to remember an evening in bloom. Select from seasonal stems and craft a custom arrangement while you sip and savor.\n\nWhether you’re gathering with friends after work\, planning a girls’ night out\, or simply welcoming longer days and warmer evenings\, Bloom is your weekly excuse to sip\, create\, and celebrate the season in style.
URL:https://events.excelsiorcitizen.com/event/bloom-series-a-spring-boutique-experience/2026-03-19/
LOCATION:The Elms Hotel and Spa\, 401 Regent St\, Excelsior Springs\, MO\, 64024\, United States
END:VEVENT
BEGIN:VEVENT
DTSTART;TZID=America/Chicago:20260319T180000
DTEND;TZID=America/Chicago:20260319T200000
DTSTAMP:20260420T034845
CREATED:20260316T063504Z
LAST-MODIFIED:20260316T063504Z
UID:10004610-1773943200-1773950400@events.excelsiorcitizen.com
SUMMARY:ES Area RE Investors Monthly Meeting
DESCRIPTION:Bring your questions\, ideas\, and anything else you’d like to share or need help with.
URL:https://events.excelsiorcitizen.com/event/es-area-re-investors-monthly-meeting-3/
LOCATION:Warbird Whiskey
ATTACH;FMTTYPE=image/jpeg:https://events.excelsiorcitizen.com/wp-content/uploads/2026/03/650491636_10164253890878259_4743137586954836764_n.jpg
END:VEVENT
BEGIN:VEVENT
DTSTART;TZID=UTC:20260320T000000
DTEND;TZID=UTC:20260320T030000
DTSTAMP:20260420T034845
CREATED:20251202T225501Z
LAST-MODIFIED:20260223T010132Z
UID:10002562-1773964800-1773975600@events.excelsiorcitizen.com
SUMMARY:Special Events-ESHS  (Home)
DESCRIPTION:Comments: Battle of the Seniors
URL:https://events.excelsiorcitizen.com/event/special-events-eshs-home-38/
LOCATION:Excelsior Springs High School – HS Commons\, Excelsior Springs High School – Gym\, Excelsior Springs High School – Gym
END:VEVENT
END:VCALENDAR