BEGIN:VCALENDAR
VERSION:2.0
PRODID:-// - ECPv6.15.20//NONSGML v1.0//EN
CALSCALE:GREGORIAN
METHOD:PUBLISH
X-ORIGINAL-URL:https://events.excelsiorcitizen.com
X-WR-CALDESC:Events for 
REFRESH-INTERVAL;VALUE=DURATION:PT1H
X-Robots-Tag:noindex
X-PUBLISHED-TTL:PT1H
BEGIN:VTIMEZONE
TZID:UTC
BEGIN:STANDARD
TZOFFSETFROM:+0000
TZOFFSETTO:+0000
TZNAME:UTC
DTSTART:20250101T000000
END:STANDARD
END:VTIMEZONE
BEGIN:VEVENT
DTSTART;TZID=UTC:20260318T210000
DTEND;TZID=UTC:20260318T223000
DTSTAMP:20260422T132642
CREATED:20260113T040614Z
LAST-MODIFIED:20260223T010132Z
UID:10003783-1773867600-1773873000@events.excelsiorcitizen.com
SUMMARY:Elementary Special Events  (Home)
DESCRIPTION:Comments: Lewis Archery Club-Seth Rulon.  Lewis Archery Club-Rulon
URL:https://events.excelsiorcitizen.com/event/elementary-special-events-home-35/
LOCATION:Lewis Elementary – Gym
END:VEVENT
END:VCALENDAR