BEGIN:VCALENDAR
VERSION:2.0
PRODID:-// - ECPv6.15.20//NONSGML v1.0//EN
CALSCALE:GREGORIAN
METHOD:PUBLISH
X-ORIGINAL-URL:https://events.excelsiorcitizen.com
X-WR-CALDESC:Events for 
REFRESH-INTERVAL;VALUE=DURATION:PT1H
X-Robots-Tag:noindex
X-PUBLISHED-TTL:PT1H
BEGIN:VTIMEZONE
TZID:UTC
BEGIN:STANDARD
TZOFFSETFROM:+0000
TZOFFSETTO:+0000
TZNAME:UTC
DTSTART:20250101T000000
END:STANDARD
END:VTIMEZONE
BEGIN:VEVENT
DTSTART;TZID=UTC:20260304T220000
DTEND;TZID=UTC:20260304T233000
DTSTAMP:20260421T093107
CREATED:20260113T040537Z
LAST-MODIFIED:20260223T010102Z
UID:10003780-1772661600-1772667000@events.excelsiorcitizen.com
SUMMARY:Elementary Special Events  (Home)
DESCRIPTION:Comments: Lewis Archery Club-Seth Rulon.  Lewis Archery Club-Rulon
URL:https://events.excelsiorcitizen.com/event/elementary-special-events-home-32/
LOCATION:Lewis Elementary – Gym
END:VEVENT
BEGIN:VEVENT
DTSTART;TZID=UTC:20260304T230000
DTEND;TZID=UTC:20260305T003000
DTSTAMP:20260421T093107
CREATED:20251128T215549Z
LAST-MODIFIED:20260223T010102Z
UID:10002540-1772665200-1772670600@events.excelsiorcitizen.com
SUMMARY:Middle School Special Events  (Home)
DESCRIPTION:Comments: ALL School Dance
URL:https://events.excelsiorcitizen.com/event/middle-school-special-events-home-5/
LOCATION:Excelsior Springs Middle School – Commons
END:VEVENT
END:VCALENDAR