BEGIN:VCALENDAR
VERSION:2.0
PRODID:-// - ECPv6.15.20//NONSGML v1.0//EN
CALSCALE:GREGORIAN
METHOD:PUBLISH
X-ORIGINAL-URL:https://events.excelsiorcitizen.com
X-WR-CALDESC:Events for 
REFRESH-INTERVAL;VALUE=DURATION:PT1H
X-Robots-Tag:noindex
X-PUBLISHED-TTL:PT1H
BEGIN:VTIMEZONE
TZID:UTC
BEGIN:STANDARD
TZOFFSETFROM:+0000
TZOFFSETTO:+0000
TZNAME:UTC
DTSTART:20250101T000000
END:STANDARD
END:VTIMEZONE
BEGIN:VTIMEZONE
TZID:America/Chicago
BEGIN:DAYLIGHT
TZOFFSETFROM:-0600
TZOFFSETTO:-0500
TZNAME:CDT
DTSTART:20250309T080000
END:DAYLIGHT
BEGIN:STANDARD
TZOFFSETFROM:-0500
TZOFFSETTO:-0600
TZNAME:CST
DTSTART:20251102T070000
END:STANDARD
BEGIN:DAYLIGHT
TZOFFSETFROM:-0600
TZOFFSETTO:-0500
TZNAME:CDT
DTSTART:20260308T080000
END:DAYLIGHT
BEGIN:STANDARD
TZOFFSETFROM:-0500
TZOFFSETTO:-0600
TZNAME:CST
DTSTART:20261101T070000
END:STANDARD
BEGIN:DAYLIGHT
TZOFFSETFROM:-0600
TZOFFSETTO:-0500
TZNAME:CDT
DTSTART:20270314T080000
END:DAYLIGHT
BEGIN:STANDARD
TZOFFSETFROM:-0500
TZOFFSETTO:-0600
TZNAME:CST
DTSTART:20271107T070000
END:STANDARD
END:VTIMEZONE
BEGIN:VEVENT
DTSTART;TZID=UTC:20260122T060000
DTEND;TZID=UTC:20260122T060000
DTSTAMP:20260421T025937
CREATED:20251120T184807Z
LAST-MODIFIED:20260114T041656Z
UID:10002411-1769061600-1769061600@events.excelsiorcitizen.com
SUMMARY:Basketball MS: Boys MS  vs.  Excelsior Springs Middle School vs.  TBA (Away)
DESCRIPTION:Type: Tournament  Opponent:  Excelsior Springs Middle School vs.  TBA
URL:https://events.excelsiorcitizen.com/event/basketball-ms-boys-ms-vs-excelsior-springs-middle-school-vs-tba-away-4/
LOCATION:TBA
END:VEVENT
BEGIN:VEVENT
DTSTART;TZID=America/Chicago:20260122T090000
DTEND;TZID=America/Chicago:20260122T150000
DTSTAMP:20260421T025937
CREATED:20260113T021923Z
LAST-MODIFIED:20260113T021923Z
UID:10003760-1769072400-1769094000@events.excelsiorcitizen.com
SUMMARY:Youth Mental Health First Aid
DESCRIPTION:Join SAFE for this free Youth Mental Health First Aid Training on January 22nd at Beacon Mental Health ! This training is for any adult who comes in contact with youth–parents\, teachers\, coaches\, youth group leaders\, etc!Register here: https://www.eventbrite.com/…/youth-mental-health-first…
URL:https://events.excelsiorcitizen.com/event/youth-mental-health-first-aid-2/
LOCATION:Beacon Mental Health\, 3100 NE 83rd Street\, Kansas City\, MO\, 64119\, United States
END:VEVENT
BEGIN:VEVENT
DTSTART;TZID=America/Chicago:20260122T124000
DTEND;TZID=America/Chicago:20260122T140000
DTSTAMP:20260421T025937
CREATED:20260119T014545Z
LAST-MODIFIED:20260119T014545Z
UID:10003883-1769085600-1769090400@events.excelsiorcitizen.com
SUMMARY:Excelsior Springs Garden Club Meeting
DESCRIPTION:Join the Excelsior Springs Garden Club on January 22nd at 12:45 PM for a friendly gathering of people who share an interest in gardening. This free meet-up is a great opportunity to connect\, chat\, and enjoy conversation with others who love all things green.
URL:https://events.excelsiorcitizen.com/event/excelsior-springs-garden-club-meeting/
LOCATION:Excelsior Springs Community Center\, 500 Tiger Dr\, Excelsior Springs\, MO\, United States
GEO:39.349002;-94.244358
X-APPLE-STRUCTURED-LOCATION;VALUE=URI;X-ADDRESS=Excelsior Springs Community Center 500 Tiger Dr Excelsior Springs MO United States;X-APPLE-RADIUS=500;X-TITLE=500 Tiger Dr:geo:-94.244358,39.349002
END:VEVENT
BEGIN:VEVENT
DTSTART;TZID=UTC:20260122T170000
DTEND;TZID=UTC:20260122T230000
DTSTAMP:20260421T025937
CREATED:20260113T041651Z
LAST-MODIFIED:20260121T171547Z
UID:10003787-1769101200-1769122800@events.excelsiorcitizen.com
SUMMARY:Thursday Tea on Thompson
DESCRIPTION:Progressive tea party every Thursday until the last Thursday in March. A FREE event.  Enjoy tea and treats at Abby’s Sweet Peas\, K. Grace Home & Gift\, Emma Jeans Treasures\, Kilgore’s 414 Co.\, The French Bakery\, and Blooms & Things.  Can’t wait to join you for tea!\nhttps://www.facebook.com/events/734142933082682/
URL:https://events.excelsiorcitizen.com/event/thursday-tea-on-thompson-6/
LOCATION:459 S Thompson Ave\, 801 E Spring St\, Joplin\, MO\, United States
ORGANIZER;CN="Abby's Sweet Peas":MAILTO:noreply@facebookmail.com
GEO:37.093638;-94.50487
X-APPLE-STRUCTURED-LOCATION;VALUE=URI;X-ADDRESS=459 S Thompson Ave 801 E Spring St Joplin MO United States;X-APPLE-RADIUS=500;X-TITLE=801 E Spring St:geo:-94.50487,37.093638
END:VEVENT
BEGIN:VEVENT
DTSTART;TZID=America/Chicago:20260122T190000
DTEND;TZID=America/Chicago:20260122T200000
DTSTAMP:20260421T025937
CREATED:20260118T233707Z
LAST-MODIFIED:20260118T233707Z
UID:10003850-1769108400-1769112000@events.excelsiorcitizen.com
SUMMARY:Neighborhood Engagement Team
DESCRIPTION:It’s really tempting to isolate ourselves in the winter. Come out of hibernation and share your ideas for neighboring and connection with the Neighborhood Engagement Team!! We can’t wait to hear your ideas!
URL:https://events.excelsiorcitizen.com/event/neighborhood-engagement-team-4/
LOCATION:Excelsior Springs Community Center\, 500 Tiger Dr\, Excelsior Springs\, MO\, United States
GEO:39.349002;-94.244358
X-APPLE-STRUCTURED-LOCATION;VALUE=URI;X-ADDRESS=Excelsior Springs Community Center 500 Tiger Dr Excelsior Springs MO United States;X-APPLE-RADIUS=500;X-TITLE=500 Tiger Dr:geo:-94.244358,39.349002
END:VEVENT
BEGIN:VEVENT
DTSTART;TZID=UTC:20260122T220000
DTEND;TZID=UTC:20260123T010000
DTSTAMP:20260421T025937
CREATED:20260115T043053Z
LAST-MODIFIED:20260118T051613Z
UID:10003819-1769119200-1769130000@events.excelsiorcitizen.com
SUMMARY:Basketball MS: Boys MS  vs. Excelsior Springs Middle School vs. TBA (Home)
DESCRIPTION:Type: Tournament  Opponent: Excelsior Springs Middle School vs. TBA  Comments: B-Team Tournament
URL:https://events.excelsiorcitizen.com/event/basketball-ms-boys-ms-vs-excelsior-springs-middle-school-vs-tba-home-3/
LOCATION:Excelsior Springs Middle School  Gym
END:VEVENT
END:VCALENDAR