BEGIN:VCALENDAR
VERSION:2.0
PRODID:-// - ECPv6.15.20//NONSGML v1.0//EN
CALSCALE:GREGORIAN
METHOD:PUBLISH
X-ORIGINAL-URL:https://events.excelsiorcitizen.com
X-WR-CALDESC:Events for 
REFRESH-INTERVAL;VALUE=DURATION:PT1H
X-Robots-Tag:noindex
X-PUBLISHED-TTL:PT1H
BEGIN:VTIMEZONE
TZID:UTC
BEGIN:STANDARD
TZOFFSETFROM:+0000
TZOFFSETTO:+0000
TZNAME:UTC
DTSTART:20250101T000000
END:STANDARD
END:VTIMEZONE
BEGIN:VTIMEZONE
TZID:America/Chicago
BEGIN:DAYLIGHT
TZOFFSETFROM:-0600
TZOFFSETTO:-0500
TZNAME:CDT
DTSTART:20250309T080000
END:DAYLIGHT
BEGIN:STANDARD
TZOFFSETFROM:-0500
TZOFFSETTO:-0600
TZNAME:CST
DTSTART:20251102T070000
END:STANDARD
BEGIN:DAYLIGHT
TZOFFSETFROM:-0600
TZOFFSETTO:-0500
TZNAME:CDT
DTSTART:20260308T080000
END:DAYLIGHT
BEGIN:STANDARD
TZOFFSETFROM:-0500
TZOFFSETTO:-0600
TZNAME:CST
DTSTART:20261101T070000
END:STANDARD
BEGIN:DAYLIGHT
TZOFFSETFROM:-0600
TZOFFSETTO:-0500
TZNAME:CDT
DTSTART:20270314T080000
END:DAYLIGHT
BEGIN:STANDARD
TZOFFSETFROM:-0500
TZOFFSETTO:-0600
TZNAME:CST
DTSTART:20271107T070000
END:STANDARD
END:VTIMEZONE
BEGIN:VEVENT
DTSTART;VALUE=DATE:20260119
DTEND;VALUE=DATE:20260121
DTSTAMP:20260421T093058
CREATED:20251120T183103Z
LAST-MODIFIED:20260112T174548Z
UID:10002066-1768788000-1768874399@events.excelsiorcitizen.com
SUMMARY:Martin Luther King Jr. Day
DESCRIPTION:Public holiday
URL:https://events.excelsiorcitizen.com/event/martin-luther-king-jr-day/
LOCATION:MO
END:VEVENT
BEGIN:VEVENT
DTSTART;TZID=UTC:20260119T060000
DTEND;TZID=UTC:20260119T060000
DTSTAMP:20260421T093058
CREATED:20251120T184725Z
LAST-MODIFIED:20251204T232151Z
UID:10002392-1768802400-1768802400@events.excelsiorcitizen.com
SUMMARY:Wrestling: Girls Varsity  vs. Park Hill South (Away)
DESCRIPTION:Type: Tournament  Opponent: Park Hill South
URL:https://events.excelsiorcitizen.com/event/wrestling-girls-varsity-vs-park-hill-south-away/
LOCATION:Park Hill South High School
END:VEVENT
BEGIN:VEVENT
DTSTART;TZID=America/Chicago:20260119T070000
DTEND;TZID=America/Chicago:20260119T080000
DTSTAMP:20260421T093058
CREATED:20260112T055509Z
LAST-MODIFIED:20260112T055509Z
UID:10003621-1768806000-1768809600@events.excelsiorcitizen.com
SUMMARY:Team 5K Running Group
DESCRIPTION:Join our FREE Team 5K Walking and Running Groups! We’re offering two great options to help you prep for Fence Stile Vineyards\, Winery & Distillery‘s 5K:Running Group: Mondays at 7 AMWalking Group: Wednesdays at 6 AMIt’s completely FREE\, but you still need to register! You can sign up anytime before your first session.Sign up here: https://es-prcc.activityreg.com/selectactivity_t2.wcs
URL:https://events.excelsiorcitizen.com/event/team-5k-running-group/
LOCATION:Excelsior Springs Community Center\, 500 Tiger Dr\, Excelsior Springs\, MO\, United States
GEO:39.349002;-94.244358
X-APPLE-STRUCTURED-LOCATION;VALUE=URI;X-ADDRESS=Excelsior Springs Community Center 500 Tiger Dr Excelsior Springs MO United States;X-APPLE-RADIUS=500;X-TITLE=500 Tiger Dr:geo:-94.244358,39.349002
END:VEVENT
BEGIN:VEVENT
DTSTART;TZID=UTC:20260119T133000
DTEND;TZID=UTC:20260119T203000
DTSTAMP:20260421T093058
CREATED:20251120T184725Z
LAST-MODIFIED:20260118T051533Z
UID:10002393-1768829400-1768854600@events.excelsiorcitizen.com
SUMMARY:Special Events-ESHS  (Home)
DESCRIPTION:Comments: No School Martin Luther King Jr. Day
URL:https://events.excelsiorcitizen.com/event/special-events-eshs-home-30/
LOCATION:MO
END:VEVENT
BEGIN:VEVENT
DTSTART;TZID=UTC:20260119T150000
DTEND;TZID=UTC:20260119T230000
DTSTAMP:20260421T093058
CREATED:20260103T021743Z
LAST-MODIFIED:20260118T051532Z
UID:10002604-1768834800-1768863600@events.excelsiorcitizen.com
SUMMARY:Wrestling: Girls Varsity  vs. Park Hill South (Away)
DESCRIPTION:Type: Tournament  Opponent: Park Hill South
URL:https://events.excelsiorcitizen.com/event/wrestling-girls-varsity-vs-park-hill-south-away-2/
LOCATION:Park Hill South High School
END:VEVENT
BEGIN:VEVENT
DTSTART;TZID=UTC:20260120T000000
DTEND;TZID=UTC:20260120T030000
DTSTAMP:20260421T093058
CREATED:20260105T221532Z
LAST-MODIFIED:20260118T171532Z
UID:10002730-1768867200-1768878000@events.excelsiorcitizen.com
SUMMARY:Excelsior Springs City Council Meeting January 19\, 2026
DESCRIPTION:Excelsior Springs City Council Meetings are typically held on the first and third Monday of each month at 6:00 PM at the Hall of Waters in downtown Excelsior Springs. Meetings are streamed courtesy of our premium sponsors: the Simmons Sales Team\, Platte Clay Electric Coop\, Chuck Anderson Ford\, and Excelsior Springs Hospital. Livestreams are archived on the Excelsior Citizen Facebook Page and YouTube Channel.\nFind City Council agendas and information here: https://cityofesmo.com/index.php/council/\nhttps://www.facebook.com/events/744585441530026/
URL:https://events.excelsiorcitizen.com/event/excelsior-springs-city-council-meeting-january-19-2026/
LOCATION:MO
ORGANIZER;CN="Excelsior Citizen":MAILTO:noreply@facebookmail.com
END:VEVENT
END:VCALENDAR