BEGIN:VCALENDAR
VERSION:2.0
PRODID:-// - ECPv6.15.20//NONSGML v1.0//EN
CALSCALE:GREGORIAN
METHOD:PUBLISH
X-ORIGINAL-URL:https://events.excelsiorcitizen.com
X-WR-CALDESC:Events for 
REFRESH-INTERVAL;VALUE=DURATION:PT1H
X-Robots-Tag:noindex
X-PUBLISHED-TTL:PT1H
BEGIN:VTIMEZONE
TZID:UTC
BEGIN:STANDARD
TZOFFSETFROM:+0000
TZOFFSETTO:+0000
TZNAME:UTC
DTSTART:20250101T000000
END:STANDARD
END:VTIMEZONE
BEGIN:VTIMEZONE
TZID:America/Chicago
BEGIN:DAYLIGHT
TZOFFSETFROM:-0600
TZOFFSETTO:-0500
TZNAME:CDT
DTSTART:20250309T080000
END:DAYLIGHT
BEGIN:STANDARD
TZOFFSETFROM:-0500
TZOFFSETTO:-0600
TZNAME:CST
DTSTART:20251102T070000
END:STANDARD
BEGIN:DAYLIGHT
TZOFFSETFROM:-0600
TZOFFSETTO:-0500
TZNAME:CDT
DTSTART:20260308T080000
END:DAYLIGHT
BEGIN:STANDARD
TZOFFSETFROM:-0500
TZOFFSETTO:-0600
TZNAME:CST
DTSTART:20261101T070000
END:STANDARD
BEGIN:DAYLIGHT
TZOFFSETFROM:-0600
TZOFFSETTO:-0500
TZNAME:CDT
DTSTART:20270314T080000
END:DAYLIGHT
BEGIN:STANDARD
TZOFFSETFROM:-0500
TZOFFSETTO:-0600
TZNAME:CST
DTSTART:20271107T070000
END:STANDARD
END:VTIMEZONE
BEGIN:VEVENT
DTSTART;TZID=UTC:20260110T010000
DTEND;TZID=UTC:20260110T023000
DTSTAMP:20260421T110002
CREATED:20251120T184558Z
LAST-MODIFIED:20260106T222418Z
UID:10002351-1768006800-1768012200@events.excelsiorcitizen.com
SUMMARY:Basketball: Boys Varsity  (Location Changed) vs. Winnetonka (Home)
DESCRIPTION:Type: Game  Opponent: Winnetonka
URL:https://events.excelsiorcitizen.com/event/basketball-boys-varsity-location-changed-vs-winnetonka-home/
LOCATION:Excelsior Springs High School  Gym
END:VEVENT
BEGIN:VEVENT
DTSTART;TZID=UTC:20260110T010000
DTEND;TZID=UTC:20260110T023000
DTSTAMP:20260421T110002
CREATED:20260106T223113Z
LAST-MODIFIED:20260109T022159Z
UID:10002742-1768006800-1768012200@events.excelsiorcitizen.com
SUMMARY:Basketball: Boys Varsity  vs. Winnetonka (Home)
DESCRIPTION:Type: Game  Opponent: Winnetonka
URL:https://events.excelsiorcitizen.com/event/basketball-boys-varsity-vs-winnetonka-home/
LOCATION:Excelsior Springs High School  Gym
END:VEVENT
BEGIN:VEVENT
DTSTART;TZID=America/Chicago:20260110T100000
DTEND;TZID=America/Chicago:20260110T110000
DTSTAMP:20260421T110002
CREATED:20251203T000142Z
LAST-MODIFIED:20260105T160036Z
UID:10002568-1768039200-1768042800@events.excelsiorcitizen.com
SUMMARY:Family Workout
DESCRIPTION:Free for everyone! \nJoin Kalyn for a fun\, family-friendly workout filled with games\, movement\, and quality time together!\nIn the gymnasium\nSponsored by
URL:https://events.excelsiorcitizen.com/event/family-workout/
LOCATION:Excelsior Springs Community Center\, 500 Tiger Dr\, Excelsior Springs\, MO\, United States
GEO:39.349002;-94.244358
X-APPLE-STRUCTURED-LOCATION;VALUE=URI;X-ADDRESS=Excelsior Springs Community Center 500 Tiger Dr Excelsior Springs MO United States;X-APPLE-RADIUS=500;X-TITLE=500 Tiger Dr:geo:-94.244358,39.349002
END:VEVENT
BEGIN:VEVENT
DTSTART;TZID=America/Chicago:20260110T140000
DTEND;TZID=America/Chicago:20260110T160000
DTSTAMP:20260421T110002
CREATED:20260112T051438Z
LAST-MODIFIED:20260112T051438Z
UID:10002791-1768053600-1768060800@events.excelsiorcitizen.com
SUMMARY:Live Music – Kierra Rae at Fence Stile Vineyards
DESCRIPTION:Enjoy Free Live Music!
URL:https://events.excelsiorcitizen.com/event/live-music-kierra-rae-at-fence-stile-vineyards/
LOCATION:Fence Stile Vineyards and Winery\, 31010 W 124th St\, Excelsior Springs\, MO\, 64024\, United States
END:VEVENT
BEGIN:VEVENT
DTSTART;TZID=UTC:20260110T150000
DTEND;TZID=UTC:20260110T220000
DTSTAMP:20260421T110002
CREATED:20251120T184558Z
LAST-MODIFIED:20260110T023118Z
UID:10002352-1768057200-1768082400@events.excelsiorcitizen.com
SUMMARY:Wrestling: Boys JV  vs. Kearney (Away)
DESCRIPTION:Type: Tournament  Opponent: Kearney
URL:https://events.excelsiorcitizen.com/event/wrestling-boys-jv-vs-kearney-away/
LOCATION:Kearney High School
END:VEVENT
BEGIN:VEVENT
DTSTART;TZID=UTC:20260110T150000
DTEND;TZID=UTC:20260110T220000
DTSTAMP:20260421T110002
CREATED:20251120T184558Z
LAST-MODIFIED:20260110T023119Z
UID:10002353-1768057200-1768082400@events.excelsiorcitizen.com
SUMMARY:Wrestling: Boys Varsity  vs. CenterGrain ValleyKearneyLathropLawsonLee's Summit WestMaysvilleOlathe SouthPleasant HillWarrensburg'>Multiple Schools (Home)
DESCRIPTION:Type: Tournament  Opponent: CenterGrain ValleyKearneyLathropLawsonLee’s Summit WestMaysvilleOlathe SouthPleasant HillWarrensburg’>Multiple Schools
URL:https://events.excelsiorcitizen.com/event/wrestling-boys-varsity-vs-grain-valleykearneylathroplawsonlees-summit-westmaysvilleolathe-southpleasant-hillwarrensburgmultiple-schools-home/
LOCATION:Excelsior Springs High School  Gym
END:VEVENT
BEGIN:VEVENT
DTSTART;TZID=America/Chicago:20260110T160000
DTEND;TZID=America/Chicago:20260110T180000
DTSTAMP:20260421T110002
CREATED:20260112T051638Z
LAST-MODIFIED:20260112T051638Z
UID:10002832-1768060800-1768068000@events.excelsiorcitizen.com
SUMMARY:Vision Board Party 2026!
DESCRIPTION:This is just a fun way to meet new friends and create a vision for what you want your 2026 to look like! If you’ve never created a vision board before\, it’s easy! Just get together ideas\, vacations\, manifestations\, etc that you want your life to look like and put them all together on a cute board to look at everyday.\nDoing this gives you goals to work towards and brings your desires to life! If you see it everyday\, its bound to come true! This is our second vision board party. Last year it was a hit! We will be doing one every year in January! \nTickets are $17! Get them HERE – https://www.solanaonbroadway.com/…/vision-board-party-2026 \nHere’s what you’ll get:\nPoster Board\nScissors\nTape\nStickers\nMagazines\nLight Refreshments \nIf you have anything you’d like to add to your board (photos off the web\, trinkets\, special pictures\, etc.)\, bring it with you!\nBYOB if you’d like!\nCheers to a fabulous 2026!
URL:https://events.excelsiorcitizen.com/event/vision-board-party-2026-2/
LOCATION:Solana On Broadway
END:VEVENT
BEGIN:VEVENT
DTSTART;TZID=UTC:20260110T200000
DTEND;TZID=UTC:20260110T220000
DTSTAMP:20260421T110002
CREATED:20260103T010035Z
LAST-MODIFIED:20260110T024725Z
UID:10002599-1768075200-1768082400@events.excelsiorcitizen.com
SUMMARY:Live Music - Kierra Rae
DESCRIPTION:Enjoy Free Live Music!\nhttps://www.facebook.com/events/1104503838304896/
URL:https://events.excelsiorcitizen.com/event/live-music-kierra-rae/
LOCATION:31010 W 124th St\, 10580 Mo O Hwy\, Excelsior Springs\, MO\, United States
ORGANIZER;CN="Fence Stile Vineyards%2C Winery &amp%3B Distillery":MAILTO:noreply@facebookmail.com
GEO:39.287005;-94.174309
X-APPLE-STRUCTURED-LOCATION;VALUE=URI;X-ADDRESS=31010 W 124th St 10580 Mo O Hwy Excelsior Springs MO United States;X-APPLE-RADIUS=500;X-TITLE=10580 Mo O Hwy:geo:-94.174309,39.287005
END:VEVENT
BEGIN:VEVENT
DTSTART;TZID=UTC:20260110T220000
DTEND;TZID=UTC:20260111T000000
DTSTAMP:20260421T110002
CREATED:20260103T010035Z
LAST-MODIFIED:20260110T024725Z
UID:10002598-1768082400-1768089600@events.excelsiorcitizen.com
SUMMARY:Vision Board Party 2026!
DESCRIPTION:This is just a fun way to meet new friends and create a vision for what you want your 2026 to look like! If you’ve never created a vision board before\, it’s easy! Just get together ideas\, vacations\, manifestations\, etc that you want your life to look like and put them all together on a cute board to look at everyday. Doing this gives you goals to work towards and brings your desires to life! If you see it everyday\, its bound to come true! This is our second vision board party. Last year it was a hit! We will be doing one every year in January!\nTickets are $17! Get them HERE – https://www.solanaonbroadway.com/event-details/vision-board-party-2026\nHere’s what you’ll get:\nPoster Board\nScissors\nTape\nStickers\nMagazines\nLight Refreshments\nIf you have anything you’d like to add to your board (photos off the web\, trinkets\, special pictures\, etc.)\, bring it with you!\nBYOB if you’d like!\nCheers to a fabulous 2026!\nhttps://www.facebook.com/events/852188447508196/
URL:https://events.excelsiorcitizen.com/event/vision-board-party-2026/
LOCATION:120 E Broadway\, 10580 Mo O Hwy\, Excelsior Springs\, MO\, United States
ORGANIZER;CN="Solana On Broadway":MAILTO:noreply@facebookmail.com
GEO:39.287005;-94.174309
X-APPLE-STRUCTURED-LOCATION;VALUE=URI;X-ADDRESS=120 E Broadway 10580 Mo O Hwy Excelsior Springs MO United States;X-APPLE-RADIUS=500;X-TITLE=10580 Mo O Hwy:geo:-94.174309,39.287005
END:VEVENT
END:VCALENDAR