BEGIN:VCALENDAR
VERSION:2.0
PRODID:-// - ECPv6.15.20//NONSGML v1.0//EN
CALSCALE:GREGORIAN
METHOD:PUBLISH
X-ORIGINAL-URL:https://events.excelsiorcitizen.com
X-WR-CALDESC:Events for 
REFRESH-INTERVAL;VALUE=DURATION:PT1H
X-Robots-Tag:noindex
X-PUBLISHED-TTL:PT1H
BEGIN:VTIMEZONE
TZID:UTC
BEGIN:STANDARD
TZOFFSETFROM:+0000
TZOFFSETTO:+0000
TZNAME:UTC
DTSTART:20240101T000000
END:STANDARD
END:VTIMEZONE
BEGIN:VTIMEZONE
TZID:America/Chicago
BEGIN:DAYLIGHT
TZOFFSETFROM:-0600
TZOFFSETTO:-0500
TZNAME:CDT
DTSTART:20240310T080000
END:DAYLIGHT
BEGIN:STANDARD
TZOFFSETFROM:-0500
TZOFFSETTO:-0600
TZNAME:CST
DTSTART:20241103T070000
END:STANDARD
BEGIN:DAYLIGHT
TZOFFSETFROM:-0600
TZOFFSETTO:-0500
TZNAME:CDT
DTSTART:20250309T080000
END:DAYLIGHT
BEGIN:STANDARD
TZOFFSETFROM:-0500
TZOFFSETTO:-0600
TZNAME:CST
DTSTART:20251102T070000
END:STANDARD
BEGIN:DAYLIGHT
TZOFFSETFROM:-0600
TZOFFSETTO:-0500
TZNAME:CDT
DTSTART:20260308T080000
END:DAYLIGHT
BEGIN:STANDARD
TZOFFSETFROM:-0500
TZOFFSETTO:-0600
TZNAME:CST
DTSTART:20261101T070000
END:STANDARD
END:VTIMEZONE
BEGIN:VEVENT
DTSTART;VALUE=DATE:20251224
DTEND;VALUE=DATE:20251226
DTSTAMP:20260421T041206
CREATED:20251120T183101Z
LAST-MODIFIED:20251204T183135Z
UID:10002062-1766541600-1766627999@events.excelsiorcitizen.com
SUMMARY:Christmas Eve
DESCRIPTION:Observance\nTo hide observances\, go to Google Calendar Settings > Holidays in United States
URL:https://events.excelsiorcitizen.com/event/christmas-eve/
LOCATION:MO
END:VEVENT
BEGIN:VEVENT
DTSTART;TZID=UTC:20251224T133000
DTEND;TZID=UTC:20251224T203000
DTSTAMP:20260421T041206
CREATED:20251120T184454Z
LAST-MODIFIED:20251205T233306Z
UID:10002317-1766583000-1766608200@events.excelsiorcitizen.com
SUMMARY:Special Events-ESHS  (Home)
DESCRIPTION:Comments: No School. Winter Break
URL:https://events.excelsiorcitizen.com/event/special-events-eshs-home-18/
LOCATION:MO
END:VEVENT
BEGIN:VEVENT
DTSTART;TZID=America/Chicago:20251224T180000
DTEND;TZID=America/Chicago:20251224T190000
DTSTAMP:20260421T041206
CREATED:20260112T051454Z
LAST-MODIFIED:20260112T051454Z
UID:10002799-1766599200-1766602800@events.excelsiorcitizen.com
SUMMARY:Christmas Eve Service at Pisgah Baptist Church
DESCRIPTION:Christmas Eve Service \nJoin us for a meaningful time of worship\, communion\, and the hope of the gospel as we celebrate the birth of Jesus. \nBring your family\, invite a friend\, and celebrate Christmas Eve with us! We’re looking forward to worshiping with you!
URL:https://events.excelsiorcitizen.com/event/christmas-eve-service-at-pisgah-baptist-church/
LOCATION:MO
END:VEVENT
BEGIN:VEVENT
DTSTART;TZID=America/Chicago:20251224T180000
DTEND;TZID=America/Chicago:20251224T190000
DTSTAMP:20260421T041206
CREATED:20260112T051608Z
LAST-MODIFIED:20260112T051608Z
UID:10002821-1766599200-1766602800@events.excelsiorcitizen.com
SUMMARY:Christmas Eve Candlelight Service – Mount Calvary Lutheran Church
DESCRIPTION:Please join us for our Christmas Eve Candlelight Service at 6pm1215 Baldwin St\, Excelsior Springs\n816-637-9800\nmtcalvarylutheran.org
URL:https://events.excelsiorcitizen.com/event/christmas-eve-candlelight-service-mount-calvary-lutheran-church/
LOCATION:MO
END:VEVENT
BEGIN:VEVENT
DTSTART;TZID=UTC:20251225T003000
DTEND;TZID=UTC:20251225T013000
DTSTAMP:20260421T041206
CREATED:20251120T184247Z
LAST-MODIFIED:20251205T234639Z
UID:10002250-1766622600-1766626200@events.excelsiorcitizen.com
SUMMARY:Mid-week Recharge Yoga
DESCRIPTION:Every month we focus on a theme and introduce a new sequence. The sequences build on each other but you can jump in at any time.\n*Women Only* / $15 per class\nPlease message me if you have any questions.\nhttps://www.facebook.com/events/694079926648960/?event_time_id=694079943315625
URL:https://events.excelsiorcitizen.com/event/mid-week-recharge-yoga-6/
LOCATION:the Empowerment Studio LLC
ORGANIZER;CN="Healthy Dragon Wellness":MAILTO:noreply@facebookmail.com
END:VEVENT
END:VCALENDAR