BEGIN:VCALENDAR
VERSION:2.0
PRODID:-// - ECPv6.15.20//NONSGML v1.0//EN
CALSCALE:GREGORIAN
METHOD:PUBLISH
X-ORIGINAL-URL:https://events.excelsiorcitizen.com
X-WR-CALDESC:Events for 
REFRESH-INTERVAL;VALUE=DURATION:PT1H
X-Robots-Tag:noindex
X-PUBLISHED-TTL:PT1H
BEGIN:VTIMEZONE
TZID:UTC
BEGIN:STANDARD
TZOFFSETFROM:+0000
TZOFFSETTO:+0000
TZNAME:UTC
DTSTART:20240101T000000
END:STANDARD
END:VTIMEZONE
BEGIN:VTIMEZONE
TZID:America/Chicago
BEGIN:DAYLIGHT
TZOFFSETFROM:-0600
TZOFFSETTO:-0500
TZNAME:CDT
DTSTART:20240310T080000
END:DAYLIGHT
BEGIN:STANDARD
TZOFFSETFROM:-0500
TZOFFSETTO:-0600
TZNAME:CST
DTSTART:20241103T070000
END:STANDARD
BEGIN:DAYLIGHT
TZOFFSETFROM:-0600
TZOFFSETTO:-0500
TZNAME:CDT
DTSTART:20250309T080000
END:DAYLIGHT
BEGIN:STANDARD
TZOFFSETFROM:-0500
TZOFFSETTO:-0600
TZNAME:CST
DTSTART:20251102T070000
END:STANDARD
BEGIN:DAYLIGHT
TZOFFSETFROM:-0600
TZOFFSETTO:-0500
TZNAME:CDT
DTSTART:20260308T080000
END:DAYLIGHT
BEGIN:STANDARD
TZOFFSETFROM:-0500
TZOFFSETTO:-0600
TZNAME:CST
DTSTART:20261101T070000
END:STANDARD
END:VTIMEZONE
BEGIN:VEVENT
DTSTART;TZID=UTC:20251122T233000
DTEND;TZID=UTC:20251206T233000
DTSTAMP:20260421T030906
CREATED:20251120T184200Z
LAST-MODIFIED:20251203T231545Z
UID:10002205-1763854200-1765063800@events.excelsiorcitizen.com
SUMMARY:“Jingle & Mingle at The Elms” A Christmas Pop-Up Bar | Weekends through January 3rd
DESCRIPTION:Step into a winter wonderland this December at The Tavern at The Elms Hotel & Spa as it transforms into Jingle & Mingle at The Elms\, a festive Christmas pop-up bar bursting with holiday cheer!\nNovember 22nd through January 3rd\, every Thursday through Sunday from 5:30PM–11PM\, immerse yourself in twinkling lights\, over-the-top décor\, and holly jolly specialty cocktails that sparkle with Christmas magic. From winter martinis to gingerbread lattes\, every sip will put you on the nice list.\nTickets are $30 per person for a 75-minute reservation\, with $20 of your ticket price applied directly toward food & beverage purchases.\nGather your friends\, wear your tackiest holiday sweater\, and toast to the season surrounded by the most festive vibes in town. Spaces are limited\, and tickets are required—don’t miss your chance to experience the magic of the Holiday at The Elms!\nhttps://www.facebook.com/events/619908450943308/
URL:https://events.excelsiorcitizen.com/event/jingle-mingle-at-the-elms-a-christmas-pop-up-bar-weekends-through-january-3rd/
LOCATION:401 Regent St\, 10580 Mo O Hwy\, Excelsior Springs\, MO\, United States
ORGANIZER;CN="The Elms Hotel &amp%3B Spa":MAILTO:noreply@facebookmail.com
GEO:39.287005;-94.174309
X-APPLE-STRUCTURED-LOCATION;VALUE=URI;X-ADDRESS=401 Regent St 10580 Mo O Hwy Excelsior Springs MO United States;X-APPLE-RADIUS=500;X-TITLE=10580 Mo O Hwy:geo:-94.174309,39.287005
END:VEVENT
BEGIN:VEVENT
DTSTART;TZID=UTC:20251128T230000
DTEND;TZID=UTC:20251129T030000
DTSTAMP:20260421T030906
CREATED:20251124T203047Z
LAST-MODIFIED:20251128T214614Z
UID:10002517-1764370800-1764385200@events.excelsiorcitizen.com
SUMMARY:Fence Stile Igloos- Vineyards under the Stars
DESCRIPTION:Get ready to experience the magic of the vineyards under the stars in cozy igloos at Fence Stile Vineyards!\nhttps://www.facebook.com/events/698599336635011/
URL:https://events.excelsiorcitizen.com/event/fence-stile-igloos-vineyards-under-the-stars-2/
LOCATION:Fence Stile Vineyards\, Winery & Distillery
ORGANIZER;CN="Fence Stile Vineyards%2C Winery &amp%3B Distillery":MAILTO:noreply@facebookmail.com
END:VEVENT
BEGIN:VEVENT
DTSTART;TZID=America/Chicago:20251129T100000
DTEND;TZID=America/Chicago:20251129T170000
DTSTAMP:20260421T030906
CREATED:20260112T051938Z
LAST-MODIFIED:20260112T051938Z
UID:10002887-1764410400-1764435600@events.excelsiorcitizen.com
SUMMARY:Small Business Saturday at Heartland Quilt Supply Co.
DESCRIPTION:Join us in celebrating Small Business Saturday at Heartland Quilt Supply Co. in the heart of historic downtown Excelsior Springs!Spend some time surrounded by color\, creativity\, and community as we show our appreciation for your support of small\, local businesses. Grab some gift cards\, gifts for others and perhaps a gift for yourself! Saturday\, November 29\, 2025 Heartland Quilt Supply Co.\, 216 S Marietta St.\, Excelsior Springs\, MO 10 AM – 5 PM\nHere’s what’s happening:\n Shop Small Specials – Exclusive one-day discounts on your favorite fabrics\, notions\, and quilting kits.\n Free Gift with Purchase – Spend $50+ and receive a reusable tote from one of our favorite brands like Brother\, Innova\, Moda\, Art Gallery Fabrics\, Tilda\, Shop Small bag from American Express and more
URL:https://events.excelsiorcitizen.com/event/small-business-saturday-at-heartland-quilt-supply-co-2/
LOCATION:MO
END:VEVENT
BEGIN:VEVENT
DTSTART;TZID=America/Chicago:20251129T120000
DTEND;TZID=America/Chicago:20251129T163000
DTSTAMP:20260421T030906
CREATED:20260112T051853Z
LAST-MODIFIED:20260112T051853Z
UID:10002873-1764417600-1764433800@events.excelsiorcitizen.com
SUMMARY:Permanent Jewelry Pop-Up at Fence Stile Winery
DESCRIPTION:Come spend an afternoon at Fence Stile Winery with live music from 2-4pm\, delicious wines & a beautiful permanent jewelry pop-up with Evelyn’s Permanent Jewelry!Evelyn’s offers fine jewelry that’s custom-fit and welded to last\, adding a touch of of effortless style you’ll never want to take off. \nSip\, shop & treat yourself to a custom piece of jewelry that complements any #OOTD. Bring your family and friends and make an afternoon of it!
URL:https://events.excelsiorcitizen.com/event/permanent-jewelry-pop-up-at-fence-stile-winery-2/
LOCATION:Fence Stile Vineyards and Winery\, 31010 W 124th St\, Excelsior Springs\, MO\, 64024\, United States
END:VEVENT
BEGIN:VEVENT
DTSTART;TZID=America/Chicago:20251129T130000
DTEND;TZID=America/Chicago:20251129T150000
DTSTAMP:20260421T030906
CREATED:20260112T051952Z
LAST-MODIFIED:20260112T051952Z
UID:10002891-1764421200-1764428400@events.excelsiorcitizen.com
SUMMARY:Small Business Saturday with Santa and Mrs Claus
DESCRIPTION:Small Business Saturday with Santa \nSaturday\, November 29\, 2025 • 1:00pm-3:00pm \nReserve your spot now to enjoy a hayride\, photos with Santa and Mrs. Claus\, hot cocoa or cider bar\, and s’mores that will make for a magical afternoon that will be remembered forever!\nSign Up: https://shamrockhillsvineyard.com/small-business-saturday/
URL:https://events.excelsiorcitizen.com/event/small-business-saturday-with-santa-and-mrs-claus/
LOCATION:MO
END:VEVENT
BEGIN:VEVENT
DTSTART;TZID=UTC:20251129T160000
DTEND;TZID=UTC:20251129T230000
DTSTAMP:20260421T030906
CREATED:20251120T184222Z
LAST-MODIFIED:20251129T223037Z
UID:10002223-1764432000-1764457200@events.excelsiorcitizen.com
SUMMARY:Small Business Saturday at Heartland Quilt Supply Co.
DESCRIPTION:Join us in celebrating Small Business Saturday at Heartland Quilt Supply Co. in the heart of historic downtown Excelsior Springs!\nSpend some time surrounded by color\, creativity\, and community as we show our appreciation for your support of small\, local businesses. Grab some gift cards\, gifts for others and perhaps a gift for yourself!\n🗓 Saturday\, November 29\, 2025\n📍 Heartland Quilt Supply Co.\, 216 S Marietta St.\, Excelsior Springs\, MO\n🕰 10 AM – 5 PM\nHere’s what’s happening:\n🎁 Shop Small Specials – Exclusive one-day discounts on your favorite fabrics\, notions\, and quilting kits.\n💝 Free Gift with Purchase – Spend $50+ and receive a reusable tote from one of our favorite brands like Brother\, Innova\, Moda\, Art Gallery Fabrics\, Tilda\, Shop Small bag from American Express and more\nhttps://www.facebook.com/events/1193694249306301/
URL:https://events.excelsiorcitizen.com/event/small-business-saturday-at-heartland-quilt-supply-co/
LOCATION:216 S Marietta St\, 10580 Mo O Hwy\, Excelsior Springs\, MO\, United States
ORGANIZER;CN="Heartland Quilt Supply Co.":MAILTO:noreply@facebookmail.com
GEO:39.287005;-94.174309
X-APPLE-STRUCTURED-LOCATION;VALUE=URI;X-ADDRESS=216 S Marietta St 10580 Mo O Hwy Excelsior Springs MO United States;X-APPLE-RADIUS=500;X-TITLE=10580 Mo O Hwy:geo:-94.174309,39.287005
END:VEVENT
BEGIN:VEVENT
DTSTART;TZID=America/Chicago:20251129T170000
DTEND;TZID=America/Chicago:20251129T183000
DTSTAMP:20260421T030906
CREATED:20260112T051739Z
LAST-MODIFIED:20260112T051739Z
UID:10002854-1764435600-1764441000@events.excelsiorcitizen.com
SUMMARY:Fence Stile Igloos – Vineyards Under the Stars
DESCRIPTION:Get ready to experience the magic of the vineyards under the stars in cozy igloos at Fence Stile Vineyards!Click here for ticket info!
URL:https://events.excelsiorcitizen.com/event/fence-stile-igloos-vineyards-under-the-stars-7/
LOCATION:Fence Stile Vineyards and Winery\, 31010 W 124th St\, Excelsior Springs\, MO\, 64024\, United States
END:VEVENT
BEGIN:VEVENT
DTSTART;TZID=UTC:20251129T180000
DTEND;TZID=UTC:20251129T223000
DTSTAMP:20260421T030906
CREATED:20251120T184222Z
LAST-MODIFIED:20251128T214616Z
UID:10002224-1764439200-1764455400@events.excelsiorcitizen.com
SUMMARY:Permanent Jewelry Pop-Up at Fence Stile Winery
DESCRIPTION:Come spend an afternoon at Fence Stile Winery with live music from 2-4pm\, delicious wines & a beautiful permanent jewelry pop-up with Evelyn’s Permanent Jewelry!\nEvelyn’s offers fine jewelry that’s custom-fit and welded to last\, adding a touch of of effortless style you’ll never want to take off.\nSip\, shop & treat yourself to a custom piece of jewelry that complements any #OOTD. Bring your family and friends and make an afternoon of it!\nhttps://www.facebook.com/events/1938108343431609/
URL:https://events.excelsiorcitizen.com/event/permanent-jewelry-pop-up-at-fence-stile-winery/
LOCATION:Fence Stile Vineyards\, Winery & Distillery
ORGANIZER;CN="Evelyn's Permanent Jewelry":MAILTO:noreply@facebookmail.com
END:VEVENT
BEGIN:VEVENT
DTSTART;TZID=UTC:20251129T230000
DTEND;TZID=UTC:20251130T003000
DTSTAMP:20260421T030906
CREATED:20251124T203108Z
LAST-MODIFIED:20251129T223037Z
UID:10002518-1764457200-1764462600@events.excelsiorcitizen.com
SUMMARY:Fence Stile Igloos- Vineyards under the Stars
DESCRIPTION:Get ready to experience the magic of the vineyards under the stars in cozy igloos at Fence Stile Vineyards!\nhttps://www.facebook.com/events/25522013510736483/
URL:https://events.excelsiorcitizen.com/event/fence-stile-igloos-vineyards-under-the-stars-3/
LOCATION:Fence Stile Vineyards\, Winery & Distillery
ORGANIZER;CN="Fence Stile Vineyards%2C Winery &amp%3B Distillery":MAILTO:noreply@facebookmail.com
END:VEVENT
END:VCALENDAR