BEGIN:VCALENDAR
VERSION:2.0
PRODID:-// - ECPv6.15.20//NONSGML v1.0//EN
CALSCALE:GREGORIAN
METHOD:PUBLISH
X-ORIGINAL-URL:https://events.excelsiorcitizen.com
X-WR-CALDESC:Events for 
REFRESH-INTERVAL;VALUE=DURATION:PT1H
X-Robots-Tag:noindex
X-PUBLISHED-TTL:PT1H
BEGIN:VTIMEZONE
TZID:UTC
BEGIN:STANDARD
TZOFFSETFROM:+0000
TZOFFSETTO:+0000
TZNAME:UTC
DTSTART:20240101T000000
END:STANDARD
END:VTIMEZONE
BEGIN:VTIMEZONE
TZID:America/Chicago
BEGIN:DAYLIGHT
TZOFFSETFROM:-0600
TZOFFSETTO:-0500
TZNAME:CDT
DTSTART:20240310T080000
END:DAYLIGHT
BEGIN:STANDARD
TZOFFSETFROM:-0500
TZOFFSETTO:-0600
TZNAME:CST
DTSTART:20241103T070000
END:STANDARD
BEGIN:DAYLIGHT
TZOFFSETFROM:-0600
TZOFFSETTO:-0500
TZNAME:CDT
DTSTART:20250309T080000
END:DAYLIGHT
BEGIN:STANDARD
TZOFFSETFROM:-0500
TZOFFSETTO:-0600
TZNAME:CST
DTSTART:20251102T070000
END:STANDARD
BEGIN:DAYLIGHT
TZOFFSETFROM:-0600
TZOFFSETTO:-0500
TZNAME:CDT
DTSTART:20260308T080000
END:DAYLIGHT
BEGIN:STANDARD
TZOFFSETFROM:-0500
TZOFFSETTO:-0600
TZNAME:CST
DTSTART:20261101T070000
END:STANDARD
END:VTIMEZONE
BEGIN:VEVENT
DTSTART;TZID=UTC:20251122T233000
DTEND;TZID=UTC:20251206T233000
DTSTAMP:20260421T172633
CREATED:20251120T184200Z
LAST-MODIFIED:20251203T231545Z
UID:10002205-1763854200-1765063800@events.excelsiorcitizen.com
SUMMARY:“Jingle & Mingle at The Elms” A Christmas Pop-Up Bar | Weekends through January 3rd
DESCRIPTION:Step into a winter wonderland this December at The Tavern at The Elms Hotel & Spa as it transforms into Jingle & Mingle at The Elms\, a festive Christmas pop-up bar bursting with holiday cheer!\nNovember 22nd through January 3rd\, every Thursday through Sunday from 5:30PM–11PM\, immerse yourself in twinkling lights\, over-the-top décor\, and holly jolly specialty cocktails that sparkle with Christmas magic. From winter martinis to gingerbread lattes\, every sip will put you on the nice list.\nTickets are $30 per person for a 75-minute reservation\, with $20 of your ticket price applied directly toward food & beverage purchases.\nGather your friends\, wear your tackiest holiday sweater\, and toast to the season surrounded by the most festive vibes in town. Spaces are limited\, and tickets are required—don’t miss your chance to experience the magic of the Holiday at The Elms!\nhttps://www.facebook.com/events/619908450943308/
URL:https://events.excelsiorcitizen.com/event/jingle-mingle-at-the-elms-a-christmas-pop-up-bar-weekends-through-january-3rd/
LOCATION:401 Regent St\, 10580 Mo O Hwy\, Excelsior Springs\, MO\, United States
ORGANIZER;CN="The Elms Hotel &amp%3B Spa":MAILTO:noreply@facebookmail.com
GEO:39.287005;-94.174309
X-APPLE-STRUCTURED-LOCATION;VALUE=URI;X-ADDRESS=401 Regent St 10580 Mo O Hwy Excelsior Springs MO United States;X-APPLE-RADIUS=500;X-TITLE=10580 Mo O Hwy:geo:-94.174309,39.287005
END:VEVENT
BEGIN:VEVENT
DTSTART;VALUE=DATE:20251128
DTEND;VALUE=DATE:20251130
DTSTAMP:20260421T172633
CREATED:20251120T183101Z
LAST-MODIFIED:20251127T183126Z
UID:10002060-1764295200-1764381599@events.excelsiorcitizen.com
SUMMARY:Black Friday
DESCRIPTION:Observance\nTo hide observances\, go to Google Calendar Settings > Holidays in United States
URL:https://events.excelsiorcitizen.com/event/black-friday/
LOCATION:MO
END:VEVENT
BEGIN:VEVENT
DTSTART;TZID=America/Chicago:20251128T080000
DTEND;TZID=America/Chicago:20251128T100000
DTSTAMP:20260421T172633
CREATED:20251120T224741Z
LAST-MODIFIED:20260112T051852Z
UID:10002495-1764316800-1764324000@events.excelsiorcitizen.com
SUMMARY:Turkey Blaster
DESCRIPTION:Annual Turkey Blaster – Black Friday! \nBurn off those Thanksgiving calories with our fun\, free Group-X class sampler! Open to everyone\, no membership needed! \nClass Lineup:8:00 AM – Total Body Bands with Kalyn8:30 AM – Body Pump with Lauren9:00 AM – Zumba with Pam V. and Theresa9:30 AM – Mindful Movement & Meditation with Nicole \nCome for one or stay for them all. Let’s move\, sweat\, and start the holiday weekend strong!
URL:https://events.excelsiorcitizen.com/event/turkey-blaster-4/
LOCATION:Excelsior Springs Community Center\, 500 Tiger Dr\, Excelsior Springs\, MO\, United States
GEO:39.349002;-94.244358
X-APPLE-STRUCTURED-LOCATION;VALUE=URI;X-ADDRESS=Excelsior Springs Community Center 500 Tiger Dr Excelsior Springs MO United States;X-APPLE-RADIUS=500;X-TITLE=500 Tiger Dr:geo:-94.244358,39.349002
END:VEVENT
BEGIN:VEVENT
DTSTART;TZID=America/Chicago:20251128T090000
DTEND;TZID=America/Chicago:20251128T100000
DTSTAMP:20260421T172633
CREATED:20251121T230038Z
LAST-MODIFIED:20260112T051754Z
UID:10002513-1764320400-1764324000@events.excelsiorcitizen.com
SUMMARY:Black Friday Aqua Pop-Up
DESCRIPTION:Make a splash this Black Friday! Join us for a FREE Aqua Pop-Up with Debbie on Friday\, November 28th at 9 AM at the Excelsior Springs Community Center (500 Tiger Drive). \nThis fun\, low-impact workout is the perfect way to get active after Thanksgiving. Whether you’re a member or not\, everyone is welcome to jump in and enjoy a refreshing\, energizing morning in the pool! \nGrab a friend\, bring your holiday cheer\, and kick off your weekend with movement\, laughter\, and a whole lot of water fun. \nWe can’t wait to see you there!
URL:https://events.excelsiorcitizen.com/event/black-friday-aqua-pop-up/
LOCATION:Excelsior Springs Community Center\, 500 Tiger Dr\, Excelsior Springs\, MO\, United States
GEO:39.349002;-94.244358
X-APPLE-STRUCTURED-LOCATION;VALUE=URI;X-ADDRESS=Excelsior Springs Community Center 500 Tiger Dr Excelsior Springs MO United States;X-APPLE-RADIUS=500;X-TITLE=500 Tiger Dr:geo:-94.244358,39.349002
END:VEVENT
BEGIN:VEVENT
DTSTART;TZID=America/Chicago:20251128T110000
DTEND;TZID=America/Chicago:20251128T120000
DTSTAMP:20260421T172633
CREATED:20251120T224742Z
LAST-MODIFIED:20251127T231540Z
UID:10002496-1764327600-1764331200@events.excelsiorcitizen.com
SUMMARY:Black Friday U.S. Masters Swim
DESCRIPTION:For Ages 18 years and older\n$5 Drop-in pass for Non-Masters Members
URL:https://events.excelsiorcitizen.com/event/black-friday-u-s-masters-swim/
LOCATION:Excelsior Springs Community Center\, 500 Tiger Dr\, Excelsior Springs\, MO\, United States
GEO:39.349002;-94.244358
X-APPLE-STRUCTURED-LOCATION;VALUE=URI;X-ADDRESS=Excelsior Springs Community Center 500 Tiger Dr Excelsior Springs MO United States;X-APPLE-RADIUS=500;X-TITLE=500 Tiger Dr:geo:-94.244358,39.349002
END:VEVENT
BEGIN:VEVENT
DTSTART;TZID=UTC:20251128T133000
DTEND;TZID=UTC:20251128T203000
DTSTAMP:20260421T172633
CREATED:20251120T184044Z
LAST-MODIFIED:20251127T213035Z
UID:10002159-1764336600-1764361800@events.excelsiorcitizen.com
SUMMARY:Special Events-ESHS  (Home)
DESCRIPTION:Comments: No School. Thanksgiving Break
URL:https://events.excelsiorcitizen.com/event/special-events-eshs-home-7/
LOCATION:MO
END:VEVENT
BEGIN:VEVENT
DTSTART;TZID=UTC:20251128T140000
DTEND;TZID=UTC:20251128T160000
DTSTAMP:20260421T172633
CREATED:20251120T184221Z
LAST-MODIFIED:20251127T213605Z
UID:10002222-1764338400-1764345600@events.excelsiorcitizen.com
SUMMARY:Turkey Blaster
DESCRIPTION:🦃 Annual Turkey Blaster – Black Friday! 🦃\nBurn off those Thanksgiving calories with our fun\, free Group-X class sampler! Open to everyone\, no membership needed!\nClass Lineup:\n8:00 AM – Total Body Bands with Kalyn\n8:30 AM – Body Pump with Lauren\n9:00 AM – Zumba with Pam V. and Theresa\n9:30 AM – Mindful Movement & Meditation with Nicole\nCome for one or stay for them all. Let’s move\, sweat\, and start the holiday weekend strong!\nhttps://www.facebook.com/events/1537900033907306/
URL:https://events.excelsiorcitizen.com/event/turkey-blaster-3/
LOCATION:500 Tiger Drive\, 10580 Mo O Hwy\, Excelsior Springs\, MO\, United States
ORGANIZER;CN="Excelsior Springs Community Center":MAILTO:noreply@facebookmail.com
GEO:39.287005;-94.174309
X-APPLE-STRUCTURED-LOCATION;VALUE=URI;X-ADDRESS=500 Tiger Drive 10580 Mo O Hwy Excelsior Springs MO United States;X-APPLE-RADIUS=500;X-TITLE=10580 Mo O Hwy:geo:-94.174309,39.287005
END:VEVENT
BEGIN:VEVENT
DTSTART;TZID=UTC:20251128T150000
DTEND;TZID=UTC:20251128T160000
DTSTAMP:20260421T172633
CREATED:20251124T203046Z
LAST-MODIFIED:20251127T213606Z
UID:10002516-1764342000-1764345600@events.excelsiorcitizen.com
SUMMARY:Black Friday Aqua Pop-Up
DESCRIPTION:Make a splash this Black Friday! 🌊🦃\nJoin us for a FREE Aqua Pop-Up with Debbie on Friday\, November 28th at 9 AM at the Excelsior Springs Community Center (500 Tiger Drive).\nThis fun\, low-impact workout is the perfect way to get active after Thanksgiving. Whether you’re a member or not\, everyone is welcome to jump in and enjoy a refreshing\, energizing morning in the pool!\nGrab a friend\, bring your holiday cheer\, and kick off your weekend with movement\, laughter\, and a whole lot of water fun. 💦✨\nWe can’t wait to see you there!\nhttps://www.facebook.com/events/1186113529545821/
URL:https://events.excelsiorcitizen.com/event/black-friday-aqua-pop-up-2/
LOCATION:500 Tiger Drive\, 10580 Mo O Hwy\, Excelsior Springs\, MO\, United States
ORGANIZER;CN="Excelsior Springs Community Center":MAILTO:noreply@facebookmail.com
GEO:39.287005;-94.174309
X-APPLE-STRUCTURED-LOCATION;VALUE=URI;X-ADDRESS=500 Tiger Drive 10580 Mo O Hwy Excelsior Springs MO United States;X-APPLE-RADIUS=500;X-TITLE=10580 Mo O Hwy:geo:-94.174309,39.287005
END:VEVENT
BEGIN:VEVENT
DTSTART;TZID=America/Chicago:20251128T160000
DTEND;TZID=America/Chicago:20251128T180000
DTSTAMP:20260421T172633
CREATED:20260112T051737Z
LAST-MODIFIED:20260112T051737Z
UID:10002851-1764345600-1764352800@events.excelsiorcitizen.com
SUMMARY:Live Music with Kari King
DESCRIPTION:Join us for an afternoon of live music with Kari King! Enjoy great wines\, beautiful scenery\, and a lively performance that’s perfect for relaxing with friends and family.
URL:https://events.excelsiorcitizen.com/event/live-music-with-kari-king-12/
LOCATION:MO
END:VEVENT
BEGIN:VEVENT
DTSTART;TZID=America/Chicago:20251128T160000
DTEND;TZID=America/Chicago:20251128T200000
DTSTAMP:20260421T172633
CREATED:20260112T052722Z
LAST-MODIFIED:20260112T052722Z
UID:10003040-1764345600-1764360000@events.excelsiorcitizen.com
SUMMARY:The Elms Enchanted Igloos
DESCRIPTION:Step into The Elms Enchanted Igloos — a cozy Christmas escape beneath the twinkling lights this holiday season\, running November 28th through January 10th!\nReserve your igloo for $150 for 2 hours — for 6–8 guests\, with $120 going straight to festive food & drink\, so sip hot cocoa\, share holiday bites\, and toast to the season in style. \nPerfect for gatherings\, romantic date nights\, or celebrating with friends & family. Warmth\, wonder\, and Holiday cheer guaranteed! \nTicket info here!
URL:https://events.excelsiorcitizen.com/event/the-elms-enchanted-igloos-2/
LOCATION:MO
END:VEVENT
BEGIN:VEVENT
DTSTART;TZID=America/Chicago:20251128T170000
DTEND;TZID=America/Chicago:20251128T210000
DTSTAMP:20260421T172633
CREATED:20260112T051738Z
LAST-MODIFIED:20260112T051738Z
UID:10002853-1764349200-1764363600@events.excelsiorcitizen.com
SUMMARY:Fence Stile Igloos – Vineyards Under the Stars
DESCRIPTION:Get ready to experience the magic of the vineyards under the stars in cozy igloos at Fence Stile Vineyards!Click here for tickets!
URL:https://events.excelsiorcitizen.com/event/fence-stile-igloos-vineyards-under-the-stars-6/
LOCATION:Fence Stile Vineyards and Winery\, 31010 W 124th St\, Excelsior Springs\, MO\, 64024\, United States
END:VEVENT
BEGIN:VEVENT
DTSTART;TZID=UTC:20251128T220000
DTEND;TZID=UTC:20251129T010000
DTSTAMP:20260421T172633
CREATED:20251120T184200Z
LAST-MODIFIED:20251128T214614Z
UID:10002204-1764367200-1764378000@events.excelsiorcitizen.com
SUMMARY:The Elms Enchanted Igloos
DESCRIPTION:Step into The Elms Enchanted Igloos — a cozy Christmas escape beneath the twinkling lights this holiday season\, running November 28th through January 10th!\nReserve your igloo for $150 for 2 hours — for 6–8 guests\, with $120 going straight to festive food & drink\, so sip hot cocoa\, share holiday bites\, and toast to the season in style.\nPerfect for gatherings\, romantic date nights\, or celebrating with friends & family. Warmth\, wonder\, and Holiday cheer guaranteed!\nhttps://www.facebook.com/events/1285517276159881/
URL:https://events.excelsiorcitizen.com/event/the-elms-enchanted-igloos/
LOCATION:401 Regent St\, 10580 Mo O Hwy\, Excelsior Springs\, MO\, United States
ORGANIZER;CN="The Elms Hotel &amp%3B Spa":MAILTO:noreply@facebookmail.com
GEO:39.287005;-94.174309
X-APPLE-STRUCTURED-LOCATION;VALUE=URI;X-ADDRESS=401 Regent St 10580 Mo O Hwy Excelsior Springs MO United States;X-APPLE-RADIUS=500;X-TITLE=10580 Mo O Hwy:geo:-94.174309,39.287005
END:VEVENT
BEGIN:VEVENT
DTSTART;TZID=UTC:20251128T230000
DTEND;TZID=UTC:20251129T030000
DTSTAMP:20260421T172633
CREATED:20251124T203047Z
LAST-MODIFIED:20251128T214614Z
UID:10002517-1764370800-1764385200@events.excelsiorcitizen.com
SUMMARY:Fence Stile Igloos- Vineyards under the Stars
DESCRIPTION:Get ready to experience the magic of the vineyards under the stars in cozy igloos at Fence Stile Vineyards!\nhttps://www.facebook.com/events/698599336635011/
URL:https://events.excelsiorcitizen.com/event/fence-stile-igloos-vineyards-under-the-stars-2/
LOCATION:Fence Stile Vineyards\, Winery & Distillery
ORGANIZER;CN="Fence Stile Vineyards%2C Winery &amp%3B Distillery":MAILTO:noreply@facebookmail.com
END:VEVENT
END:VCALENDAR