BEGIN:VCALENDAR
VERSION:2.0
PRODID:-// - ECPv6.15.20//NONSGML v1.0//EN
CALSCALE:GREGORIAN
METHOD:PUBLISH
X-ORIGINAL-URL:https://events.excelsiorcitizen.com
X-WR-CALDESC:Events for 
REFRESH-INTERVAL;VALUE=DURATION:PT1H
X-Robots-Tag:noindex
X-PUBLISHED-TTL:PT1H
BEGIN:VTIMEZONE
TZID:UTC
BEGIN:STANDARD
TZOFFSETFROM:+0000
TZOFFSETTO:+0000
TZNAME:UTC
DTSTART:20240101T000000
END:STANDARD
END:VTIMEZONE
BEGIN:VTIMEZONE
TZID:America/Chicago
BEGIN:DAYLIGHT
TZOFFSETFROM:-0600
TZOFFSETTO:-0500
TZNAME:CDT
DTSTART:20240310T080000
END:DAYLIGHT
BEGIN:STANDARD
TZOFFSETFROM:-0500
TZOFFSETTO:-0600
TZNAME:CST
DTSTART:20241103T070000
END:STANDARD
BEGIN:DAYLIGHT
TZOFFSETFROM:-0600
TZOFFSETTO:-0500
TZNAME:CDT
DTSTART:20250309T080000
END:DAYLIGHT
BEGIN:STANDARD
TZOFFSETFROM:-0500
TZOFFSETTO:-0600
TZNAME:CST
DTSTART:20251102T070000
END:STANDARD
BEGIN:DAYLIGHT
TZOFFSETFROM:-0600
TZOFFSETTO:-0500
TZNAME:CDT
DTSTART:20260308T080000
END:DAYLIGHT
BEGIN:STANDARD
TZOFFSETFROM:-0500
TZOFFSETTO:-0600
TZNAME:CST
DTSTART:20261101T070000
END:STANDARD
END:VTIMEZONE
BEGIN:VEVENT
DTSTART;TZID=UTC:20251122T233000
DTEND;TZID=UTC:20251206T233000
DTSTAMP:20260421T071224
CREATED:20251120T184200Z
LAST-MODIFIED:20251203T231545Z
UID:10002205-1763854200-1765063800@events.excelsiorcitizen.com
SUMMARY:“Jingle & Mingle at The Elms” A Christmas Pop-Up Bar | Weekends through January 3rd
DESCRIPTION:Step into a winter wonderland this December at The Tavern at The Elms Hotel & Spa as it transforms into Jingle & Mingle at The Elms\, a festive Christmas pop-up bar bursting with holiday cheer!\nNovember 22nd through January 3rd\, every Thursday through Sunday from 5:30PM–11PM\, immerse yourself in twinkling lights\, over-the-top décor\, and holly jolly specialty cocktails that sparkle with Christmas magic. From winter martinis to gingerbread lattes\, every sip will put you on the nice list.\nTickets are $30 per person for a 75-minute reservation\, with $20 of your ticket price applied directly toward food & beverage purchases.\nGather your friends\, wear your tackiest holiday sweater\, and toast to the season surrounded by the most festive vibes in town. Spaces are limited\, and tickets are required—don’t miss your chance to experience the magic of the Holiday at The Elms!\nhttps://www.facebook.com/events/619908450943308/
URL:https://events.excelsiorcitizen.com/event/jingle-mingle-at-the-elms-a-christmas-pop-up-bar-weekends-through-january-3rd/
LOCATION:401 Regent St\, 10580 Mo O Hwy\, Excelsior Springs\, MO\, United States
ORGANIZER;CN="The Elms Hotel &amp%3B Spa":MAILTO:noreply@facebookmail.com
GEO:39.287005;-94.174309
X-APPLE-STRUCTURED-LOCATION;VALUE=URI;X-ADDRESS=401 Regent St 10580 Mo O Hwy Excelsior Springs MO United States;X-APPLE-RADIUS=500;X-TITLE=10580 Mo O Hwy:geo:-94.174309,39.287005
END:VEVENT
BEGIN:VEVENT
DTSTART;TZID=UTC:20251127T000000
DTEND;TZID=UTC:20251127T030000
DTSTAMP:20260421T071224
CREATED:20251120T184201Z
LAST-MODIFIED:20251126T212057Z
UID:10002208-1764201600-1764212400@events.excelsiorcitizen.com
SUMMARY:ESYW Annual Black & Gold Intrasquad Dual
DESCRIPTION:Join us as we celebrate the start of our season on Wednesday\, November 26th at 6 pm in the High School Gym!  The ESYW Intra-Squad dual will give our wrestlers a chance to experience a match in action in a controlled setting and allow wrestlers to showcase their skills.\nThe cost for entry is canned or dry food\, which we will give back to our local community and/or personal hygiene products given to the high school Stu-co donation drive.\nOrder of Events:\n5:30 pm – Wrestlers warm-up\n6:00 pm – mini clinic by Tiger Alum officials\n6:15 pm – Wrestlers compete\nhttps://www.facebook.com/events/1904390843445436/
URL:https://events.excelsiorcitizen.com/event/esyw-annual-black-gold-intrasquad-dual/
LOCATION:Excelsior Springs High School\, 612 Tiger Drive\, Excelsior Springs\, MO\, 64024\, United States
ORGANIZER;CN="Alyx Chevalier Schwab":MAILTO:noreply@facebookmail.com
END:VEVENT
BEGIN:VEVENT
DTSTART;VALUE=DATE:20251127
DTEND;VALUE=DATE:20251129
DTSTAMP:20260421T071224
CREATED:20251120T183101Z
LAST-MODIFIED:20251127T183127Z
UID:10002061-1764208800-1764295199@events.excelsiorcitizen.com
SUMMARY:Thanksgiving Day
DESCRIPTION:Public holiday
URL:https://events.excelsiorcitizen.com/event/thanksgiving-day/
LOCATION:MO
END:VEVENT
BEGIN:VEVENT
DTSTART;TZID=America/Chicago:20251127T100000
DTEND;TZID=America/Chicago:20251127T140000
DTSTAMP:20260421T071224
CREATED:20260112T051939Z
LAST-MODIFIED:20260112T051939Z
UID:10002889-1764237600-1764252000@events.excelsiorcitizen.com
SUMMARY:Thanksgiving at The Elms Hotel & Spa
DESCRIPTION:Celebrate Thanksgiving at The Elms Hotel & SpaGather your loved ones and join us for a delicious Thanksgiving feast on Thursday\, November 27\, 2025Enjoy a bountiful buffet served from 10 AM – 2 PM\, featuring traditional favorites like roast turkey\, stuffing\, and mashed potatoes\, along with elevated selections including prime rib\, shrimp\, and salmon.\nOur Thanksgiving buffet is open to both hotel guests and locals\nAdults -$60\nSenior (55+) -$50\nChildren 5-12 -$30\nChildren 4 and Under -Complimentary\nAll prices are subject to tax and 21% service charge\nFor reservations\, reserve online or please call (816) 630-5500\nParties of 11 or more\, please call to make reservations\nhttps://bit.ly/makeareservationhere
URL:https://events.excelsiorcitizen.com/event/thanksgiving-at-the-elms-hotel-spa-2/
LOCATION:MO
END:VEVENT
BEGIN:VEVENT
DTSTART;TZID=UTC:20251127T133000
DTEND;TZID=UTC:20251127T203000
DTSTAMP:20260421T071224
CREATED:20251120T184044Z
LAST-MODIFIED:20251126T211537Z
UID:10002158-1764250200-1764275400@events.excelsiorcitizen.com
SUMMARY:Special Events-ESHS  (Home)
DESCRIPTION:Comments: No School. Thanksgiving Break
URL:https://events.excelsiorcitizen.com/event/special-events-eshs-home-6/
LOCATION:MO
END:VEVENT
BEGIN:VEVENT
DTSTART;TZID=UTC:20251127T160000
DTEND;TZID=UTC:20251127T200000
DTSTAMP:20260421T071224
CREATED:20251120T184220Z
LAST-MODIFIED:20251126T212059Z
UID:10002221-1764259200-1764273600@events.excelsiorcitizen.com
SUMMARY:Thanksgiving at The Elms Hotel & Spa
DESCRIPTION:Celebrate Thanksgiving at The Elms Hotel & Spa\nGather your loved ones and join us for a delicious Thanksgiving feast on Thursday\, November 27\, 2025\nEnjoy a bountiful buffet served from 10 AM – 2 PM\, featuring traditional favorites like roast turkey\, stuffing\, and mashed potatoes\, along with elevated selections including prime rib\, shrimp\, and salmon.\nOur Thanksgiving buffet is open to both hotel guests and locals\nAdults -$60\nSenior (55+) -$50\nChildren 5-12 -$30\nChildren 4 and Under -Complimentary\nAll prices are subject to tax and 21% service charge\nFor reservations\, reserve online or please call (816) 630-5500\nParties of 11 or more\, please call to make reservations\nhttps://bit.ly/makeareservationhere\nhttps://www.facebook.com/events/861773820351290/
URL:https://events.excelsiorcitizen.com/event/thanksgiving-at-the-elms-hotel-spa/
LOCATION:401 Regent St\, 10580 Mo O Hwy\, Excelsior Springs\, MO\, United States
ORGANIZER;CN="The Elms Hotel &amp%3B Spa":MAILTO:noreply@facebookmail.com
GEO:39.287005;-94.174309
X-APPLE-STRUCTURED-LOCATION;VALUE=URI;X-ADDRESS=401 Regent St 10580 Mo O Hwy Excelsior Springs MO United States;X-APPLE-RADIUS=500;X-TITLE=10580 Mo O Hwy:geo:-94.174309,39.287005
END:VEVENT
END:VCALENDAR