BEGIN:VCALENDAR
VERSION:2.0
PRODID:-// - ECPv6.15.20//NONSGML v1.0//EN
CALSCALE:GREGORIAN
METHOD:PUBLISH
X-ORIGINAL-URL:https://events.excelsiorcitizen.com
X-WR-CALDESC:Events for 
REFRESH-INTERVAL;VALUE=DURATION:PT1H
X-Robots-Tag:noindex
X-PUBLISHED-TTL:PT1H
BEGIN:VTIMEZONE
TZID:America/Chicago
BEGIN:DAYLIGHT
TZOFFSETFROM:-0600
TZOFFSETTO:-0500
TZNAME:CDT
DTSTART:20240310T080000
END:DAYLIGHT
BEGIN:STANDARD
TZOFFSETFROM:-0500
TZOFFSETTO:-0600
TZNAME:CST
DTSTART:20241103T070000
END:STANDARD
BEGIN:DAYLIGHT
TZOFFSETFROM:-0600
TZOFFSETTO:-0500
TZNAME:CDT
DTSTART:20250309T080000
END:DAYLIGHT
BEGIN:STANDARD
TZOFFSETFROM:-0500
TZOFFSETTO:-0600
TZNAME:CST
DTSTART:20251102T070000
END:STANDARD
BEGIN:DAYLIGHT
TZOFFSETFROM:-0600
TZOFFSETTO:-0500
TZNAME:CDT
DTSTART:20260308T080000
END:DAYLIGHT
BEGIN:STANDARD
TZOFFSETFROM:-0500
TZOFFSETTO:-0600
TZNAME:CST
DTSTART:20261101T070000
END:STANDARD
END:VTIMEZONE
BEGIN:VTIMEZONE
TZID:UTC
BEGIN:STANDARD
TZOFFSETFROM:+0000
TZOFFSETTO:+0000
TZNAME:UTC
DTSTART:20240101T000000
END:STANDARD
END:VTIMEZONE
BEGIN:VEVENT
DTSTART;TZID=America/Chicago:20251120T113000
DTEND;TZID=America/Chicago:20251120T123000
DTSTAMP:20260421T172757
CREATED:20260112T052039Z
LAST-MODIFIED:20260112T052039Z
UID:10002909-1763638200-1763641800@events.excelsiorcitizen.com
SUMMARY:November Health and Wellness: Medicare 101: What you need to know before you enroll
DESCRIPTION:Medicare can feel complicated\, but we’re here to help you feel more confident. Jessica Marshall\, Revenue Cycle Director\, will lead an informative session designed to equip you with the knowledge you need for Medicare Open Enrollment. We’ll explain the different parts of Medicare and provide helpful information and resources so you can make informed decisions about your healthcare coverage. Everyone is welcome – bring your questions and learn in a relaxed\, friendly setting! \nRegistration is required for senior citizens and/or non-senior lunches by visiting http://es-prcc.com/senior-center
URL:https://events.excelsiorcitizen.com/event/november-health-and-wellness-medicare-101-what-you-need-to-know-before-you-enroll/
LOCATION:Excelsior Springs Community Center\, 500 Tiger Dr\, Excelsior Springs\, MO\, United States
GEO:39.349002;-94.244358
X-APPLE-STRUCTURED-LOCATION;VALUE=URI;X-ADDRESS=Excelsior Springs Community Center 500 Tiger Dr Excelsior Springs MO United States;X-APPLE-RADIUS=500;X-TITLE=500 Tiger Dr:geo:-94.244358,39.349002
END:VEVENT
BEGIN:VEVENT
DTSTART;TZID=America/Chicago:20251120T180000
DTEND;TZID=America/Chicago:20251120T200000
DTSTAMP:20260421T172757
CREATED:20260112T051937Z
LAST-MODIFIED:20260112T051937Z
UID:10002885-1763661600-1763668800@events.excelsiorcitizen.com
SUMMARY:ESHS Bingo Night
DESCRIPTION:Join us for Bingo Night at ESHS!30 cards- $1010 cards- $5$1 for every extra card\nFree hot chocolate\, apple cider\, and muffins! Winners will get prizes!\nAll proceeds will go to Adopt-A-Family
URL:https://events.excelsiorcitizen.com/event/eshs-bingo-night/
LOCATION:Excelsior Springs High School\, 612 Tiger Drive\, Excelsior Springs\, MO\, 64024\, United States
END:VEVENT
BEGIN:VEVENT
DTSTART;TZID=UTC:20251120T220000
DTEND;TZID=UTC:20251120T224500
DTSTAMP:20260421T172757
CREATED:20251120T184023Z
LAST-MODIFIED:20251120T194326Z
UID:10002144-1763676000-1763678700@events.excelsiorcitizen.com
SUMMARY:Elementary Special Events  (Home)
DESCRIPTION:Comments: Speed & Agility
URL:https://events.excelsiorcitizen.com/event/elementary-special-events-home/
LOCATION:Cornerstone Elementary – Cornerstone Elementary Gym
END:VEVENT
BEGIN:VEVENT
DTSTART;TZID=UTC:20251120T220000
DTEND;TZID=UTC:20251121T000000
DTSTAMP:20260421T172757
CREATED:20251120T184022Z
LAST-MODIFIED:20251120T194326Z
UID:10002142-1763676000-1763683200@events.excelsiorcitizen.com
SUMMARY:Basketball MS: Girls MS  vs.  Excelsior Springs Middle School vs.  Northgate Middle (Away)
DESCRIPTION:Type: Game  Opponent:  Excelsior Springs Middle School vs.  Northgate Middle
URL:https://events.excelsiorcitizen.com/event/basketball-ms-girls-ms-vs-excelsior-springs-middle-school-vs-northgate-middle-away/
LOCATION:Northgate Middle School
END:VEVENT
BEGIN:VEVENT
DTSTART;TZID=UTC:20251120T220000
DTEND;TZID=UTC:20251121T000000
DTSTAMP:20260421T172757
CREATED:20251120T184022Z
LAST-MODIFIED:20251120T194326Z
UID:10002143-1763676000-1763683200@events.excelsiorcitizen.com
SUMMARY:Basketball MS: Boys MS  vs. Excelsior Springs Middle School vs. Northgate Middle (Home)
DESCRIPTION:Type: Game  Opponent: Excelsior Springs Middle School vs. Northgate Middle
URL:https://events.excelsiorcitizen.com/event/basketball-ms-boys-ms-vs-excelsior-springs-middle-school-vs-northgate-middle-home/
LOCATION:Excelsior Springs Middle School  Gym
END:VEVENT
BEGIN:VEVENT
DTSTART;TZID=UTC:20251121T000000
DTEND;TZID=UTC:20251121T020000
DTSTAMP:20260421T172757
CREATED:20251120T184022Z
LAST-MODIFIED:20251120T194327Z
UID:10002141-1763683200-1763690400@events.excelsiorcitizen.com
SUMMARY:Special Events-ESHS  (Home)
DESCRIPTION:Comments: STUCO Bingo Night
URL:https://events.excelsiorcitizen.com/event/special-events-eshs-home/
LOCATION:Excelsior Springs High School – HS Commons
END:VEVENT
BEGIN:VEVENT
DTSTART;TZID=UTC:20251121T000000
DTEND;TZID=UTC:20251121T020000
DTSTAMP:20260421T172757
CREATED:20251120T184135Z
LAST-MODIFIED:20251120T194230Z
UID:10002181-1763683200-1763690400@events.excelsiorcitizen.com
SUMMARY:Bingo Night
DESCRIPTION:Join us for Bingo Night at ESHS!\n30 cards- $10\n10 cards- $5\n$1 for every extra card\nFree hot chocolate\, apple cider\, and muffins! Winners will get prizes!\nAll proceeds will go to Adopt-A-Family.\nhttps://www.facebook.com/events/863390126364447/
URL:https://events.excelsiorcitizen.com/event/bingo-night-9/
LOCATION:Excelsior Springs High School\, 612 Tiger Drive\, Excelsior Springs\, MO\, 64024\, United States
ORGANIZER;CN="ESHS Student Council":MAILTO:noreply@facebookmail.com
END:VEVENT
BEGIN:VEVENT
DTSTART;TZID=UTC:20251121T003000
DTEND;TZID=UTC:20251121T020000
DTSTAMP:20260421T172757
CREATED:20251120T184023Z
LAST-MODIFIED:20251120T194327Z
UID:10002145-1763685000-1763690400@events.excelsiorcitizen.com
SUMMARY:Middle School Special Events  (Home)
DESCRIPTION:Comments: MS Band
URL:https://events.excelsiorcitizen.com/event/middle-school-special-events-home/
LOCATION:Excelsior Springs High School – Performing Arts Center
END:VEVENT
END:VCALENDAR