BEGIN:VCALENDAR
VERSION:2.0
PRODID:-// - ECPv6.15.20//NONSGML v1.0//EN
CALSCALE:GREGORIAN
METHOD:PUBLISH
X-ORIGINAL-URL:https://events.excelsiorcitizen.com
X-WR-CALDESC:Events for 
REFRESH-INTERVAL;VALUE=DURATION:PT1H
X-Robots-Tag:noindex
X-PUBLISHED-TTL:PT1H
BEGIN:VTIMEZONE
TZID:America/Chicago
BEGIN:DAYLIGHT
TZOFFSETFROM:-0600
TZOFFSETTO:-0500
TZNAME:CDT
DTSTART:20240310T080000
END:DAYLIGHT
BEGIN:STANDARD
TZOFFSETFROM:-0500
TZOFFSETTO:-0600
TZNAME:CST
DTSTART:20241103T070000
END:STANDARD
BEGIN:DAYLIGHT
TZOFFSETFROM:-0600
TZOFFSETTO:-0500
TZNAME:CDT
DTSTART:20250309T080000
END:DAYLIGHT
BEGIN:STANDARD
TZOFFSETFROM:-0500
TZOFFSETTO:-0600
TZNAME:CST
DTSTART:20251102T070000
END:STANDARD
BEGIN:DAYLIGHT
TZOFFSETFROM:-0600
TZOFFSETTO:-0500
TZNAME:CDT
DTSTART:20260308T080000
END:DAYLIGHT
BEGIN:STANDARD
TZOFFSETFROM:-0500
TZOFFSETTO:-0600
TZNAME:CST
DTSTART:20261101T070000
END:STANDARD
END:VTIMEZONE
BEGIN:VEVENT
DTSTART;TZID=America/Chicago:20251114T110000
DTEND;TZID=America/Chicago:20251114T150000
DTSTAMP:20260422T002444
CREATED:20260112T051908Z
LAST-MODIFIED:20260112T051908Z
UID:10002878-1763118000-1763132400@events.excelsiorcitizen.com
SUMMARY:Fireside Friday
DESCRIPTION:Join us for Fireside Friday and celebrate the fall season! Students get half-price day passes and everyone can enjoy free s’mores while supplies last. Thank you to Excelsior Springs SAFE for sponsoring this cozy event!
URL:https://events.excelsiorcitizen.com/event/fireside-friday/
LOCATION:Excelsior Springs Community Center\, 500 Tiger Dr\, Excelsior Springs\, MO\, United States
GEO:39.349002;-94.244358
X-APPLE-STRUCTURED-LOCATION;VALUE=URI;X-ADDRESS=Excelsior Springs Community Center 500 Tiger Dr Excelsior Springs MO United States;X-APPLE-RADIUS=500;X-TITLE=500 Tiger Dr:geo:-94.244358,39.349002
END:VEVENT
BEGIN:VEVENT
DTSTART;TZID=America/Chicago:20251114T120000
DTEND;TZID=America/Chicago:20251114T180000
DTSTAMP:20260422T002444
CREATED:20260112T051924Z
LAST-MODIFIED:20260112T051924Z
UID:10002884-1763121600-1763143200@events.excelsiorcitizen.com
SUMMARY:Solana’s 3rd Birthday and New Candle Bar Opening
DESCRIPTION:Pop on by for some champagne\, candle making and fun at Solana Friday November 14th! We have a new candle bar and it’s Solana’s Birthday! Lots to celebrate!! Drop in anytime! See ya soon
URL:https://events.excelsiorcitizen.com/event/solanas-3rd-birthday-and-new-candle-bar-opening/
LOCATION:Solana On Broadway
END:VEVENT
BEGIN:VEVENT
DTSTART;TZID=America/Chicago:20251114T170000
DTEND;TZID=America/Chicago:20251114T183000
DTSTAMP:20260422T002444
CREATED:20260112T052222Z
LAST-MODIFIED:20260112T052222Z
UID:10002940-1763139600-1763145000@events.excelsiorcitizen.com
SUMMARY:Fallingo
DESCRIPTION:Friday November 14th from 5-6:30 We will play Bingo in the gym. Nana and Papa’s food truck will be on site for dinner and or snacks tell 7! Bring the family and enjoy a fun night!
URL:https://events.excelsiorcitizen.com/event/fallingo/
LOCATION:MO
END:VEVENT
BEGIN:VEVENT
DTSTART;TZID=America/Chicago:20251114T170000
DTEND;TZID=America/Chicago:20251114T210000
DTSTAMP:20260422T002444
CREATED:20260112T051923Z
LAST-MODIFIED:20260112T051923Z
UID:10002883-1763139600-1763154000@events.excelsiorcitizen.com
SUMMARY:Fence Stile Igloos – Vineyards Under the Stars
DESCRIPTION:Get ready to experience the magic of the vineyards under the stars in cozy igloos at Fence Stile Vineyards!Click here for tickets
URL:https://events.excelsiorcitizen.com/event/fence-stile-igloos-vineyards-under-the-stars-8/
LOCATION:Fence Stile Vineyards and Winery\, 31010 W 124th St\, Excelsior Springs\, MO\, 64024\, United States
END:VEVENT
BEGIN:VEVENT
DTSTART;TZID=America/Chicago:20251114T180000
DTEND;TZID=America/Chicago:20251114T200000
DTSTAMP:20260422T002444
CREATED:20260112T051908Z
LAST-MODIFIED:20260112T051908Z
UID:10002877-1763143200-1763150400@events.excelsiorcitizen.com
SUMMARY:Swim-In Movie
DESCRIPTION:Float\, splash\, and relax for our Swim-In Movie on Friday\, November 14th at 6 PM! We’re diving into a holiday that’s a little bit spooky and a little bit merry\, can you guess the movie?  \nCall 816-656-2500 to find out the title! Free for Community Center members; non-members can join the fun with a day pass. Don’t miss this one-of-a-kind poolside movie night!
URL:https://events.excelsiorcitizen.com/event/swim-in-movie/
LOCATION:Excelsior Springs Community Center\, 500 Tiger Dr\, Excelsior Springs\, MO\, United States
GEO:39.349002;-94.244358
X-APPLE-STRUCTURED-LOCATION;VALUE=URI;X-ADDRESS=Excelsior Springs Community Center 500 Tiger Dr Excelsior Springs MO United States;X-APPLE-RADIUS=500;X-TITLE=500 Tiger Dr:geo:-94.244358,39.349002
END:VEVENT
BEGIN:VEVENT
DTSTART;TZID=America/Chicago:20251114T180000
DTEND;TZID=America/Chicago:20251114T200000
DTSTAMP:20260422T002444
CREATED:20260112T052023Z
LAST-MODIFIED:20260112T052023Z
UID:10002903-1763143200-1763150400@events.excelsiorcitizen.com
SUMMARY:Double Jointed Acoustic at Warbird Whiskey
DESCRIPTION:Double Jointed Acoustic Duo will perform a stripped-down rendition of crowd favorites and deep cuts from music history\, joined by Rob Leytham on percussion. We invite you to enjoy an evening of cool\, laid-back music as you explore Warbird Whiskey’s uniquely curated bar menu and available food selections.
URL:https://events.excelsiorcitizen.com/event/double-jointed-acoustic-at-warbird-whiskey/
LOCATION:Warbird Whiskey
END:VEVENT
END:VCALENDAR