BEGIN:VCALENDAR
VERSION:2.0
PRODID:-// - ECPv6.15.20//NONSGML v1.0//EN
CALSCALE:GREGORIAN
METHOD:PUBLISH
X-ORIGINAL-URL:https://events.excelsiorcitizen.com
X-WR-CALDESC:Events for 
REFRESH-INTERVAL;VALUE=DURATION:PT1H
X-Robots-Tag:noindex
X-PUBLISHED-TTL:PT1H
BEGIN:VTIMEZONE
TZID:America/Chicago
BEGIN:DAYLIGHT
TZOFFSETFROM:-0600
TZOFFSETTO:-0500
TZNAME:CDT
DTSTART:20240310T080000
END:DAYLIGHT
BEGIN:STANDARD
TZOFFSETFROM:-0500
TZOFFSETTO:-0600
TZNAME:CST
DTSTART:20241103T070000
END:STANDARD
BEGIN:DAYLIGHT
TZOFFSETFROM:-0600
TZOFFSETTO:-0500
TZNAME:CDT
DTSTART:20250309T080000
END:DAYLIGHT
BEGIN:STANDARD
TZOFFSETFROM:-0500
TZOFFSETTO:-0600
TZNAME:CST
DTSTART:20251102T070000
END:STANDARD
BEGIN:DAYLIGHT
TZOFFSETFROM:-0600
TZOFFSETTO:-0500
TZNAME:CDT
DTSTART:20260308T080000
END:DAYLIGHT
BEGIN:STANDARD
TZOFFSETFROM:-0500
TZOFFSETTO:-0600
TZNAME:CST
DTSTART:20261101T070000
END:STANDARD
END:VTIMEZONE
BEGIN:VEVENT
DTSTART;TZID=America/Chicago:20251112T170000
DTEND;TZID=America/Chicago:20251112T190000
DTSTAMP:20260421T212645
CREATED:20260112T052407Z
LAST-MODIFIED:20260112T052407Z
UID:10002975-1762966800-1762974000@events.excelsiorcitizen.com
SUMMARY:Big Brothers Big Sisters Recruitment and Informational Dinner
DESCRIPTION:Come hear about opportunities to be a mentor to youth in our area! This event is at Excelsior Springs Community Center and you can register here:https://form.jotform.com/252313713755051
URL:https://events.excelsiorcitizen.com/event/big-brothers-big-sisters-recruitment-and-informational-dinner/
LOCATION:Excelsior Springs Community Center\, 500 Tiger Dr\, Excelsior Springs\, MO\, United States
GEO:39.349002;-94.244358
X-APPLE-STRUCTURED-LOCATION;VALUE=URI;X-ADDRESS=Excelsior Springs Community Center 500 Tiger Dr Excelsior Springs MO United States;X-APPLE-RADIUS=500;X-TITLE=500 Tiger Dr:geo:-94.244358,39.349002
END:VEVENT
BEGIN:VEVENT
DTSTART;TZID=America/Chicago:20251112T183000
DTEND;TZID=America/Chicago:20251112T193000
DTSTAMP:20260421T212645
CREATED:20260112T051909Z
LAST-MODIFIED:20260112T051909Z
UID:10002879-1762972200-1762975800@events.excelsiorcitizen.com
SUMMARY:Mid-Week Recharge Yoga
DESCRIPTION:Every month we focus on a theme and introduce a new sequence. The sequences build on each other but you can jump in at any time.*Women Only* / $15 per classPlease message me if you have any questions.
URL:https://events.excelsiorcitizen.com/event/mid-week-recharge-yoga-8/
LOCATION:MO
END:VEVENT
END:VCALENDAR