BEGIN:VCALENDAR
VERSION:2.0
PRODID:-// - ECPv6.15.20//NONSGML v1.0//EN
CALSCALE:GREGORIAN
METHOD:PUBLISH
X-ORIGINAL-URL:https://events.excelsiorcitizen.com
X-WR-CALDESC:Events for 
REFRESH-INTERVAL;VALUE=DURATION:PT1H
X-Robots-Tag:noindex
X-PUBLISHED-TTL:PT1H
BEGIN:VTIMEZONE
TZID:America/Chicago
BEGIN:DAYLIGHT
TZOFFSETFROM:-0600
TZOFFSETTO:-0500
TZNAME:CDT
DTSTART:20240310T080000
END:DAYLIGHT
BEGIN:STANDARD
TZOFFSETFROM:-0500
TZOFFSETTO:-0600
TZNAME:CST
DTSTART:20241103T070000
END:STANDARD
BEGIN:DAYLIGHT
TZOFFSETFROM:-0600
TZOFFSETTO:-0500
TZNAME:CDT
DTSTART:20250309T080000
END:DAYLIGHT
BEGIN:STANDARD
TZOFFSETFROM:-0500
TZOFFSETTO:-0600
TZNAME:CST
DTSTART:20251102T070000
END:STANDARD
BEGIN:DAYLIGHT
TZOFFSETFROM:-0600
TZOFFSETTO:-0500
TZNAME:CDT
DTSTART:20260308T080000
END:DAYLIGHT
BEGIN:STANDARD
TZOFFSETFROM:-0500
TZOFFSETTO:-0600
TZNAME:CST
DTSTART:20261101T070000
END:STANDARD
END:VTIMEZONE
BEGIN:VEVENT
DTSTART;TZID=America/Chicago:20251108T083000
DTEND;TZID=America/Chicago:20251108T113000
DTSTAMP:20260422T015939
CREATED:20260112T053054Z
LAST-MODIFIED:20260112T053054Z
UID:10003116-1762590600-1762601400@events.excelsiorcitizen.com
SUMMARY:Ladies Day – Church of Christ
DESCRIPTION:Save the Date!More Info coming soon!
URL:https://events.excelsiorcitizen.com/event/ladies-day-church-of-christ/
LOCATION:MO
END:VEVENT
BEGIN:VEVENT
DTSTART;TZID=America/Chicago:20251108T090000
DTEND;TZID=America/Chicago:20251108T110000
DTSTAMP:20260422T015939
CREATED:20260112T054408Z
LAST-MODIFIED:20260112T054408Z
UID:10003379-1762592400-1762599600@events.excelsiorcitizen.com
SUMMARY:Community Shredding Event
DESCRIPTION:Residents who want to prevent identity theft can take advantage of a free Community Shredding Event from the Clay County Sheriff’s Office\, sponsored by Verimore Bank.\nThe drive-through event will be from 9 a.m. to 11 a.m. (or until the truck fills up) Saturday\, June 21\, in the north parking lot of Pleasant Valley Baptist Church\, 1600 Route 291\, Liberty\, Mo. The event is for personal shredding only\, not businesses. Only paper will be accepted.
URL:https://events.excelsiorcitizen.com/event/community-shredding-event/
LOCATION:MO
END:VEVENT
BEGIN:VEVENT
DTSTART;TZID=America/Chicago:20251108T110000
DTEND;TZID=America/Chicago:20251108T123000
DTSTAMP:20260422T015939
CREATED:20260112T052038Z
LAST-MODIFIED:20260112T052038Z
UID:10002905-1762599600-1762605000@events.excelsiorcitizen.com
SUMMARY:11AM Guided Winery/Wine Cave Tour & Candlelit Tasting
DESCRIPTION:Highlights Enjoy a guided tour through the winery and wine caves to discover the fascinating world of Fence Stile wines Experience a candlelit wine tasting in the CELLAR57 club room and caves—complete with a keepsake glass Learn about vineyard management\, Brix testing\, and the unique terroir of the estateGeneral Info Perks: 10% off bottles of wine purchased after the tour Please arrive a few minutes early for ticket validation\nDescriptionFence Stile Vineyards\, Winery & Distillery invites you to an unforgettable experience in the heart of Missouri’s scenic Excelsior Springs. Take a guided tour of the winery\, wine caves\, and learn about the unique processes and history behind each wine. From vineyard practices to Brix testing\, discover what makes Fence Stile wines exceptional. Finish with a candlelit tasting in the intimate CELLAR57 club room and the wine caves\, complete with a keepsake glass and a 10% discount on bottles bought post-tour. Don’t miss out—get your tickets for the Fence Stile Winery Tour and Tasting in Excelsior Springs now!\nHave a nondrinker in the group? No worries – use discount code ‘NONDRINKER’ at checkout for $10 off.\nNOTE: If ticket sales have closed on the day of the tour\, please call 816-500-6465 to check if additional tickets are available or to schedule a custom tour!\nClick here for tickets
URL:https://events.excelsiorcitizen.com/event/11am-guided-winery-wine-cave-tour-candlelit-tasting-3/
LOCATION:Fence Stile Vineyards and Winery\, 31010 W 124th St\, Excelsior Springs\, MO\, 64024\, United States
END:VEVENT
BEGIN:VEVENT
DTSTART;TZID=America/Chicago:20251108T130000
DTEND;TZID=America/Chicago:20251108T170000
DTSTAMP:20260422T015939
CREATED:20260112T052907Z
LAST-MODIFIED:20260112T052907Z
UID:10003077-1762606800-1762621200@events.excelsiorcitizen.com
SUMMARY:Christmas in a Hurry – Quarter Auction
DESCRIPTION:Skip all the fuss and muss of Black Friday and get your Christmas shopping done early!Well\, early for some Paddles – $5/ea or 5 for $20Vendor Registration – $25\nBring plenty of Quarters  and an appetite for fun. With our host Mindy things will surely get entertaining when the auction kicks off.\nThe event will be held in the church basement\, entry and lift are located at the Northeast corner by the ramp.\nThe lift is not only available for those who need assistance with stairs but also Vendor Load In/Out. We do ask that after Load In\, All Vendors move their cars to the parking lot.\nVendor List can be found below and will be updated as more vendors are added. \nAll proceeds go to support the Ark Encounter and Creation Museum trip for the Calvary Christian Union Youth. The two main goals of our trip fundraising events are to 1) pay for all tickets and 2) sponsor room & board expenses youth in need and the kids helping work the fundraisers. \nHelp us provide an experience for our youth that will be Scripturally Educational and Full of Fellowship; all while you get your Christmas shopping done with Local Businesses.
URL:https://events.excelsiorcitizen.com/event/christmas-in-a-hurry-quarter-auction/
LOCATION:MO
END:VEVENT
BEGIN:VEVENT
DTSTART;TZID=America/Chicago:20251108T140000
DTEND;TZID=America/Chicago:20251108T160000
DTSTAMP:20260422T015939
CREATED:20260112T052038Z
LAST-MODIFIED:20260112T052038Z
UID:10002906-1762610400-1762617600@events.excelsiorcitizen.com
SUMMARY:Live Music – Chace Curtis
DESCRIPTION:Bring friends\, enjoy wine and listen to Chace Curtis sing and perform on guitar.
URL:https://events.excelsiorcitizen.com/event/live-music-chace-curtis-2/
LOCATION:Fence Stile Vineyards and Winery\, 31010 W 124th St\, Excelsior Springs\, MO\, 64024\, United States
END:VEVENT
BEGIN:VEVENT
DTSTART;TZID=America/Chicago:20251108T150000
DTEND;TZID=America/Chicago:20251108T170000
DTSTAMP:20260422T015939
CREATED:20260112T052008Z
LAST-MODIFIED:20260112T052008Z
UID:10002897-1762614000-1762621200@events.excelsiorcitizen.com
SUMMARY:Live Music with Mike Murphy
DESCRIPTION:Live Music with Mike Murphy \nSaturday\, November 8\, 2025 • 3:00pm-5:00pm \nJoin us for an afternoon of live music with Mike Murphy! Enjoy delicious wines\, relax in our beautiful vineyard setting\, and let the music set the perfect backdrop for a fun and memorable outing.
URL:https://events.excelsiorcitizen.com/event/live-music-with-mike-murphy-4/
LOCATION:MO
END:VEVENT
BEGIN:VEVENT
DTSTART;TZID=America/Chicago:20251108T163000
DTEND;TZID=America/Chicago:20251108T183000
DTSTAMP:20260422T015939
CREATED:20260112T052007Z
LAST-MODIFIED:20260112T052007Z
UID:10002896-1762619400-1762626600@events.excelsiorcitizen.com
SUMMARY:Wine in the Vines – Sunset Hayride Tasting
DESCRIPTION:Wine in the Vines – Sunset Hayride Tasting \nSaturday\, November 8\, 2025 • 4:30pm \nJoin us this weekend for a relaxing ride through the vineyard with winemaker Mike as your guide! You’ll sample 4 wines—including two Winemaker’s Choice selections—while learning about our vines\, history\, and the land we love! \n$15 per person | Call (816) 377-2313 for reservations
URL:https://events.excelsiorcitizen.com/event/wine-in-the-vines-sunset-hayride-tasting-2/
LOCATION:MO
END:VEVENT
END:VCALENDAR